BEGIN:VCALENDAR
VERSION:2.0
PRODID:-//Illusion Magic Lounge - ECPv6.15.20//NONSGML v1.0//EN
CALSCALE:GREGORIAN
METHOD:PUBLISH
X-ORIGINAL-URL:https://illusionmagiclounge.com
X-WR-CALDESC:Events for Illusion Magic Lounge
REFRESH-INTERVAL;VALUE=DURATION:PT1H
X-Robots-Tag:noindex
X-PUBLISHED-TTL:PT1H
BEGIN:VTIMEZONE
TZID:America/Los_Angeles
BEGIN:DAYLIGHT
TZOFFSETFROM:-0800
TZOFFSETTO:-0700
TZNAME:PDT
DTSTART:20220313T100000
END:DAYLIGHT
BEGIN:STANDARD
TZOFFSETFROM:-0700
TZOFFSETTO:-0800
TZNAME:PST
DTSTART:20221106T090000
END:STANDARD
BEGIN:DAYLIGHT
TZOFFSETFROM:-0800
TZOFFSETTO:-0700
TZNAME:PDT
DTSTART:20230312T100000
END:DAYLIGHT
BEGIN:STANDARD
TZOFFSETFROM:-0700
TZOFFSETTO:-0800
TZNAME:PST
DTSTART:20231105T090000
END:STANDARD
BEGIN:DAYLIGHT
TZOFFSETFROM:-0800
TZOFFSETTO:-0700
TZNAME:PDT
DTSTART:20240310T100000
END:DAYLIGHT
BEGIN:STANDARD
TZOFFSETFROM:-0700
TZOFFSETTO:-0800
TZNAME:PST
DTSTART:20241103T090000
END:STANDARD
END:VTIMEZONE
BEGIN:VEVENT
DTSTART;TZID=America/Los_Angeles:20230512T193000
DTEND;TZID=America/Los_Angeles:20230512T210000
DTSTAMP:20260425T125621
CREATED:20230425T014509Z
LAST-MODIFIED:20230512T231852Z
UID:10000015-1683919800-1683925200@illusionmagiclounge.com
SUMMARY:Magic Show at Illusion Magic Lounge - May 12\, 2023
DESCRIPTION:Illusion Magic Lounge brings the World’s best magicians to Santa Monica!\n\n\nYour evening of magic and mystery!\nGet ready to unlock a full evening of magical entertainment for your enjoyment.  Our unique venue provides you the opportunity to see multiple types of magic in a single evening.  You’ll be dazzled by our ambient\, strolling magicians while you enjoy a refreshing beverage.  Entering our 150-seat theater\, you’ll see even more magicians dazzle you with mind-bending illusions on our grand 54-foot stage.  And to finish out your enchanting evening\, our intimate Court Room space hosts a formal close up show — a unique format rarely seen outside the Magic Castle in Hollywood. \nJoin us and find out why we are Santa Monica’s Most Magical Experience! \n\n\nUpgrade for our exclusive VIP Experience\nLooking to get the most out of your magical evening? We offer a limited number of VIP Experiences for each show.  You’ll start off your VIP Experience with a welcome glass of champagne (or non-alcoholic alternative) and enjoy our strolling magic with other guests.  When it’s time to head into the theater\, we’ve reserved the best seats for our VIP’s Experience.  And for our unique formal close-up show\, you’ll once again have reserved seats waiting for you.  Simply put\, this is the best way to experience a magical evening out in Downtown Santa Monica. \nNOTE: W﻿e have limited VIP availability to preserve the quality of the VIP Experience.
URL:https://illusionmagiclounge.com/show/magic-show-at-illusion-magic-lounge-may-12-2023
LOCATION:Illusion Magic Lounge\, 1418 4th Street\, Santa Monica\, CA\, 90401\, United States
ATTACH;FMTTYPE=image/jpeg:https://illusionmagiclounge.com/wp-content/uploads/2023/04/373d8f27a806d78f04e89dbf20b859ab-PBkJrt.tmp_.jpg
END:VEVENT
BEGIN:VEVENT
DTSTART;TZID=America/Los_Angeles:20230511T193000
DTEND;TZID=America/Los_Angeles:20230511T210000
DTSTAMP:20260425T125621
CREATED:20230428T031453Z
LAST-MODIFIED:20230511T170354Z
UID:10000033-1683833400-1683838800@illusionmagiclounge.com
SUMMARY:The Class Act Comedy Show at Illusion Magic Lounge - May 11\, 2023
DESCRIPTION:The Class Act Comedy Show comes to Illusion Magic Lounge! Hosted by Tom Young.\n\n\nJoin us for a night of laughter and entertainment as Illusion Magic Lounge presents “The Class Act Comedy Show”\, hosted by the hilarious India Pearl. The show features a talented lineup of comedians including Danielle Soto\, Ken Garr\, JP Brown and more! \nGet ready to laugh your socks off with these hilarious comedians as they bring their unique brand of comedy to the stage. With their quick wit and sharp humor\, you’re guaranteed to have an unforgettable night filled with laughs. \nThis event will take place on March 9th at 7:30 pm at Illusion Magic Lounge\, the perfect venue for an evening of comedy and entertainment. With a fully stocked wine bar and comfortable seating\, you can sit back\, relax\, and enjoy the show. \nDon’t miss out on the fun! Grab your tickets now and get ready to be entertained by some of the funniest comedians in the business at “The Class Act Comedy Show” at Illusion Magic Lounge.
URL:https://illusionmagiclounge.com/show/the-class-act-comedy-show-at-illusion-magic-lounge-may-11-2023
LOCATION:Illusion Magic Lounge\, 1418 4th Street\, Santa Monica\, CA\, 90401\, United States
ATTACH;FMTTYPE=image/jpeg:https://illusionmagiclounge.com/wp-content/uploads/2023/04/1e3dd0e42337313280d3aba52537e108-Rppjjj.tmp_.jpg
END:VEVENT
BEGIN:VEVENT
DTSTART;TZID=America/Los_Angeles:20230506T193000
DTEND;TZID=America/Los_Angeles:20230506T210000
DTSTAMP:20260425T125621
CREATED:20230425T014508Z
LAST-MODIFIED:20230506T030837Z
UID:10000014-1683401400-1683406800@illusionmagiclounge.com
SUMMARY:Magic Show at Illusion Magic Lounge - May 6\, 2023
DESCRIPTION:Illusion Magic Lounge brings the World’s best magicians to Santa Monica!\n\n\nYour evening of magic and mystery!\nGet ready to unlock a full evening of magical entertainment for your enjoyment.  Our unique venue provides you the opportunity to see multiple types of magic in a single evening.  You’ll be dazzled by our ambient\, strolling magicians while you enjoy a refreshing beverage.  Entering our 150-seat theater\, you’ll see even more magicians dazzle you with mind-bending illusions on our grand 54-foot stage.  And to finish out your enchanting evening\, our intimate Court Room space hosts a formal close up show — a unique format rarely seen outside the Magic Castle in Hollywood. \nJoin us and find out why we are Santa Monica’s Most Magical Experience! \n\n\nUpgrade for our exclusive VIP Experience\nLooking to get the most out of your magical evening? We offer a limited number of VIP Experiences for each show.  You’ll start off your VIP Experience with a welcome glass of champagne (or non-alcoholic alternative) and enjoy our strolling magic with other guests.  When it’s time to head into the theater\, we’ve reserved the best seats for our VIP’s Experience.  And for our unique formal close-up show\, you’ll once again have reserved seats waiting for you.  Simply put\, this is the best way to experience a magical evening out in Downtown Santa Monica. \nNOTE: W﻿e have limited VIP availability to preserve the quality of the VIP Experience.
URL:https://illusionmagiclounge.com/show/magic-show-at-illusion-magic-lounge-may-6-2023
LOCATION:Illusion Magic Lounge\, 1418 4th Street\, Santa Monica\, CA\, 90401\, United States
ATTACH;FMTTYPE=image/jpeg:https://illusionmagiclounge.com/wp-content/uploads/2023/04/1b2319ca7e10f39cc0f8dbe2bdb17aac-eUXY3u.tmp_.jpg
END:VEVENT
BEGIN:VEVENT
DTSTART;TZID=America/Los_Angeles:20230505T193000
DTEND;TZID=America/Los_Angeles:20230505T210000
DTSTAMP:20260425T125621
CREATED:20230425T014506Z
LAST-MODIFIED:20230506T030836Z
UID:10000013-1683315000-1683320400@illusionmagiclounge.com
SUMMARY:Magic Show at Illusion Magic Lounge - May 5\, 2023
DESCRIPTION:Illusion Magic Lounge brings the World’s best magicians to Santa Monica!\n\n\nYour evening of magic and mystery!\nGet ready to unlock a full evening of magical entertainment for your enjoyment.  Our unique venue provides you the opportunity to see multiple types of magic in a single evening.  You’ll be dazzled by our ambient\, strolling magicians while you enjoy a refreshing beverage.  Entering our 150-seat theater\, you’ll see even more magicians dazzle you with mind-bending illusions on our grand 54-foot stage.  And to finish out your enchanting evening\, our intimate Court Room space hosts a formal close up show — a unique format rarely seen outside the Magic Castle in Hollywood. \nJoin us and find out why we are Santa Monica’s Most Magical Experience! \n\n\nUpgrade for our exclusive VIP Experience\nLooking to get the most out of your magical evening? We offer a limited number of VIP Experiences for each show.  You’ll start off your VIP Experience with a welcome glass of champagne (or non-alcoholic alternative) and enjoy our strolling magic with other guests.  When it’s time to head into the theater\, we’ve reserved the best seats for our VIP’s Experience.  And for our unique formal close-up show\, you’ll once again have reserved seats waiting for you.  Simply put\, this is the best way to experience a magical evening out in Downtown Santa Monica. \nNOTE: W﻿e have limited VIP availability to preserve the quality of the VIP Experience.
URL:https://illusionmagiclounge.com/show/magic-show-at-illusion-magic-lounge-may-5-2023-2
LOCATION:Illusion Magic Lounge\, 1418 4th Street\, Santa Monica\, CA\, 90401\, United States
ATTACH;FMTTYPE=image/jpeg:https://illusionmagiclounge.com/wp-content/uploads/2023/04/ab1c6ef73daf914dd32a2a21b3bd7454-GZD221.tmp_.jpg
END:VEVENT
BEGIN:VEVENT
DTSTART;TZID=America/Los_Angeles:20230429T193000
DTEND;TZID=America/Los_Angeles:20230429T210000
DTSTAMP:20260425T125621
CREATED:20230425T014505Z
LAST-MODIFIED:20230429T130101Z
UID:10000012-1682796600-1682802000@illusionmagiclounge.com
SUMMARY:Magic Show at Illusion Magic Lounge - April 29\, 2023
DESCRIPTION:Illusion Magic Lounge brings the World’s best magicians to Santa Monica!\n\n\nYour evening of magic and mystery!\nGet ready to unlock a full evening of magical entertainment for your enjoyment.  Our unique venue provides you the opportunity to see multiple types of magic in a single evening.  You’ll be dazzled by our ambient\, strolling magicians while you enjoy a refreshing beverage.  Entering our 150-seat theater\, you’ll see even more magicians dazzle you with mind-bending illusions on our grand 54-foot stage.  And to finish out your enchanting evening\, our intimate Court Room space hosts a formal close up show — a unique format rarely seen outside the Magic Castle in Hollywood. \nJoin us and find out why we are Santa Monica’s Most Magical Experience! \n\n\nUpgrade for our exclusive VIP Experience\nLooking to get the most out of your magical evening? We offer a limited number of VIP Experiences for each show.  You’ll start off your VIP Experience with a welcome glass of champagne (or non-alcoholic alternative) and enjoy our strolling magic with other guests.  When it’s time to head into the theater\, we’ve reserved the best seats for our VIP’s Experience.  And for our unique formal close-up show\, you’ll once again have reserved seats waiting for you.  Simply put\, this is the best way to experience a magical evening out in Downtown Santa Monica. \nNOTE: W﻿e have limited VIP availability to preserve the quality of the VIP Experience.
URL:https://illusionmagiclounge.com/show/magic-show-at-illusion-magic-lounge-april-29-2023-2
LOCATION:Illusion Magic Lounge\, 1418 4th Street\, Santa Monica\, CA\, 90401\, United States
ATTACH;FMTTYPE=image/jpeg:https://illusionmagiclounge.com/wp-content/uploads/2023/04/2f9faa5740dff9a2d20ca62b06bc8ffb-qhjCXB.tmp_.jpg
END:VEVENT
BEGIN:VEVENT
DTSTART;TZID=America/Los_Angeles:20230428T193000
DTEND;TZID=America/Los_Angeles:20230428T210000
DTSTAMP:20260425T125621
CREATED:20230425T014503Z
LAST-MODIFIED:20230428T031451Z
UID:10000011-1682710200-1682715600@illusionmagiclounge.com
SUMMARY:Magic Show at Illusion Magic Lounge - April 28\, 2023
DESCRIPTION:Illusion Magic Lounge brings the World’s best magicians to Santa Monica!\n\n\nYour evening of magic and mystery!\nGet ready to unlock a full evening of magical entertainment for your enjoyment.  Our unique venue provides you the opportunity to see multiple types of magic in a single evening.  You’ll be dazzled by our ambient\, strolling magicians while you enjoy a refreshing beverage.  Entering our 150-seat theater\, you’ll see even more magicians dazzle you with mind-bending illusions on our grand 54-foot stage.  And to finish out your enchanting evening\, our intimate Court Room space hosts a formal close up show — a unique format rarely seen outside the Magic Castle in Hollywood. \nJoin us and find out why we are Santa Monica’s Most Magical Experience! \n\n\nUpgrade for our exclusive VIP Experience\nLooking to get the most out of your magical evening? We offer a limited number of VIP Experiences for each show.  You’ll start off your VIP Experience with a welcome glass of champagne (or non-alcoholic alternative) and enjoy our strolling magic with other guests.  When it’s time to head into the theater\, we’ve reserved the best seats for our VIP’s Experience.  And for our unique formal close-up show\, you’ll once again have reserved seats waiting for you.  Simply put\, this is the best way to experience a magical evening out in Downtown Santa Monica. \nNOTE: W﻿e have limited VIP availability to preserve the quality of the VIP Experience.
URL:https://illusionmagiclounge.com/show/magic-show-at-illusion-magic-lounge-april-28-2023-2
LOCATION:Illusion Magic Lounge\, 1418 4th Street\, Santa Monica\, CA\, 90401\, United States
ATTACH;FMTTYPE=image/jpeg:https://illusionmagiclounge.com/wp-content/uploads/2023/04/6f45914e118d18621e38b8f06ae57bac-HyZb0x.tmp_.jpg
END:VEVENT
BEGIN:VEVENT
DTSTART;TZID=America/Los_Angeles:20230427T200000
DTEND;TZID=America/Los_Angeles:20230427T210000
DTSTAMP:20260425T125621
CREATED:20230425T014502Z
LAST-MODIFIED:20230428T031450Z
UID:10000010-1682625600-1682629200@illusionmagiclounge.com
SUMMARY:Variety Showcase hosted by Vixen DeVille at Illusion Magic Lounge
DESCRIPTION:Come to see the cool\, wonderful\, and weird!\n\n\nJoin us for a night of unforgettable entertainment at the Illusion Magic Lounge in Santa Monica for our Variety Showcase! Hosted by the incredible Vixen Deville\, this event promises to be a unique and exciting experience that you won’t want to miss. \nFeaturing an eclectic mix of performers\, this showcase celebrates the weird\, wonderful\, and cool. From daring acrobatics to mind-bending magic\, and everything in between\, our performers will leave you amazed and entertained. \nThe Illusion Magic Lounge provides the perfect backdrop for this extraordinary evening. With its intimate setting and vintage ambiance\, you’ll feel like you’ve been transported to a bygone era. \nSo come and join us for a night of unforgettable entertainment. Get your tickets now and be a part of the Variety Showcase at the Illusion Magic Lounge. You won’t regret it!
URL:https://illusionmagiclounge.com/show/variety-showcase-hosted-by-vixen-deville-at-illusion-magic-lounge-2
LOCATION:Illusion Magic Lounge\, 1418 4th Street\, Santa Monica\, CA\, 90401\, United States
ATTACH;FMTTYPE=image/jpeg:https://illusionmagiclounge.com/wp-content/uploads/2023/04/fb4d74a424d85b221edf2e592ee957a5-Js1prx.tmp_.jpg
END:VEVENT
END:VCALENDAR