BEGIN:VCALENDAR
VERSION:2.0
PRODID:-//Illusion Magic Lounge - ECPv6.15.20//NONSGML v1.0//EN
CALSCALE:GREGORIAN
METHOD:PUBLISH
X-WR-CALNAME:Illusion Magic Lounge
X-ORIGINAL-URL:https://illusionmagiclounge.com
X-WR-CALDESC:Events for Illusion Magic Lounge
REFRESH-INTERVAL;VALUE=DURATION:PT1H
X-Robots-Tag:noindex
X-PUBLISHED-TTL:PT1H
BEGIN:VTIMEZONE
TZID:America/Los_Angeles
BEGIN:DAYLIGHT
TZOFFSETFROM:-0800
TZOFFSETTO:-0700
TZNAME:PDT
DTSTART:20250309T100000
END:DAYLIGHT
BEGIN:STANDARD
TZOFFSETFROM:-0700
TZOFFSETTO:-0800
TZNAME:PST
DTSTART:20251102T090000
END:STANDARD
BEGIN:DAYLIGHT
TZOFFSETFROM:-0800
TZOFFSETTO:-0700
TZNAME:PDT
DTSTART:20260308T100000
END:DAYLIGHT
BEGIN:STANDARD
TZOFFSETFROM:-0700
TZOFFSETTO:-0800
TZNAME:PST
DTSTART:20261101T090000
END:STANDARD
BEGIN:DAYLIGHT
TZOFFSETFROM:-0800
TZOFFSETTO:-0700
TZNAME:PDT
DTSTART:20270314T100000
END:DAYLIGHT
BEGIN:STANDARD
TZOFFSETFROM:-0700
TZOFFSETTO:-0800
TZNAME:PST
DTSTART:20271107T090000
END:STANDARD
END:VTIMEZONE
BEGIN:VEVENT
DTSTART;TZID=America/Los_Angeles:20260424T190000
DTEND;TZID=America/Los_Angeles:20260424T210000
DTSTAMP:20260424T114909
CREATED:20260208T235437Z
LAST-MODIFIED:20260421T144128Z
UID:10000901-1777057200-1777064400@illusionmagiclounge.com
SUMMARY:Magic by the Sea: Jimmy H & Steve Owens
DESCRIPTION:BUY TICKETS!\n\n\n\n\n\n\n\n\n\n\n\n\n\n\n\n\n\n\n\n\n\n\n\n\n\n\nYour evening of magic and mystery!\n\n\n\nGet ready to unlock a full evening of magical entertainment for your enjoyment. Our unique venue provides you the opportunity to see multiple types of magic in a single evening. You’ll be dazzled by our ambient\, strolling magicians while you enjoy a refreshing beverage. Entering our 150-seat theater\, you’ll see even more magicians dazzle you with mind-bending illusions on our grand stage. And to finish out your enchanting evening\, our intimate Court Room hosts a formal close-up show — a unique format rarely seen outside the Magic Castle in Hollywood. \n\n\n\nJoin us and find out why we are Santa Monica’s Most Magical Experience! \n\n\n\nUpgrade for our exclusive VIP Experience\n\n\n\nLooking to get the most out of your magical evening? We offer a limited number of VIP Experiences for each show. You’ll start off your VIP Experience with a welcome glass of bubbles (or non-alcoholic alternative) and enjoy our strolling magic with other guests. When it’s time to head into the theater\, we’ve reserved the best seats for our VIP’s Experience. Simply put\, this is the best way to experience a magical evening out in Downtown Santa Monica. \n\n\n\nNOTE: We have limited VIP availability to preserve the quality of the VIP Experience. \n\n\n\n\n\n\n\nAbout our Performers\n\n\n\nJimmy H \n\n\n\nhttps://magicjimmyh.com/ \n\n\n\nMeet Jimmy H\, the master of all things magical! With over three decades of experience\, he’s nailed every trick in the book: from making cards dance at his fingertips to pulling off mind-blowing illusions on that big stage. Whether it’s a cozy gathering or a packed auditorium\, Jimmy knows how to leave his audience spellbound! \n\n\n\nA regular performer at Hollywood’s World Famous Magic Castle\, he has a remarkable talent for combining comedy and sleight of hand. Get ready for a show-stopping performance\, because Jimmy H is the master of entertainment! \n\n\n\nJimmy H is fully committed to delivering an extraordinary experience that goes beyond all expectations. His top priority is to ensure that your event is nothing short of exceptional! \n\n\n\nWith a smile that lights up the room and a magic touch that will leave your jaw on the floor\, he’s got audiences hooked. You won’t believe your eyes! \n\n\n\nSteve Owens\n\n\n\n14-Time Award-Winning magician Steve Owens has appeared on National TV around the World in places like China\, Egypt\, Thailand\, and on NBC Primetime in the USA.  He represented America in the World Championships of Magic in 2018 and is a regular performer at the Magic Castle\, showcasing his original visual creations. Steve is also considered the leading Hand Shadow Artist in the USA\, having been featured for his artistry on NBC. \n\n\n\n\n\n\n\n\nMagic in the theater\n\n\n\nEnchanting Libations at our bar\n\n\n\nOur Lounge Area\n\n\n\nMagic throughout the venue\n\n\n\n\n\n\n\n\n\nClick here to buy ticketsSell tickets online with Ticket Tailor
URL:https://illusionmagiclounge.com/show/magic-by-the-sea-jimmy-h-steve-owens-apr-24-2026-2
CATEGORIES:Magic By The Sea,Magic Shows
ATTACH;FMTTYPE=image/png:https://illusionmagiclounge.com/wp-content/uploads/2026/02/Jimmy-H-Steve-Owens-Apr-24-25.png
END:VEVENT
BEGIN:VEVENT
DTSTART;TZID=America/Los_Angeles:20260425T190000
DTEND;TZID=America/Los_Angeles:20260425T210000
DTSTAMP:20260424T114909
CREATED:20260208T234929Z
LAST-MODIFIED:20260421T143956Z
UID:10000900-1777143600-1777150800@illusionmagiclounge.com
SUMMARY:Magic by the Sea: Jimmy H & Steve Owens
DESCRIPTION:BUY TICKETS!\n\n\n\n\n\n\n\n\n\n\n\n\n\n\n\n\n\n\n\n\n\n\n\n\n\n\nYour evening of magic and mystery!\n\n\n\nGet ready to unlock a full evening of magical entertainment for your enjoyment. Our unique venue provides you the opportunity to see multiple types of magic in a single evening. You’ll be dazzled by our ambient\, strolling magicians while you enjoy a refreshing beverage. Entering our 150-seat theater\, you’ll see even more magicians dazzle you with mind-bending illusions on our grand stage. And to finish out your enchanting evening\, our intimate Court Room hosts a formal close-up show — a unique format rarely seen outside the Magic Castle in Hollywood. \n\n\n\nJoin us and find out why we are Santa Monica’s Most Magical Experience! \n\n\n\nUpgrade for our exclusive VIP Experience\n\n\n\nLooking to get the most out of your magical evening? We offer a limited number of VIP Experiences for each show. You’ll start off your VIP Experience with a welcome glass of bubbles (or non-alcoholic alternative) and enjoy our strolling magic with other guests. When it’s time to head into the theater\, we’ve reserved the best seats for our VIP’s Experience. Simply put\, this is the best way to experience a magical evening out in Downtown Santa Monica. \n\n\n\nNOTE: We have limited VIP availability to preserve the quality of the VIP Experience. \n\n\n\n\n\n\n\nAbout our Performers\n\n\n\nJimmy H \n\n\n\nhttps://magicjimmyh.com/ \n\n\n\nMeet Jimmy H\, the master of all things magical! With over three decades of experience\, he’s nailed every trick in the book: from making cards dance at his fingertips to pulling off mind-blowing illusions on that big stage. Whether it’s a cozy gathering or a packed auditorium\, Jimmy knows how to leave his audience spellbound! \n\n\n\nA regular performer at Hollywood’s World Famous Magic Castle\, he has a remarkable talent for combining comedy and sleight of hand. Get ready for a show-stopping performance\, because Jimmy H is the master of entertainment! \n\n\n\nJimmy H is fully committed to delivering an extraordinary experience that goes beyond all expectations. His top priority is to ensure that your event is nothing short of exceptional! \n\n\n\nWith a smile that lights up the room and a magic touch that will leave your jaw on the floor\, he’s got audiences hooked. You won’t believe your eyes! \n\n\n\nSteve Owens\n\n\n\n14-Time Award-Winning magician Steve Owens has appeared on National TV around the World in places like China\, Egypt\, Thailand\, and on NBC Primetime in the USA.  He represented America in the World Championships of Magic in 2018 and is a regular performer at the Magic Castle\, showcasing his original visual creations. Steve is also considered the leading Hand Shadow Artist in the USA\, having been featured for his artistry on NBC. \n\n\n\n\n\n\n\n\nMagic in the theater\n\n\n\nEnchanting Libations at our bar\n\n\n\nOur Lounge Area\n\n\n\nMagic throughout the venue\n\n\n\n\n\n\n\n\n\nClick here to buy ticketsSell tickets online with Ticket Tailor
URL:https://illusionmagiclounge.com/show/magic-by-the-sea-jimmy-h-steve-owens-apr-24-2026
CATEGORIES:Magic By The Sea,Magic Shows
ATTACH;FMTTYPE=image/png:https://illusionmagiclounge.com/wp-content/uploads/2026/02/Jimmy-H-Steve-Owens-Apr-24-25.png
END:VEVENT
END:VCALENDAR