BEGIN:VCALENDAR
VERSION:2.0
PRODID:-//Illusion Magic Lounge - ECPv6.15.20//NONSGML v1.0//EN
CALSCALE:GREGORIAN
METHOD:PUBLISH
X-ORIGINAL-URL:https://illusionmagiclounge.com
X-WR-CALDESC:Events for Illusion Magic Lounge
REFRESH-INTERVAL;VALUE=DURATION:PT1H
X-Robots-Tag:noindex
X-PUBLISHED-TTL:PT1H
BEGIN:VTIMEZONE
TZID:America/Los_Angeles
BEGIN:DAYLIGHT
TZOFFSETFROM:-0800
TZOFFSETTO:-0700
TZNAME:PDT
DTSTART:20250309T100000
END:DAYLIGHT
BEGIN:STANDARD
TZOFFSETFROM:-0700
TZOFFSETTO:-0800
TZNAME:PST
DTSTART:20251102T090000
END:STANDARD
BEGIN:DAYLIGHT
TZOFFSETFROM:-0800
TZOFFSETTO:-0700
TZNAME:PDT
DTSTART:20260308T100000
END:DAYLIGHT
BEGIN:STANDARD
TZOFFSETFROM:-0700
TZOFFSETTO:-0800
TZNAME:PST
DTSTART:20261101T090000
END:STANDARD
BEGIN:DAYLIGHT
TZOFFSETFROM:-0800
TZOFFSETTO:-0700
TZNAME:PDT
DTSTART:20270314T100000
END:DAYLIGHT
BEGIN:STANDARD
TZOFFSETFROM:-0700
TZOFFSETTO:-0800
TZNAME:PST
DTSTART:20271107T090000
END:STANDARD
END:VTIMEZONE
BEGIN:VEVENT
DTSTART;TZID=America/Los_Angeles:20260430T193000
DTEND;TZID=America/Los_Angeles:20260430T210000
DTSTAMP:20260424T095256
CREATED:20260221T061808Z
LAST-MODIFIED:20260221T062021Z
UID:10000908-1777577400-1777582800@illusionmagiclounge.com
SUMMARY:Aaron Bonk! Indoors and Unleashed
DESCRIPTION:NOTE: This event is produced by Aaron Bonk. Please contact Aaron for any questions related to this event’s ticketing.\n\n\n\n\nBUY TICKETS @ TicketSpice\n\n\n\n\n\n\n\n\n\n\n\n\nAaron Bonk is a seriously ridiculous 3-time International Juggling Performance Champion\, 6-time Guinness World Record setting whip artist\, and unique entertainer with a twisted sense of humor who risks his life to make you laugh.\n\n\n\nYou may have seen his TV appearances on America’s Got Talent\, the Steve Harvey talk show and Game of Talents\, but now you can see him here. In high demand at Renaissance Fairs across the country and on Cruise Ships around the world\, he’s bringing his signature style of highly skilled insanity to Illusion Magic Lounge. \n\n\n\nWhips! Swords! Comedy! Music! Stunts so dangerous your mother would slap you for even thinking about them! (Even a few things that have never been performed on a stage in the history of ever.) ONE NIGHT ONLY!!! \n\n\n\nVIP Meet and Greet Available
URL:https://illusionmagiclounge.com/show/aaron-bonk-indoors-and-unleashed-april-30-2026
CATEGORIES:Non-Magic Shows,Outside Events
ATTACH;FMTTYPE=image/png:https://illusionmagiclounge.com/wp-content/uploads/2026/02/Bonk-Show-1-e1771654680577.png
END:VEVENT
BEGIN:VEVENT
DTSTART;TZID=America/Los_Angeles:20260515T200000
DTEND;TZID=America/Los_Angeles:20260515T213000
DTSTAMP:20260424T095256
CREATED:20251214T034401Z
LAST-MODIFIED:20260114T224545Z
UID:10000604-1778875200-1778880600@illusionmagiclounge.com
SUMMARY:X1 Entertainment presents: Snark Bait Live
DESCRIPTION:NOTE: This event is produced by a third party.  Please contact the Event Producer for any questions related to this event.\n\n\n\n\n\n\n\n\nBuy Tickets @ X1 Entertainment
URL:https://illusionmagiclounge.com/show/x1-entertainment-presents-snark-bait-live-may-15-2026
CATEGORIES:Outside Events
ATTACH;FMTTYPE=image/png:https://illusionmagiclounge.com/wp-content/uploads/2025/12/snarkbait-1-e1768430732239.png
END:VEVENT
BEGIN:VEVENT
DTSTART;TZID=America/Los_Angeles:20260524T170000
DTEND;TZID=America/Los_Angeles:20260524T180000
DTSTAMP:20260424T095256
CREATED:20260402T030920Z
LAST-MODIFIED:20260409T001846Z
UID:10000934-1779642000-1779645600@illusionmagiclounge.com
SUMMARY:Jonathan Burns: Life of the Party! - Live Comedy Special Taping!
DESCRIPTION:NOTE: This performance is being filmed as a TV Special\n\n\n\n\n\n\n\n\nBuy Tickets\n\n\n\n\n\n\n\n\n\n\n\n\nCombining his love of comedy\, creativity\, and a live audience Jonathan Burns is truly a crowd-pleaser! He has amazed the judges on America’s Got Talent\, been told he was “Absolutely Fabulous” by Penn & Teller (well\, at least Penn) on their show FOOL US\, The New York Times called him “Extremely Funny” and has been crowned “Variety Artist of the Year” – THREE TIMES! All of these accolades have made him one of the most in demand performers in the world. \n\n\n\nCatch this taping live in the audience for ONE NIGHT ONLY!!! \n\n\n\n\n\n\n\n\n\n\n\n\n\n\nClick here to buy ticketsSell tickets online with Ticket Tailor
URL:https://illusionmagiclounge.com/show/jonthan-burns-taping-may-24-2026
CATEGORIES:Outside Events
ATTACH;FMTTYPE=image/jpeg:https://illusionmagiclounge.com/wp-content/uploads/2026/04/JB-2026Special-Banner.jpg
END:VEVENT
BEGIN:VEVENT
DTSTART;TZID=America/Los_Angeles:20260524T190000
DTEND;TZID=America/Los_Angeles:20260524T210000
DTSTAMP:20260424T095256
CREATED:20260402T025943Z
LAST-MODIFIED:20260415T190313Z
UID:10000933-1779649200-1779656400@illusionmagiclounge.com
SUMMARY:Michael Rayner as Broken Juggler
DESCRIPTION:NOTE: This performance is being filmed as a TV Special\n\n\n\n\n\n\n\n\nBuy Tickets\n\n\n\n\n\n\n\n\n\n\n\n\nMichael’s show has been described as “preposterous brilliance” and “wacky jugglement\,” a combination of hilarious tricks and stunts with uproarious stand-up. His signature trick is spinning a Burger King cheeseburger on a parasol which garnered him multiple TV appearances. \n\n\n\nDuring Covid Michael took full advantage of social media gaining over 100 million views on TikTok and Instagram. \n\n\n\nRayner lives in Los Angeles\, CA. He continues to travel the world performing on camera and on stage for companies and private events. \n\n\n\n\n\n\n\n\nClick here to buy ticketsSell tickets online with Ticket Tailor
URL:https://illusionmagiclounge.com/show/michael-rayner-as-broken-juggler-may-24-2026
CATEGORIES:Outside Events
ATTACH;FMTTYPE=image/jpeg:https://illusionmagiclounge.com/wp-content/uploads/2026/04/1D1A4475-1-e1776279768514.jpg
END:VEVENT
BEGIN:VEVENT
DTSTART;TZID=America/Los_Angeles:20260524T210000
DTEND;TZID=America/Los_Angeles:20260524T220000
DTSTAMP:20260424T095256
CREATED:20260402T031317Z
LAST-MODIFIED:20260415T232146Z
UID:10000935-1779656400-1779660000@illusionmagiclounge.com
SUMMARY:Anna DeGuzman: Queen of Cards -- Live Special Taping
DESCRIPTION:NOTE: This performance is being filmed as a TV Special\n\n\n\n\n\n\n\n\nBuy Tickets\n\n\n\n\n\n\n\n\n\n\n\n\n \n\n\n\nAnna DeGuzman (born in 1998)\, an American-Filipino magician\, has become one of the world’s leading specialists in cardistry and card magic. An only child raised by her single mother in New Jersey\, her magical journey began in childhood\, when she looked for ways to entertain herself by playing with cards. Anna began practicing magic seriously around the age of sixteen and quickly gained major popularity by posting videos of card magic routines on social media. She studied accounting before dedicating herself fully to her career as a magician. The only woman registered at the annual Cardistry-Con convention\, she has since been praised by GQ magazine as “an exceptional magician of the digital era” and by The New York Times as “one of the few women shaping the future of magic.” \n\n\n\nShe has appeared on various television shows\, including Amazingness on MTV and Penn & Teller: Fool Us. She notably became the first female magician to reach the finale and finish second on season 18 of America’s Got Talent in 2023. Anna is also very active on social media\, with more than seven hundred thousand followers on TikTok\, where she shares her talent\, humor\, and charm through viral videos. She was the very first official ambassador for Bicycle Playing Cards and hosts the show Interview with a Magician on Complex. Anna has performed for celebrities\, collaborated with major brands\, and continues to influence the entertainment and magic industries through her innovative style and charisma. She is recognized not only for her technical mastery but also for her commitment to supporting women in the world of magic\, encouraging them to enter this discipline. \n\n\n\n\n\n\n\n\nClick here to buy ticketsSell tickets online with Ticket Tailor
URL:https://illusionmagiclounge.com/show/anna-deguzman-taping-may-24-2026
CATEGORIES:Outside Events
ATTACH;FMTTYPE=image/jpeg:https://illusionmagiclounge.com/wp-content/uploads/2026/04/240112_annadeguzman_l02_0306-1-scaled-e1776293656945.jpg
END:VEVENT
END:VCALENDAR