BEGIN:VCALENDAR
VERSION:2.0
PRODID:-//Illusion Magic Lounge - ECPv6.15.20//NONSGML v1.0//EN
CALSCALE:GREGORIAN
METHOD:PUBLISH
X-WR-CALNAME:Illusion Magic Lounge
X-ORIGINAL-URL:https://illusionmagiclounge.com
X-WR-CALDESC:Events for Illusion Magic Lounge
REFRESH-INTERVAL;VALUE=DURATION:PT1H
X-Robots-Tag:noindex
X-PUBLISHED-TTL:PT1H
BEGIN:VTIMEZONE
TZID:America/Los_Angeles
BEGIN:DAYLIGHT
TZOFFSETFROM:-0800
TZOFFSETTO:-0700
TZNAME:PDT
DTSTART:20240310T100000
END:DAYLIGHT
BEGIN:STANDARD
TZOFFSETFROM:-0700
TZOFFSETTO:-0800
TZNAME:PST
DTSTART:20241103T090000
END:STANDARD
BEGIN:DAYLIGHT
TZOFFSETFROM:-0800
TZOFFSETTO:-0700
TZNAME:PDT
DTSTART:20250309T100000
END:DAYLIGHT
BEGIN:STANDARD
TZOFFSETFROM:-0700
TZOFFSETTO:-0800
TZNAME:PST
DTSTART:20251102T090000
END:STANDARD
BEGIN:DAYLIGHT
TZOFFSETFROM:-0800
TZOFFSETTO:-0700
TZNAME:PDT
DTSTART:20260308T100000
END:DAYLIGHT
BEGIN:STANDARD
TZOFFSETFROM:-0700
TZOFFSETTO:-0800
TZNAME:PST
DTSTART:20261101T090000
END:STANDARD
END:VTIMEZONE
BEGIN:VEVENT
DTSTART;TZID=America/Los_Angeles:20251213T200000
DTEND;TZID=America/Los_Angeles:20251213T230000
DTSTAMP:20260424T190541
CREATED:20251114T041858Z
LAST-MODIFIED:20251211T074527Z
UID:10000588-1765656000-1765666800@illusionmagiclounge.com
SUMMARY:The Dollface Dames End of Year Holiday Party
DESCRIPTION:NOTE: This event is produced by a third party.  Please contact the Event Producer for any questions related to this event.\n\n\n\n\n\n\n\n\nBuy Tickets @ TicketSpice\n\n\n\n\n\n\n\n\nThe Dollface Dames & Lola Boutée Presents:  \n\n\n\nSaturday\, Dec 13thEnd of the Year Holiday Party & Showcase \n\n\n\nUSE Code “MAGIC” for 50% off tickets! \n\n\n\nParty with us one final time this year on the main stage with an all-out ‘Best Of’ End of the Year Bash with some Holiday favorites mixed in! \n\n\n\nA naughty & nice mix of acrobatics\, burlesque\, fire\, & aerial! \n\n\n\nCelebrating 17 years as LA’s premier burlesque & cabaret company! \n\n\n\nUpcoming Calendar: \n\n\n\nJan 17th-The Dollface Dames 18yr Company AnniversaryFeb 14th-Valentine’s Day SpectacularMarch 21st Alice in WINEderland: A reimagined tale down the rabbit hole! Tickets HERE \n\n\n\n8pm Preparty Mix & Mingle with Roaming Characters & maybe even catch a pop-up performance or two! Arrive early to sip tasty beverages & bites at the swanky magical lobby bar! \n\n\n\n9:30pm Main Stage Show \n\n\n\nAdditional Info: \n\n\n\nTipping is encouraged and tip hats will be circulated. \n\n\n\nTickets are non-refundable but can be transferred to another individual. \n\n\n\nSuggested age: 18 & over OR accompanied by an adult
URL:https://illusionmagiclounge.com/show/the-dollface-dames-end-of-year-holiday-party-dec-13-2025
CATEGORIES:Burlesque Shows,Dollface Dames,Non-Magic Shows,Outside Events
ATTACH;FMTTYPE=image/jpeg:https://illusionmagiclounge.com/wp-content/uploads/2024/01/https___cdn.evbuc_.com_images_586783859_11835622443_1_original-e1728945424558.jpeg
END:VEVENT
END:VCALENDAR