BEGIN:VCALENDAR
VERSION:2.0
PRODID:-//Illusion Magic Lounge - ECPv6.15.20//NONSGML v1.0//EN
CALSCALE:GREGORIAN
METHOD:PUBLISH
X-WR-CALNAME:Illusion Magic Lounge
X-ORIGINAL-URL:https://illusionmagiclounge.com
X-WR-CALDESC:Events for Illusion Magic Lounge
REFRESH-INTERVAL;VALUE=DURATION:PT1H
X-Robots-Tag:noindex
X-PUBLISHED-TTL:PT1H
BEGIN:VTIMEZONE
TZID:America/Los_Angeles
BEGIN:DAYLIGHT
TZOFFSETFROM:-0800
TZOFFSETTO:-0700
TZNAME:PDT
DTSTART:20240310T100000
END:DAYLIGHT
BEGIN:STANDARD
TZOFFSETFROM:-0700
TZOFFSETTO:-0800
TZNAME:PST
DTSTART:20241103T090000
END:STANDARD
BEGIN:DAYLIGHT
TZOFFSETFROM:-0800
TZOFFSETTO:-0700
TZNAME:PDT
DTSTART:20250309T100000
END:DAYLIGHT
BEGIN:STANDARD
TZOFFSETFROM:-0700
TZOFFSETTO:-0800
TZNAME:PST
DTSTART:20251102T090000
END:STANDARD
BEGIN:DAYLIGHT
TZOFFSETFROM:-0800
TZOFFSETTO:-0700
TZNAME:PDT
DTSTART:20260308T100000
END:DAYLIGHT
BEGIN:STANDARD
TZOFFSETFROM:-0700
TZOFFSETTO:-0800
TZNAME:PST
DTSTART:20261101T090000
END:STANDARD
END:VTIMEZONE
BEGIN:VEVENT
DTSTART;TZID=America/Los_Angeles:20251102T180000
DTEND;TZID=America/Los_Angeles:20251102T200000
DTSTAMP:20260424T205007
CREATED:20250918T064709Z
LAST-MODIFIED:20250930T024324Z
UID:10000536-1762106400-1762113600@illusionmagiclounge.com
SUMMARY:Albie Selznick & Friends - A Magic Fundraiser for Swing Left
DESCRIPTION:NOTE: This event is produced by a third party.  Please contact the Event Producer for any questions related to this event.\n\n\n\n\n\n\n\n\nBuy Tickets @ Eventbrite\n\n\n\n\n\n\n\n\n\n\n\n\nDoors Open at 5pm for Lobby Magic \n\n\n\nParking: Structure 5 — 1431 4th Street\, Santa Monica \n\n\n\nScheduled to Perform: \n\n\n\nALBIE SELZNICK \n\n\n\nLAURO CASTILLO \n\n\n\nDAVE COX \n\n\n\nCHRIS HART \n\n\n\nPOP HAYDN \n\n\n\nDEREK LOUGHRAN \n\n\n\nJACKSON McCLEAN \n\n\n\nMICHAEL RAYNER \n\n\n\nDAVID STRYKER
URL:https://illusionmagiclounge.com/show/albie-selznick-friends-a-magic-fundraiser-for-swing-left-nov-2-2025
CATEGORIES:Magic Shows,Outside Events
ATTACH;FMTTYPE=image/jpeg:https://illusionmagiclounge.com/wp-content/uploads/2025/09/albie-november.jpeg
END:VEVENT
BEGIN:VEVENT
DTSTART;TZID=America/Los_Angeles:20251109T140000
DTEND;TZID=America/Los_Angeles:20251109T210000
DTSTAMP:20260424T205007
CREATED:20250918T072414Z
LAST-MODIFIED:20251103T051351Z
UID:10000538-1762696800-1762722000@illusionmagiclounge.com
SUMMARY:Sobriety Street - An Alcoholic Musical
DESCRIPTION:NOTE: This event is produced by a third party.  Please contact the Event Producer for any questions related to this event.\n\n\n\n\n\n\n\n\nBuy Tickets @ TicketLeap\n\n\n\n\n\n\n\n\n\n\n\n\nShows at 2 PM\, 5 PM\, and 8 PM \n\n\n\nA fun frolic through the ups and downs of sobriety as told by your favorite Alano Club members: Agnes\, with 41 years who knows it all\, Ronnie\, who does it by the book\, and Delilah\, who just wants everyone to love her; to name just a few. Take their experience\, strength and hope\, add it to your most well-loved popular songs and you’ve got a memorable musical extravaganza that you must not miss! \n\n\n\nAll proceeds will be donated to the Pico Alano Club in West Los Angeles
URL:https://illusionmagiclounge.com/show/sobriety-street-an-alcoholic-musical-nov-9-2025-2pm
CATEGORIES:Outside Events
ATTACH;FMTTYPE=image/jpeg:https://illusionmagiclounge.com/wp-content/uploads/2025/09/sobriety-street.jpeg
END:VEVENT
BEGIN:VEVENT
DTSTART;TZID=America/Los_Angeles:20251114T203000
DTEND;TZID=America/Los_Angeles:20251114T220000
DTSTAMP:20260424T205007
CREATED:20250923T054720Z
LAST-MODIFIED:20250923T054727Z
UID:10000543-1763152200-1763157600@illusionmagiclounge.com
SUMMARY:Double Toasted
DESCRIPTION:NOTE: This event is produced by a third party.  Please contact the Event Producer for any questions related to this event.\n\n\n\n\n\n\n\n\nBuy Tickets @ X1 Entertainment
URL:https://illusionmagiclounge.com/show/double-toasted-nov-14-2025
CATEGORIES:Outside Events
ATTACH;FMTTYPE=image/png:https://illusionmagiclounge.com/wp-content/uploads/2025/09/dt-logo@2x.png
END:VEVENT
BEGIN:VEVENT
DTSTART;TZID=America/Los_Angeles:20251115T200000
DTEND;TZID=America/Los_Angeles:20251115T230000
DTSTAMP:20260424T205007
CREATED:20250810T033820Z
LAST-MODIFIED:20251114T042147Z
UID:10000509-1763236800-1763247600@illusionmagiclounge.com
SUMMARY:The Dollface Dames Alice in WINEderland
DESCRIPTION:NOTE: This event is produced by a third party.  Please contact the Event Producer for any questions related to this event.\n\n\n\n\n\n\n\n\nBuy Tickets @ TicketSpice\n\n\n\n\n\n\n\n\n✨ Step into the Rabbit Hole… and into a Wonderland like no other! ✨ \n\n\n\nThe Dollface Dames proudly present the debut of Alice in WINEderland — an immersive cabaret\, burlesque\, and variety spectacular at the Illusion Magic Lounge Theater in Santa Monica. 🎩✨ Join us on Saturday\, November 15th for a dazzling night celebrating the 160th anniversary of Lewis Carroll’s timeless tale\, reimagined in a bold\, empowering new script written by Dames Founder Lola Boutée. \n\n\n\n💫 Your favorite Wonderland characters come to life in ways you’ve never seen before — whimsical\, daring\, seductive\, and unforgettable. This isn’t the story you read as a child… this is Alice’s Wonderland\, grown-up and glamorously twisted. A true celebration of female empowerment\, fashion\, dance\, burlesque\, and the arts. ✨ \n\n\n\n🌹 This is THE ultimate night out — glamorous\, playful\, and oh-so-unforgettable. Seating is limited and demand will be high\, so secure your spot in Wonderland before the Queen of Hearts shouts “Off with their heads!” \n\n\n\n📍 Illusion Magic Lounge Theater\, Santa Monica📅 Saturday\, November 15th🍷 Lounge opens early with themed cocktails\, overflowing wine\, & tasty bites — immerse yourself from the moment you arrive. \n\n\n\n✨ Don’t be late for this very important date! \n\n\n\nSuggested age: 18 & over OR accompanied by an adult \n\n\n\nSAVE THE DATE: Saturday\, March 21st 2026 as we celebrate The Queen of Hearts  birthday
URL:https://illusionmagiclounge.com/show/the-dollface-dames-alice-in-winederland-nov-15-2025
CATEGORIES:Dollface Dames,Outside Events
ATTACH;FMTTYPE=image/jpeg:https://illusionmagiclounge.com/wp-content/uploads/2024/01/https___cdn.evbuc_.com_images_586783859_11835622443_1_original-e1728945424558.jpeg
END:VEVENT
BEGIN:VEVENT
DTSTART;TZID=America/Los_Angeles:20251116T160000
DTEND;TZID=America/Los_Angeles:20251116T210000
DTSTAMP:20260424T205007
CREATED:20251103T083932Z
LAST-MODIFIED:20251103T084103Z
UID:10000576-1763308800-1763326800@illusionmagiclounge.com
SUMMARY:LA Bellydance Competition Finale
DESCRIPTION:NOTE: This event is produced by a third party.  Please contact the Event Producer for any questions related to this event.\n\n\n\n\n\n\n\n\nBuy Tickets @ LABC\n\n\n\n\n\n\n\n\n\n\n\n\nAre you ready to make the most out of your dance journey? Early-bird registration is now open for our two-day event with Stefanya and master instructor Ahmed Hussien. This is your chance to take your dancing skills to the next level and unleash your full potential. Experience feedback\, mentorship\, and the opportunity to win BIG! So\, what are you waiting for? Join us\, and let’s dance!  \n\n\n\nJoin Stefanya and master instructor Ahmed Hussien in the heart of the world’s entertainment capital for an exciting two-day event. This event is designed for you to grow as a dancer and to build the bonds of our beautiful dance community. Dancers from around the world will come together to receive feedback and mentorship.
URL:https://illusionmagiclounge.com/show/la-bellydance-competition-finale-nov-16-2025
CATEGORIES:Outside Events
ATTACH;FMTTYPE=image/jpeg:https://illusionmagiclounge.com/wp-content/uploads/2024/09/original-scaled-e1728940721835.jpeg
END:VEVENT
BEGIN:VEVENT
DTSTART;TZID=America/Los_Angeles:20251118T193000
DTEND;TZID=America/Los_Angeles:20251118T220000
DTSTAMP:20260424T205007
CREATED:20251103T081031Z
LAST-MODIFIED:20251103T081222Z
UID:10000574-1763494200-1763503200@illusionmagiclounge.com
SUMMARY:Messy Mic presents: Granny Talk
DESCRIPTION:NOTE: This event is produced by a third party.  Please contact the Event Producer for any questions related to this event.\n\n\n\n\n\n\n\n\nBuy Tickets @ TicketTailor\n\n\n\n\n\n\n\n\n\n\n\n\n Use code MAGIC to save some $$$\n\n\n\n\n\n\n\nLife’s messy and so are the stories. We believe the best stories aren’t the polished “highlight reels”\, they’re the messy\, REAL moments that make us who we are. \n\n\n\nMessy Mic is an interactive storytelling experience where anything can happen. Granny Talk is our debut series that highlights the voices of a generation too often overlooked. In giving seniors the mic\, we’re creating more intergenerational connection before these rich stories are lost.  \n\n\n\nWe blend curated stories with audience interaction\, a wildcard storyteller\, and a post-show mixer to wrap up our community experience.  \n\n\n\n\n\n\n\nPRE-SELECTED GRANNIES: Live podcast-styled storytelling with discussion between each other AND with the audience.  \n\n\n\nAUDIENCE PARTICIPATION: The mic opens during Q&A\, but only if you volunteer. Drop your name at intermission for a chance to share your messy on-themed story at the end! \n\n\n\nPOST-SHOW SOCIAL MIXER: After the 2 hour show\, we wind down with an OPTIONAL 1 hour social mixer to connect with the community! Lightly facilitated with optional prompts & social games to encourage you to meet the grannies and new people. \n\n\n\nLet’s to embrace the magic in the mess that make us who we are! Thank you for your support 🙂 \n\n\n\n\n\n\n\nAGE MINIMUM: 18+ but must be 21+ to drink. If you are a parent or guardian interested in allowing a minor (under 18) to attend with you\, please submit request directly to help@messymic.com. \n\n\n\nPARKING: Street parking and garages nearby. Ample public parking at garage a block away at “Santa Monica Structure #5”. Open 24/7 with the first 90 minutes free and goes up $2-4/hour.ACCESSIBILITY: Limited wheelchair accessible seating\, but full front row has zero steps\, and plenty of 1-2 step only seating. Please email help@messymic.comif there are any other accessibility needs or questions. \n\n\n\nFOOD/DRINKS: Please eat before! Unfortunately\, kitchen is not open on Tuesdays. No outside food or beverages are allowed. Venue will serve both alcoholic and NA drinks. \n\n\n\nEMBRACE THE MESS: Life is messy\, and sometimes so are live events! Lineups and run times are subject to change. Embrace the organized chaos with us 🙂 \n\n\n\nMEDIA COVERAGE: This event will photographed and recorded for promotional and archival purposes. By attending\, you consent to your image and/or voice being used in Messy Mic media. \n\n\n\nCOMMUNITY GUIDELINES: Messy Mic is a space for everyone. But most importantly\, it’s a safe space for connection and respect. We ask that all attendees contribute to a welcoming\, inclusive environment. Disruptive or disrespectful behavior will not be tolerated. \n\n\n\nREFUNDS/EXCHANGES: We get it\, life happens! We offer self-serviced ticket refunds (minus booking fee) up to 5 days before the event. After that\, tickets are non-refundable\, but you’re welcome to transfer your ticket to a friend. We can also add this ticket to our giveaways and surprise a random community member with the ticket.  \n\n\n\n\n\n\n\nIf you have any further questions\, please visit our “Frequently Asked Questions” info HERE. \n\n\n\nStill stuck? No worries! Give us an email at help@messymic.com.
URL:https://illusionmagiclounge.com/show/messy-mic-presents-granny-talk-nov-18-2025
CATEGORIES:Comedy Shows,Non-Magic Shows,Outside Events
ATTACH;FMTTYPE=image/jpeg:https://illusionmagiclounge.com/wp-content/uploads/2025/11/1000050969-1-e1762157386253.jpg
END:VEVENT
END:VCALENDAR