BEGIN:VCALENDAR
VERSION:2.0
PRODID:-//Illusion Magic Lounge - ECPv6.15.20//NONSGML v1.0//EN
CALSCALE:GREGORIAN
METHOD:PUBLISH
X-ORIGINAL-URL:https://illusionmagiclounge.com
X-WR-CALDESC:Events for Illusion Magic Lounge
REFRESH-INTERVAL;VALUE=DURATION:PT1H
X-Robots-Tag:noindex
X-PUBLISHED-TTL:PT1H
BEGIN:VTIMEZONE
TZID:America/Los_Angeles
BEGIN:DAYLIGHT
TZOFFSETFROM:-0800
TZOFFSETTO:-0700
TZNAME:PDT
DTSTART:20240310T100000
END:DAYLIGHT
BEGIN:STANDARD
TZOFFSETFROM:-0700
TZOFFSETTO:-0800
TZNAME:PST
DTSTART:20241103T090000
END:STANDARD
BEGIN:DAYLIGHT
TZOFFSETFROM:-0800
TZOFFSETTO:-0700
TZNAME:PDT
DTSTART:20250309T100000
END:DAYLIGHT
BEGIN:STANDARD
TZOFFSETFROM:-0700
TZOFFSETTO:-0800
TZNAME:PST
DTSTART:20251102T090000
END:STANDARD
BEGIN:DAYLIGHT
TZOFFSETFROM:-0800
TZOFFSETTO:-0700
TZNAME:PDT
DTSTART:20260308T100000
END:DAYLIGHT
BEGIN:STANDARD
TZOFFSETFROM:-0700
TZOFFSETTO:-0800
TZNAME:PST
DTSTART:20261101T090000
END:STANDARD
END:VTIMEZONE
BEGIN:VEVENT
DTSTART;TZID=America/Los_Angeles:20250711T213000
DTEND;TZID=America/Los_Angeles:20250711T230000
DTSTAMP:20260425T041157
CREATED:20250630T235255Z
LAST-MODIFIED:20250630T235302Z
UID:10000482-1752269400-1752274800@illusionmagiclounge.com
SUMMARY:Vixen's Unleashed Burlesque Showcase 2025
DESCRIPTION:NOTE: This event is produced by a third party.  Please contact the Event Producer for any questions related to this event.\n\n\n\n\n\n\n\n\nBuy Tickets @ Eventbrite\n\n\n\n\n\n\n\n\n\n\n\n\nGet ready for an unforgettable evening of glamour and allure at the Vixen DeVille Burlesque Academy showcase\, “Vixens Unleashed”\, featuring students and staff members of the year long program\, “Pro-Level Pathway”. \n\n\n\nJoin us as we celebrate the art of tease with graduating performances that will enchant and entertain. Witness the dazzling debuts of our newer talented students and be captivated by the sensational performances from our esteemed faculty. \n\n\n\nThis night promises a blend of classic burlesque charm and innovative artistry\, featuring international award-winnning burlesque star Vixen DeVille as your Emcee for the night. \n\n\n\nDon’t miss this spectacular fusion of talent and seduction\, where every act is a headline in its own right! \n\n\n\nRed Carpet Arrival – 8:30pm – come early to get your moment on the red carpet\, enjoy a drink and delicious food from the Illusion Magic Lounge menu \n\n\n\nShow 9:30pm \n\n\n\nGENERAL ADMISSION Tickets $25 \n\n\n\nVIP tickets $35 – include preferred seating and Vixen DeVille Burlesque Academy Gift bag. \n\n\n\nCast Includes: \n\n\n\nVixen DeVille – Founder \n\n\n\nMax Moxie – Faculty Member \n\n\n\nLilith Lustre – Pro-Level Graduate \n\n\n\nSpider Ange – Graduating Student \n\n\n\nLady Amaranth – Graduating Student \n\n\n\nGrace Amore – Student Debut \n\n\n\nKismet – Student Debut \n\n\n\nFlora Dreamweaver – Student Debut \n\n\n\nDelicia Spekter – Student Debut \n\n\n\nOlive Brown – Student Debut \n\n\n\nSTACI/DC – Student Debut \n\n\n\nTiger Chile – Stage Kitten \n\n\n\nNom De Plume – Stage Kitten \n\n\n\nPlease note cast list may be subject to change.
URL:https://illusionmagiclounge.com/show/vixens-unleashed-burlesque-showcase-july-11-2025
CATEGORIES:Outside Events
ATTACH;FMTTYPE=image/jpeg:https://illusionmagiclounge.com/wp-content/uploads/2024/06/https___cdn.evbuc_.com_images_781021069_17064800239_1_original.jpeg
END:VEVENT
BEGIN:VEVENT
DTSTART;TZID=America/Los_Angeles:20250718T213000
DTEND;TZID=America/Los_Angeles:20250718T235900
DTSTAMP:20260425T041157
CREATED:20250715T211337Z
LAST-MODIFIED:20250715T211345Z
UID:10000486-1752874200-1752883140@illusionmagiclounge.com
SUMMARY:The Rocky Horror Shadow Cabaret
DESCRIPTION:NOTE: This event is co-produced with a third party.  Please contact the Cult Classic for any questions related to this event.\n\n\n\n\n\n\n\n\nBuy Tickets @ TicketTailor\n\n\n\n\n\n\n\n\n\n\n\n\n\n\n\n\nWe’re hard at work making a man\, with green eggs and ham. He’ll be good at a lot of things 👀 \n\n\n\nROCKY HORROR SHADOW CABARET IS BACK\, BABY! Get ready to Time Warp with our cast of manic pixie dream misfits\, combining a classic Shadow Cast with circus and burlesque. This one’s for the weirdos (that’s us!) \n\n\n\n⏰ FRIDAY JULY 18\, 10pm📍 @illusionmagiclounge \n\n\n\nStarring:@officialfilthywarumono as Frank-n-furter@se.lavie.live as Janet@jojovavoom as Brad@clubgravebeat as Riff Raff@twyla.noir as Magenta@daphnemoonburlesque as Columbia@gigi.noree as Rocky@divinedollydaiquiri as Eddie@themaxmoxie as Transylvanian \n\n\n\nTickets are live NOW! Get em while we’re hot 🔥 \n\n\n\n \n\n\n\nThis screening is licensed by Criterion.
URL:https://illusionmagiclounge.com/show/the-rocky-horror-shadow-cabaret-july-18-2025
CATEGORIES:Outside Events
ATTACH;FMTTYPE=image/jpeg:https://illusionmagiclounge.com/wp-content/uploads/2024/04/https___cdn.evbuc_.com_images_736392409_1897647865683_1_original.jpeg
END:VEVENT
BEGIN:VEVENT
DTSTART;TZID=America/Los_Angeles:20250719T200000
DTEND;TZID=America/Los_Angeles:20250719T230000
DTSTAMP:20260425T041157
CREATED:20250505T073449Z
LAST-MODIFIED:20250630T195511Z
UID:10000455-1752955200-1752966000@illusionmagiclounge.com
SUMMARY:The Dollface Dames Geek to Chic Burlesque Spectacular
DESCRIPTION:NOTE: This event is produced by a third party.  Please contact the Event Producer for any questions related to this event.\n\n\n\n\n\n\n\n\nBuy Tickets @ TicketSpice\n\n\n\n\n\n\n\n\n\n\n\n\nThe Dollface Dames & Lola Boutée Presents: Main Stage Spectacular \n\n\n\nA noir mix of acrobatics\, burlesque\, group dances\, fire\, & aerial! \n\n\n\nLet the lights dim and grab your seats at this historic Santa Monica stadium seating theater! Celebrating 17 years as LA’s premier burlesque & cabaret company! \n\n\n\nSaturday\, July 19th Geek To Chic: Fantasies come to life with this Cosplay Gone Wild event! \n\n\n\n8pm Preparty Mix & Mingle with Roaming Characters & maybe even catch a pop-up performance or two! Arrive early to sip tasty beverages & bites at the swanky magical lobby bar! \n\n\n\n9:30pm Seating & Main Stage Show \n\n\n\n@Ilusion Magic Lounge \n\n\n\n1418 4th St\, Santa Monica\, CA 90401 \n\n\n\nAct fast! Discounted tickets the earlier you buy while supplies last!  \n\n\n\nGo VIP to be let into the theater first to pick the best seats AND get a souvenir photo to take home with you! \n\n\n\nDoor $50GA/$95 VIP \n\n\n\nSuggested age: 18 & over OR accompanied by an adult \n\n\n\nPaid Public Parking structure located next door on 4th street and surrounding lots. \n\n\n\nAdditional Info: \n\n\n\nTipping is encouraged and tip hats will be circulated. \n\n\n\nTickets are non-refundable but can be transferred to another individual. \n\n\n\n2 item minimum per person in support of our venue. Thank you for supporting the arts & live entertainment spaces! \n\n\n\nAdditional info/parties/special requests: thedollfacedames@gmail.com
URL:https://illusionmagiclounge.com/show/the-dollface-dames-main-stage-spectacular-july-19-2025
CATEGORIES:Dollface Dames,Outside Events
ATTACH;FMTTYPE=image/jpeg:https://illusionmagiclounge.com/wp-content/uploads/2024/01/https___cdn.evbuc_.com_images_586783859_11835622443_1_original-e1728945424558.jpeg
END:VEVENT
BEGIN:VEVENT
DTSTART;TZID=America/Los_Angeles:20250720T193000
DTEND;TZID=America/Los_Angeles:20250720T213000
DTSTAMP:20260425T041157
CREATED:20250520T210945Z
LAST-MODIFIED:20250520T210952Z
UID:10000459-1753039800-1753047000@illusionmagiclounge.com
SUMMARY:Dudes Behind the Foods: Live Taping
DESCRIPTION:NOTE: This event is produced by a third party.  Please contact the Event Producer for any questions related to this event.\n\n\n\n\n\n\n\n\nBuy Tickets @ X1 Entertainment
URL:https://illusionmagiclounge.com/show/dudes-behind-the-foods-live-taping-july-20-2025
CATEGORIES:Outside Events
ATTACH;FMTTYPE=image/png:https://illusionmagiclounge.com/wp-content/uploads/2025/05/Dudes-Behind-The-Foods-Tour-Flyer-4-1-e1747775357272.png
END:VEVENT
BEGIN:VEVENT
DTSTART;TZID=America/Los_Angeles:20250726T130000
DTEND;TZID=America/Los_Angeles:20250726T150000
DTSTAMP:20260425T041157
CREATED:20250716T005045Z
LAST-MODIFIED:20250716T005052Z
UID:10000487-1753534800-1753542000@illusionmagiclounge.com
SUMMARY:The Idol
DESCRIPTION:NOTE: This event is produced by a third party.  Please contact the Event Producer for any questions related to this event.\n\n\n\n\n\n\n\n\n\n\n\nThe Idol\n\n\n\nFame comes with a terrible price. \n\n\n\nK-9 trades his very soul to a homeless man’s cursed mirror for a shot at stardom. Meanwhile\, Safire\, mourning her mother’s mysterious death\, has just inked a deal with the sinister Sell Your Soul Records. Her money-hungry manager\, Simone Monroe\, is ready to remake Safire’s image at any cost—while Bishop Stevenson\, Safire’s grandfather\, fights to pull her back before the darkness claims her too. The Idol invites you to witness a collision of desire\, deception\, and destiny… where every choice could cost a life.
URL:https://illusionmagiclounge.com/show/the-idol-july-26-2025
CATEGORIES:Outside Events
ATTACH;FMTTYPE=image/png:https://illusionmagiclounge.com/wp-content/uploads/2025/07/the-idol-1-e1752627030398.png
END:VEVENT
END:VCALENDAR