BEGIN:VCALENDAR
VERSION:2.0
PRODID:-//Illusion Magic Lounge - ECPv6.15.20//NONSGML v1.0//EN
CALSCALE:GREGORIAN
METHOD:PUBLISH
X-ORIGINAL-URL:https://illusionmagiclounge.com
X-WR-CALDESC:Events for Illusion Magic Lounge
REFRESH-INTERVAL;VALUE=DURATION:PT1H
X-Robots-Tag:noindex
X-PUBLISHED-TTL:PT1H
BEGIN:VTIMEZONE
TZID:America/Los_Angeles
BEGIN:DAYLIGHT
TZOFFSETFROM:-0800
TZOFFSETTO:-0700
TZNAME:PDT
DTSTART:20240310T100000
END:DAYLIGHT
BEGIN:STANDARD
TZOFFSETFROM:-0700
TZOFFSETTO:-0800
TZNAME:PST
DTSTART:20241103T090000
END:STANDARD
BEGIN:DAYLIGHT
TZOFFSETFROM:-0800
TZOFFSETTO:-0700
TZNAME:PDT
DTSTART:20250309T100000
END:DAYLIGHT
BEGIN:STANDARD
TZOFFSETFROM:-0700
TZOFFSETTO:-0800
TZNAME:PST
DTSTART:20251102T090000
END:STANDARD
BEGIN:DAYLIGHT
TZOFFSETFROM:-0800
TZOFFSETTO:-0700
TZNAME:PDT
DTSTART:20260308T100000
END:DAYLIGHT
BEGIN:STANDARD
TZOFFSETFROM:-0700
TZOFFSETTO:-0800
TZNAME:PST
DTSTART:20261101T090000
END:STANDARD
END:VTIMEZONE
BEGIN:VEVENT
DTSTART;TZID=America/Los_Angeles:20250208T213000
DTEND;TZID=America/Los_Angeles:20250208T230000
DTSTAMP:20260425T114923
CREATED:20241218T080335Z
LAST-MODIFIED:20250207T023340Z
UID:10000372-1739050200-1739055600@illusionmagiclounge.com
SUMMARY:Seduction Burlesque's Valentine's Soiree
DESCRIPTION:NOTE: This event is produced by a third party.  Please contact the Event Producer for any questions related to this event.\n\n\n\n\n\n\n\n\nBuy Tickets @ Eventbrite\n\n\n\n\n\n\n\n\n\n\n\n\nA Sexy Show full of Elegance and Charm. Featuring Burlesque\, Fetish\, Circus\, Fire\, Aerial Arts\, Live Singing\, and Magic on the fabulous stage at this amazing venue in Santa Monica\, CA ❤️ This is an event you don’t want to miss!Get Tickets and Celebrate the month of Love with Seduction 💋 \n\n\n\nPerformances by: \n\n\n\n\nMiss Orchid Mei\n\n\n\nSin Twisted\n\n\n\nDaphne Moon\n\n\n\nMiss T\n\n\n\nLily Misfit\n\n\n\nLance Burbank\n\n\n\nMiss May\n\n\n\nMagic by Chris Ruiz\n\n\n\n\nOur Shows are like no other! Voted “One of the BEST BURLESQUE Acts in LA” by Time Out LA! OC Weekly Raves: This Show is “Hot\, Hot\, Hot!” and “Features Some of the Hottest Performers Around!” calling our show a “Steamy Spectacle!“ \n\n\n\nA Fun and Sexy Modern Cabaret fused with Classic Burlesque and Exciting Circus Elements! Enter the den of delicious dames\, tantalizing gentlemen\, and acrobatic aerialists! No one is safe as these collection of characters move their way through the audience\, on top of the bar\, in the air\, and if you are lucky- right in your lap! \n\n\n\nWe feature some of the Best Performers in the Los Angeles area. Including Award Winning Burlesque Stars\, Live Singers\, Drag Queens\, Bellydancers\, Amazing Aerialist\, Pole Dancers\, Fire Eaters\, Sexy Boylesque\, Comedic Masters of Ceremonies\, and More! \n\n\n\n​ \n\n\n\nBring your Dollar Bill$! Tipping is Encouraged! \n\n\n\n​Be warned\, our show contains adult content and is intended for mature audiences. Costume Pieces Do Come Off! \n\n\n\n​Every show is different from the next\, with new performers\, different themes\, and special out of town guests. Be sure to visit the Tickets Page to see what is next.  
URL:https://illusionmagiclounge.com/show/seduction-burlesque-feb-8-2025
CATEGORIES:Non-Magic Shows,Outside Events
ATTACH;FMTTYPE=image/png:https://illusionmagiclounge.com/wp-content/uploads/2024/12/seduction-burlesque-1-e1734509000990.png
END:VEVENT
BEGIN:VEVENT
DTSTART;TZID=America/Los_Angeles:20250215T200000
DTEND;TZID=America/Los_Angeles:20250215T230000
DTSTAMP:20260425T114923
CREATED:20250118T014535Z
LAST-MODIFIED:20250118T014540Z
UID:10000377-1739649600-1739660400@illusionmagiclounge.com
SUMMARY:The Dollface Dames 17 Year Anniversary & Valentines Spectacular
DESCRIPTION:NOTE: This event is produced by a third party.  Please contact the Event Producer for any questions related to this event.\n\n\n\n\n\n\n\n\nBuy Tickets @ HumanTix\n\n\n\n\n\n\n\n\n\n\n\n\nThe Dollface Dames & Lola Boutée Presents: Main Stage Spectacular \n\n\n\n8pm Preparty Mix & Mingle\, Roaming Characters\, & DJ  \n\n\n\nArrive early to sip tasty beverages & appetizers at the swanky magical lobby bar! \n\n\n\n9:30pm Seating & Main Stage Show \n\n\n\n@Ilusion Magic Lounge \n\n\n\n1418 4th St\, Santa Monica\, CA 90401 \n\n\n\nAct fast! Discounted tickets the earlier you buy while supplies last!  \n\n\n\nGo VIP to be let into the theater first to pick the best seats AND get a souvenir photo to take home with you! \n\n\n\nDoor $50GA/$95 VIP \n\n\n\nSuggested age: 18 & over OR accompanied by an adult \n\n\n\nPaid Public Parking structure located next door on 4th street and surrounding lots. \n\n\n\nAdditional Info: \n\n\n\nTipping is encouraged and tip hats will be circulated. \n\n\n\nTickets are non-refundable but can be transferred to another individual. \n\n\n\n2 item minimum per person in support of our venue. Thank you for supporting the arts & live entertainment spaces! \n\n\n\nAdditional info/parties/special requests: thedollfacedames@gmail.com
URL:https://illusionmagiclounge.com/show/the-dollface-dames-17-year-anniversary-amp-valentines-spectacular
CATEGORIES:Dollface Dames,Outside Events
ATTACH;FMTTYPE=image/jpeg:https://illusionmagiclounge.com/wp-content/uploads/2024/01/https___cdn.evbuc_.com_images_586783859_11835622443_1_original-e1728945424558.jpeg
END:VEVENT
BEGIN:VEVENT
DTSTART;TZID=America/Los_Angeles:20250220T200000
DTEND;TZID=America/Los_Angeles:20250220T213000
DTSTAMP:20260425T114923
CREATED:20250201T215055Z
LAST-MODIFIED:20250201T215103Z
UID:10000388-1740081600-1740087000@illusionmagiclounge.com
SUMMARY:Austin Nasso's Comedy Metaverse
DESCRIPTION:NOTE: This event is produced by a third party.  Please contact the Event Producer for any questions related to this event.\n\n\n\n\n\n\n\n\nBuy Tickets @ Eventbrite\n\n\n\n\n\n\n\n\n\n\n\n\n\n\n\n\nDoors at 7:15 \n\n\n\nWelcome to Austin Nasso’s Comedy Metaverse! \n\n\n\nCome join us for a night of laughter at the Illusion Magic Lounge. \n\n\n\nAustin Nasso\, a former Microsoft software engineer turned full-time comedian and impressionist\, brings a fresh perspective to the comedy world with his tech-savvy humor and impeccable impressions. He has appeared on Election Night Live with Brian Williams which aired on Prime Video and as a recurring guest performer on The Howard Stern Show\, gained widespread acclaim.
URL:https://illusionmagiclounge.com/show/austin-nassos-comedy-metaverse-feb-20-2025
CATEGORIES:Non-Magic Shows,Outside Events
ATTACH;FMTTYPE=image/jpeg:https://illusionmagiclounge.com/wp-content/uploads/2025/02/austin-nasso-e1738446445428.jpeg
END:VEVENT
BEGIN:VEVENT
DTSTART;TZID=America/Los_Angeles:20250221T190000
DTEND;TZID=America/Los_Angeles:20250221T213000
DTSTAMP:20260425T114923
CREATED:20250129T074948Z
LAST-MODIFIED:20250129T075325Z
UID:10000384-1740164400-1740173400@illusionmagiclounge.com
SUMMARY:Vasya Oblomov - Now Far From Here
DESCRIPTION:NOTE: This event is produced by a third party.  Please contact the Event Producer for any questions related to this event.\n\n\n\n\n\n\n\n\nBuy Tickets @ GeoTickets\n\n\n\n\n\n\n\n\n\n\n\n\nVasya Oblomov is a popular Russian musician\, poet\, composer and music producer\, one of the participants of the cult satirical project “Citizen Poet”.  \n\n\n\nOver the 13 years of his existence\, Vasya Oblomov has received a large number of various awards\, performed on all possible Russian and other TV channels\, major festivals\, wrote music and songs for the most popular Russian films\, released 6 full-length albums\, each of which occupied the first lines in listening on digital platforms\, wrote many satirical songs on news topics\, and Vasily Oblomov’s videos collect tens of millions of views. Oblomov is one of the few Russian musicians who have performed since 2012 at the largest protest rallies in Moscow and openly criticized the Russian authorities\, which ultimately earned them their long-standing dislike. In 2022\, all concerts of Vasily Oblomov in Russia\, like all those artists who openly spoke out against military action\, were banned. \n\n\n\nThe new program is called – NOW FAR FROM HERE. It will include all the favorite hits of Vasya Oblomov throughout his history\, which do not lose their relevance. And absolutely new works on the agenda of the last days in all senses of these words. \n\n\n\nEvent Policy: All tickets are final sale and cannot be exchanged or refunded. In the case of an event cancellation without a rescheduled date\, a full refund will be automatically issued to each patron on the credit card used to purchase. By purchasing a ticket to this event\, you agree to this purchase policy. \n\n\n\nNote to guests: This program will be presented in Russian
URL:https://illusionmagiclounge.com/show/vasya-oblomov-in-los-angeles-feb-21-2025
CATEGORIES:Outside Events
ATTACH;FMTTYPE=image/jpeg:https://illusionmagiclounge.com/wp-content/uploads/2025/01/VASYA_OBLOMOV_LA_SQ-e1738136902550.jpg
END:VEVENT
BEGIN:VEVENT
DTSTART;TZID=America/Los_Angeles:20250222T203000
DTEND;TZID=America/Los_Angeles:20250222T220000
DTSTAMP:20260425T114923
CREATED:20250129T082919Z
LAST-MODIFIED:20250129T082925Z
UID:10000386-1740256200-1740261600@illusionmagiclounge.com
SUMMARY:Ramin Sokouty & Band (Persian Rock)
DESCRIPTION:NOTE: This event is produced by a third party.  Please contact the Event Producer for any questions related to this event.\n\n\n\n\n\n\n\n\nBuy Tickets @ Eventbrite\n\n\n\n\n\n\n\n\n\n\n\n\nPersian Rock Concert Get ready for an unforgettable night of powerful Persian rock music! Join Ramin Sokouty and his full rock band
URL:https://illusionmagiclounge.com/show/ramin-sokouty-amp-band-persian-rock-feb-22-2025
CATEGORIES:Outside Events
ATTACH;FMTTYPE=image/png:https://illusionmagiclounge.com/wp-content/uploads/2025/01/ramin-sokouty.png
END:VEVENT
BEGIN:VEVENT
DTSTART;TZID=America/Los_Angeles:20250223T200000
DTEND;TZID=America/Los_Angeles:20250223T213000
DTSTAMP:20260425T114923
CREATED:20241118T040755Z
LAST-MODIFIED:20241204T042544Z
UID:10000348-1740340800-1740346200@illusionmagiclounge.com
SUMMARY:Adam McIntyre - The Chronically Online Tour
DESCRIPTION:NOTE: This event is produced by a third party.  Please contact the Event Producer for any questions related to this event.\n\n\n\n\n\n\n\n\nBuy Tickets @ X1 Entertainment
URL:https://illusionmagiclounge.com/show/adam-mcintyre-the-chronically-online-tour-feb-23-2025
CATEGORIES:Outside Events
ATTACH;FMTTYPE=image/png:https://illusionmagiclounge.com/wp-content/uploads/2024/11/chronic-online.png
END:VEVENT
END:VCALENDAR