BEGIN:VCALENDAR
VERSION:2.0
PRODID:-//Illusion Magic Lounge - ECPv6.15.20//NONSGML v1.0//EN
CALSCALE:GREGORIAN
METHOD:PUBLISH
X-ORIGINAL-URL:https://illusionmagiclounge.com
X-WR-CALDESC:Events for Illusion Magic Lounge
REFRESH-INTERVAL;VALUE=DURATION:PT1H
X-Robots-Tag:noindex
X-PUBLISHED-TTL:PT1H
BEGIN:VTIMEZONE
TZID:America/Los_Angeles
BEGIN:DAYLIGHT
TZOFFSETFROM:-0800
TZOFFSETTO:-0700
TZNAME:PDT
DTSTART:20230312T100000
END:DAYLIGHT
BEGIN:STANDARD
TZOFFSETFROM:-0700
TZOFFSETTO:-0800
TZNAME:PST
DTSTART:20231105T090000
END:STANDARD
BEGIN:DAYLIGHT
TZOFFSETFROM:-0800
TZOFFSETTO:-0700
TZNAME:PDT
DTSTART:20240310T100000
END:DAYLIGHT
BEGIN:STANDARD
TZOFFSETFROM:-0700
TZOFFSETTO:-0800
TZNAME:PST
DTSTART:20241103T090000
END:STANDARD
BEGIN:DAYLIGHT
TZOFFSETFROM:-0800
TZOFFSETTO:-0700
TZNAME:PDT
DTSTART:20250309T100000
END:DAYLIGHT
BEGIN:STANDARD
TZOFFSETFROM:-0700
TZOFFSETTO:-0800
TZNAME:PST
DTSTART:20251102T090000
END:STANDARD
END:VTIMEZONE
BEGIN:VEVENT
DTSTART;TZID=America/Los_Angeles:20241103T160000
DTEND;TZID=America/Los_Angeles:20241103T210000
DTSTAMP:20260425T162120
CREATED:20240914T013510Z
LAST-MODIFIED:20241030T185330Z
UID:10000320-1730649600-1730667600@illusionmagiclounge.com
SUMMARY:LA Bellydance Competition Finals
DESCRIPTION:NOTE: This event is produced by a third party.  Please contact the Event Producer for any questions related to this event.\n\n\n\n\n\n\n\n\nBuy Tickets @ LABC\n\n\n\n\n\n\n\n\n\n\n\n\nAre you ready to make the most out of your dance journey? Early-bird registration is now open for our two-day event with Stefanya and master instructor Ahmed Hussien. This is your chance to take your dancing skills to the next level and unleash your full potential. Experience feedback\, mentorship\, and the opportunity to win BIG! So\, what are you waiting for? Join us\, and let’s dance!  \n\n\n\nJoin Stefanya and master instructor Ahmed Hussien in the heart of the world’s entertainment capital for an exciting two-day event. This event is designed for you to grow as a dancer and to build the bonds of our beautiful dance community. Dancers from around the world will come together to receive feedback and mentorship.
URL:https://illusionmagiclounge.com/show/la-bellydance-competition-finals-nov-3-2024
CATEGORIES:Outside Events
ATTACH;FMTTYPE=image/jpeg:https://illusionmagiclounge.com/wp-content/uploads/2024/09/original-scaled-e1728940721835.jpeg
END:VEVENT
BEGIN:VEVENT
DTSTART;TZID=America/Los_Angeles:20241109T200000
DTEND;TZID=America/Los_Angeles:20241109T230000
DTSTAMP:20260425T162120
CREATED:20240911T051926Z
LAST-MODIFIED:20241028T202308Z
UID:10000307-1731182400-1731193200@illusionmagiclounge.com
SUMMARY:The Dollface Dames: Fiction Undressed
DESCRIPTION:NOTE: This event is produced by a third party.  Please contact the Event Producer for any questions related to this event.\n\n\n\n\n\n\n\n\nBuy Tickets @ HumanTix\n\n\n\n\n\n\n\n\n\n\n\n\nThe Dollface Dames & Lola Boutée Presents: Main Stage Spectacular \n\n\n\nCircus\, Cabaret\, & Carnival! \n\n\n\nA noir mix of acrobatics\, burlesque\, group dances\, fire\, & aerial! \n\n\n\nLet the lights dim and grab your seats at this historic Santa Monica stadium seating theater! Celebrating over 16 years as LA’s premier burlesque & cabaret company! \n\n\n\nFinal TWO shows of 2024! \n\n\n\nSaturday\, Nov 9th Fiction Undressed: Your Favorite Fictional Characters come to life on stage! \n\n\n\nWhat do James Bond\, Alice In Wonderland\, & the Brides of Dracula have in common. Come find out with TWENTY performers celebrating Lola’s 20yr LA Anniversary! Do not miss this!! \n\n\n\n& \n\n\n\nSaturday\, Dec 7th Holiday Palooza: Celebrating 12 months of your favorite holidays all in one show! \n\n\n\n8pm Preparty Mix & Mingle\, Photo Exhibit\, Roaming Characters\, & DJ  \n\n\n\nArrive early to sip tasty beverages & appetizers at the swanky magical lobby bar! \n\n\n\n9:30pm Seating & Main Stage Show \n\n\n\n@Ilusion Magic Lounge \n\n\n\n1418 4th St\, Santa Monica\, CA 90401 \n\n\n\nAct fast! Discounted tickets the earlier you buy while supplies last!  \n\n\n\nGo VIP to be let into the theater first to pick the best seats AND get a souvenir photo to take home with you! \n\n\n\nDoor $50GA/$95 VIP \n\n\n\nSuggested age: 18 & over OR accompanied by an adult \n\n\n\nPaid Public Parking structure located next door on 4th street and surrounding lots. \n\n\n\nAdditional Info: \n\n\n\nTipping is encouraged and tip hats will be circulated. \n\n\n\nTickets are non-refundable but can be transferred to another individual. \n\n\n\n2 item minimum per person in support of our venue. Thank you for supporting the arts & live entertainment spaces! \n\n\n\nAdditional info/parties/special requests: thedollfacedames@gmail.com
URL:https://illusionmagiclounge.com/show/the-dollface-dames-fiction-undressed-nov-9-2024
CATEGORIES:Outside Events
ATTACH;FMTTYPE=image/jpeg:https://illusionmagiclounge.com/wp-content/uploads/2024/01/https___cdn.evbuc_.com_images_586783859_11835622443_1_original-e1728945424558.jpeg
END:VEVENT
BEGIN:VEVENT
DTSTART;TZID=America/Los_Angeles:20241116T213000
DTEND;TZID=America/Los_Angeles:20241116T235900
DTSTAMP:20260425T162120
CREATED:20240914T010311Z
LAST-MODIFIED:20240914T010531Z
UID:10000313-1731792600-1731801540@illusionmagiclounge.com
SUMMARY:The Rocky Horror Shadow Cabaret
DESCRIPTION:NOTE: This event is co-produced with a third party.  Please contact the Cult Classic for any questions related to this event.\n\n\n\n\n\n\n\n\nBuy Tickets @ TicketTailor\n\n\n\n\n\n\n\n\n\n\n\n\n\n\n\n\nWe would like\, if we may\, to take you on a strange journey…. \n\n\n\nJoin us for the late-night picture show you’ll remember for a very\, long\, time. Watch the full feature flick with a twist – our live shadow cast features games and live performances: burlesque\, aerial acrobatics\, fire dance\, magic\, and more. \n\n\n\nEveryone welcome over the age of 21. Costumes\, call-outs\, and audience participation encouraged! \n\n\n\n \n\n\n\nStarring: \n\n\n\n\nWarumono as Frank N. Furter\n\n\n\nCherry Wilde as Janet Weiss\n\n\n\nJojo as Brad Majors\n\n\n\nTwyla Noir as Magenta\n\n\n\nGrimm Beatz as Riff Raff\n\n\n\nGigi Noree as Rocky\n\n\n\nDaphne Moon as Columbia\n\n\n\nLady Amaranth as Eddie\n\n\n\n…and Mars Attax as Criminologist\n\n\n\n\nDoors open at 9pm\, with the show starting at 10pm. \n\n\n\n \n\n\n\nThis screening is licensed by Criterion.
URL:https://illusionmagiclounge.com/show/the-rocky-horror-shadow-cabaret-nov-16-2024
CATEGORIES:Outside Events
ATTACH;FMTTYPE=image/jpeg:https://illusionmagiclounge.com/wp-content/uploads/2024/04/https___cdn.evbuc_.com_images_736392409_1897647865683_1_original.jpeg
END:VEVENT
BEGIN:VEVENT
DTSTART;TZID=America/Los_Angeles:20241117T170000
DTEND;TZID=America/Los_Angeles:20241117T210000
DTSTAMP:20260425T162120
CREATED:20240920T025820Z
LAST-MODIFIED:20241014T224023Z
UID:10000329-1731862800-1731877200@illusionmagiclounge.com
SUMMARY:Ozi: Voice of the Forest Screening
DESCRIPTION:NOTE: This event is produced by a third party.  Please contact the Event Producer for any questions related to this event.\n\n\n\n\n\n\n\n\nBuy Tickets @ GiveLively\n\n\n\n\n\n\n\n\n\n\n\n\nBe among the first to experience “Ozi: Voice of the Forest”—an 86-minute animated adventure 3 months before its U.S. release! This exciting film will inspire audiences of all ages with its message of conservation and hope for our planet\, and the producers of the film want to support orangutan conservation through education so they are generously donating the one-time use of this new film to our charity\, the Orang Utan Republik Foundation. \n\n\n\nEvent Highlights:\n\n\n\n\nReception & Silent Auction: Join us from 5:00 PM as we kick off the evening with a reception featuring delicious tapas\, drinks\, and a silent auction filled with unique items and experiences.\n\n\n\nMeet Dr. Gary Shapiro: Hear from our Foundation’s president as he provides updates on orangutan conservation projects. Dr. Shapiro will also be signing copies of his latest book\, “Out of the Cage.”\n\n\n\nExclusive Film Screening: At 6:50pm\, watch “Ozi: Voice of the Forest” before its nationwide release!\n\n\n\n\nFilm synopsis:  “Ozi: Voice of the Forest” tells the inspiring story of Ozi\, a young orphaned orangutan who uses her unique skills as an influencer to rally support and save her home from the devastating effects of deforestation. Backed by Leonardo DiCaprio’s Appian Way Productions and produced by multi-Academy-Award winner Mike Medavoy\, this compelling animated feature sheds light on the urgent threats facing our planet’s rainforests and the fragile ecosystems they support. Through Ozi’s courageous journey\, the film raises awareness about the global environmental crisis and the need for immediate action.
URL:https://illusionmagiclounge.com/show/ozi-voice-of-the-forest-screening-nov-17-2024
CATEGORIES:Outside Events
ATTACH;FMTTYPE=image/png:https://illusionmagiclounge.com/wp-content/uploads/2024/09/Illusion-Magic-Lounge-e1728945610475.png
END:VEVENT
END:VCALENDAR