BEGIN:VCALENDAR
VERSION:2.0
PRODID:-//Illusion Magic Lounge - ECPv6.15.20//NONSGML v1.0//EN
CALSCALE:GREGORIAN
METHOD:PUBLISH
X-ORIGINAL-URL:https://illusionmagiclounge.com
X-WR-CALDESC:Events for Illusion Magic Lounge
REFRESH-INTERVAL;VALUE=DURATION:PT1H
X-Robots-Tag:noindex
X-PUBLISHED-TTL:PT1H
BEGIN:VTIMEZONE
TZID:America/Los_Angeles
BEGIN:DAYLIGHT
TZOFFSETFROM:-0800
TZOFFSETTO:-0700
TZNAME:PDT
DTSTART:20230312T100000
END:DAYLIGHT
BEGIN:STANDARD
TZOFFSETFROM:-0700
TZOFFSETTO:-0800
TZNAME:PST
DTSTART:20231105T090000
END:STANDARD
BEGIN:DAYLIGHT
TZOFFSETFROM:-0800
TZOFFSETTO:-0700
TZNAME:PDT
DTSTART:20240310T100000
END:DAYLIGHT
BEGIN:STANDARD
TZOFFSETFROM:-0700
TZOFFSETTO:-0800
TZNAME:PST
DTSTART:20241103T090000
END:STANDARD
BEGIN:DAYLIGHT
TZOFFSETFROM:-0800
TZOFFSETTO:-0700
TZNAME:PDT
DTSTART:20250309T100000
END:DAYLIGHT
BEGIN:STANDARD
TZOFFSETFROM:-0700
TZOFFSETTO:-0800
TZNAME:PST
DTSTART:20251102T090000
END:STANDARD
END:VTIMEZONE
BEGIN:VEVENT
DTSTART;TZID=America/Los_Angeles:20240801T180000
DTEND;TZID=America/Los_Angeles:20240801T210000
DTSTAMP:20260425T210330
CREATED:20240423T231058Z
LAST-MODIFIED:20240726T185026Z
UID:10000241-1722535200-1722546000@illusionmagiclounge.com
SUMMARY:Amor Film Festival
DESCRIPTION:NOTE: This event is produced by a third party.  Please contact the Event Producer for any questions related to this event.\n\n\n\n\n\n\n\n\nBuy Tickets @ Ticket Tailor\n\n\n\n\n\n\n\n\n\n\n\n\n\n\nWelcome to the Amor Film Festival! \n\n\n\nJoin us for a fantastic celebration of cinema at the Illusion Magic Lounge in beautiful Downtown Santa Monica\, CA\, USA. Get ready for a mesmerizing experience as we showcase a curated selection of films from around the world. \n\n\n\nImmerse yourself in the enchanting atmosphere of the Amor Film Festival and let your heart be captivated by the cinema on the big screen. If you enjoy a good short film\, this event is perfect for you. \n\n\n\nExperience the magic of cinema in person\, surrounded by fellow film enthusiasts. Discover new favorites and be inspired by cinema portrayed through the art of filmmaking. \n\n\n\nDon’t miss this opportunity to be part of a unique event that celebrates the universal language of love. Find a cozy seat\, and get ready to fall in love with the Amor Film Festival! \n\n\n\nParking garage available | 2-minute walk from Illusion Magic Lounge \n\n\n\n_____________________________ \n\n\n\nOur mission is to assist filmmakers in presenting their projects\, offering them valuable networking opportunities\, and a space for all genres of filmmakers to show off their creativity. It is our pleasure for this generation of up and coming filmmakers to have a chance to see their work on the big screen. Here at Amor Film Festival attracting people from all walks of life and allowing this festival to be a melting pot of fun\, creative\, and most importantly entertaining ideas\, all while fostering a sense of community. \n\n\n\nAt Amor Film Festival\, we care about the integrity of the movie going spirit. We strive to create an inclusive platform where filmmakers from diverse backgrounds and experiences can come together and showcase their unique perspectives. Our aim is to provide a supportive environment that encourages collaboration and growth within the film industry. \n\n\n\nThrough our networking events\, aspiring filmmakers will have the opportunity to connect with industry professionals\, potential collaborators\, and like-minded individuals who share their passion for filmmaking. These networking opportunities can open doors to new projects\, funding opportunities\, and valuable mentorship relationships. \n\n\n\nIn addition to networking\, we offer a space for filmmakers to exhibit their work on the big screen. We believe that the power of cinema lies in its ability to captivate audiences and evoke emotions. By showcasing films across all genres\, we hope to engage a diverse audience\, sparking dialogue and fostering a greater appreciation for the art of filmmaking. \n\n\n\nOur goal is to attract people from all walks of life\, creating a community that brings together filmmakers\, film enthusiasts\, and supporters. We believe that by celebrating and promoting the work of up and coming filmmakers\, we contribute to the growth and development of the film industry as a whole. \n\n\n\nOverall\, our mission is to empower filmmakers\, provide them with opportunities to showcase their work\, and cultivate a sense of community within the film industry. Through our efforts\, we hope to inspire\, connect\, and celebrate the creativity and talent of this generation of filmmakers. \n\n\n\nFollow us! @amorfilmfestival
URL:https://illusionmagiclounge.com/show/amor-film-festival-augist-1-2024
CATEGORIES:Outside Events
ATTACH;FMTTYPE=image/jpeg:https://illusionmagiclounge.com/wp-content/uploads/2024/03/amor2-e1710271779752.jpeg
END:VEVENT
BEGIN:VEVENT
DTSTART;TZID=America/Los_Angeles:20240804T183000
DTEND;TZID=America/Los_Angeles:20240804T210000
DTSTAMP:20260425T210330
CREATED:20240729T160641Z
LAST-MODIFIED:20240729T160647Z
UID:10000275-1722796200-1722805200@illusionmagiclounge.com
SUMMARY:Cancer is a Drag Fundraiser Hosted by Gusty Gorgeous and Friends!
DESCRIPTION:NOTE: This event is produced by a third party.  Please contact the Event Producer for any questions related to this event.\n\n\n\n\n\n\n\n\nBuy Tickets @ Eventbrite\n\n\n\n\n\n\n\n\n\n\n\n\nGusty Gorgeous Drag Debut and Fundraiser – Featuring 3 LA Drag Icons (And Gusty) \n\n\n\nGusty hiked 20+ miles (not in drag) on June 29 on the Pacific Crest Trail in the Ultimate Hike to raise money and awareness for CureSearch. Why? Because cancer sucks and the money raised will benefit children’s cancer research. The money raised by this Drag Extravaganza will benefit both CureSearch and First Descents which provides outdoor adventure therapy and connecitons for young adults dealing with cancer and MS. \n\n\n\nGusty’s debut will be hosted by the amazing Jordan Jayro. This fabulously fierce night will feature drag performances by Gusty\, Gemini Sexton and Cake Moss! There will be drag bingo\, comedy\, lip synchs\, lots of fundraising fun\, and a whole lot of surprises! \n\n\n\nGet your tickets now to the Drag Debut of the Year!
URL:https://illusionmagiclounge.com/show/cancer-is-a-drag-fundraiser-hosted-by-gusty-gorgeous-and-friends
CATEGORIES:Outside Events
ATTACH;FMTTYPE=image/jpeg:https://illusionmagiclounge.com/wp-content/uploads/2024/07/https___cdn.evbuc_.com_images_811795399_139706018118_1_original.jpeg
END:VEVENT
BEGIN:VEVENT
DTSTART;TZID=America/Los_Angeles:20240808T193000
DTEND;TZID=America/Los_Angeles:20240808T210000
DTSTAMP:20260425T210330
CREATED:20240326T221807Z
LAST-MODIFIED:20240731T065904Z
UID:10000224-1723145400-1723150800@illusionmagiclounge.com
SUMMARY:The Class Act Comedy Show
DESCRIPTION:BUY TICKETS!\n\n\n\n\n\n\n\n\n\n\n\n\n\n\n\n\nJoin us for a night of laughter and entertainment as Illusion Magic Lounge presents “The Class Act Comedy Show”\, hosted by the hilarious India Pearl. The show features a talented lineup of comedians! \n\n\n\nGet ready to laugh your socks off with these hilarious comedians as they bring their unique brand of comedy to the stage. With their quick wit and sharp humor\, you’re guaranteed to have an unforgettable night filled with laughs. \n\n\n\nThis event will take place at Illusion Magic Lounge\, the perfect venue for an evening of comedy and entertainment. With a fully stocked wine bar and comfortable seating\, you can sit back\, relax\, and enjoy the show. \n\n\n\nDon’t miss out on the fun! Grab your tickets now and get ready to be entertained by some of the funniest comedians in the business at “The Class Act Comedy Show” at Illusion Magic Lounge. \n\n\n\n\n\n\n\n\n\n\n\n\nClick here to buy ticketsSell tickets online with Ticket Tailor
URL:https://illusionmagiclounge.com/show/the-class-act-comedy-show-august-8-2024
CATEGORIES:Outside Events
ATTACH;FMTTYPE=image/jpeg:https://illusionmagiclounge.com/wp-content/uploads/2023/12/Generic-Class-Act-Poster-1-e1703033849828.jpg
END:VEVENT
BEGIN:VEVENT
DTSTART;TZID=America/Los_Angeles:20240810T200000
DTEND;TZID=America/Los_Angeles:20240810T230000
DTSTAMP:20260425T210330
CREATED:20240729T161146Z
LAST-MODIFIED:20240729T161152Z
UID:10000276-1723320000-1723330800@illusionmagiclounge.com
SUMMARY:The Dollface Dames Geek To Chic Spectacular
DESCRIPTION:NOTE: This event is produced by a third party.  Please contact the Event Producer for any questions related to this event.\n\n\n\n\n\n\n\n\nBuy Tickets @ Eventbrite\n\n\n\n\n\n\n\n\n\n\n\n\nThe Dollface Dames & Lola Boutée Presents: Geek To Chic Spectacular \n\n\n\nIts Cosplay Gone Wild! Comic books\, Anime\, Movies\, TV\, & more \n\n\n\nWe’ve got an EPIC show planned as your favorite characters come to life on the main stage! \n\n\n\nFire\, aerial acts\, sultry singing\, group numbers! \n\n\n\nLet the lights dim and grab your seats at this historic Santa Monica stadium seating theater! Celebrating over 15 years as LA’s premier burlesque & cabaret company! \n\n\n\n8pm Preparty Lobby Party with DJ Vix Versa\, Mix & Mingle\, and Costume Contest! \n\n\n\nArrive early to sip tasty beverages & appetizers at the newly remodeled magical lobby bar! \n\n\n\n9:30pm Seating & Main Stage Show \n\n\n\n@Ilusion Magic Lounge \n\n\n\n1418 4th St\, Santa Monica\, CA 90401 \n\n\n\nAct fast! Discounted tickets the earlier you buy while supplies last! \n\n\n\nGo VIP to be let into the theater first to pick the best seats AND get a souvenir printed photo to take home with you! \n\n\n\nSuggested age: 18 & over OR accompanied by an adult \n\n\n\nPaid Public Parking structure located next door on 4th street and surrounding lots. \n\n\n\nNext Date & Theme: Saturday\, Sept 21st Halloween Comes Early! \n\n\n\nAdditional Info: \n\n\n\nTipping is encouraged and tip hats will be circulated. \n\n\n\nTickets are non-refundable but can be transferred to another individual. \n\n\n\n2 item minimum per person in support of our venue. Thank you for supporting the arts & live entertainment spaces! \n\n\n\nAdditional info/parties/special requests: thedollfacedames@gmail.com
URL:https://illusionmagiclounge.com/show/the-dollface-dames-geek-to-chic-spectacular
CATEGORIES:Outside Events
ATTACH;FMTTYPE=image/jpeg:https://illusionmagiclounge.com/wp-content/uploads/2024/01/https___cdn.evbuc_.com_images_586783859_11835622443_1_original-e1728945424558.jpeg
END:VEVENT
BEGIN:VEVENT
DTSTART;TZID=America/Los_Angeles:20240811T133000
DTEND;TZID=America/Los_Angeles:20240811T153000
DTSTAMP:20260425T210330
CREATED:20240731T004907Z
LAST-MODIFIED:20240731T004914Z
UID:10000277-1723383000-1723390200@illusionmagiclounge.com
SUMMARY:Magic and Mimosas - Jonah Babins & Magical Katrina
DESCRIPTION:NOTE: This event is produced by a third party.  Please contact the Event Producer for any questions related to this event.\n\n\n\n\n\n\n\n\nBuy Tickets @ Eventbrite\n\n\n\n\n\n\n\n\n\n\n\n\nFor one amazing afternoon we’re featuring two top magicians from North America- Jonah Babins and Magical Katrina – Magic and Mimosas is an incredible afternoon of comedy\, mind-blowing magic\, fantastic drinks\, and a whole lot of fun!Magic and Mimosas is build into three incredible parts – And something special for the V.I.P’s \n\n\n\nVIP Brunch and Close up Magic (12:30) – Arrive an hour early early for magic brunch and grab seats at the Illusion Magic Lounge Restaraunt. Once you’re seated you get a complimentary VIP wristband\, a mimosa or champagne (sparkling cider\, soda\, or shirley temple for the kids). You have the opportunity to buy brunch\, eat fantastic food\, and get to experience close up magic. This is your chance to not only meet the magicians\, but also have your mind blown in your hands! VIP ticket also includes the best seating in the house! \n\n\n\nNormal Tickets Doors (1:30) – Arrive early and grab your seats. Once you’re inside you have an opportuntiy to buy amazing drinks and maybe get to experience a little taste of close up magic that happens in your hands.The Show (2:00pm) – The lights will dim\, and curtains will open\, and then the show will begin. Combining incredible mind-reading with mind-blowing magic\, this 70 minute show is jam packed with laughs and audience interaction- making for an experience you will never forget. \n\n\n\nClick the link below to get your tickets – but act fast because seating is EXTREMELY LIMITED for this event!For General admission – the show starts at 2pm. But please arrive at 1:30. We want you to get some time to settle in\, get some delicious snacks and fantastic drinks\, and get ready for an amazing show!For VIP’s – Come an hour early at 12:30 PM. You get a complimentary drink\, best seats on the house\, and an extra hour of interactive close up magic happening for you and your family! \n\n\n\nAbout your Performers: \n\n\n\n\n\n\n\nJonah Babins \n\n\n\nJonah is a young Canadian superstar in the world of magic. He performs in hundreds of shows a year\, and is the recent winner of the Alan Slaight award for Canadian Rising Star in Magic. \n\n\n\nHe’s also the host of the most widely-listened to magic podcast in the world\, Discourse in Magic\, which has been downloaded more than a half million times by magicians all across the globe. He’s been on Penn and Teller’s Fool Us\, featured in Narcity Canada\, BlogTo\, Breakfast Television\, Toronto Star and more. \n\n\n\n\n\n\n\nMagical KatrinaKatrina Kroetch has professionally performed her unique blend of playful and whimsical magic worldwide for over a decade. She has been a cast member of the international touring show Champions of Magic and a performer on numerous network television shows including Masters of Illusion and Penn and Teller: Fool Us . You may even recognize her as the magician from the Chappell Roan music video “Red wine Supernova”.Magical Katrina’s a member of the Magic Circle in London\, England and has performed magic for the magicians of the Academy of Magical Arts in Hollywood and their corporate clients. She is the winner of 5 different magic awards including winning the Pacific Coast Association of Magicians Family Entertainer of the year award. Despite our changing world she continues to dazzle audiences with her interactive virtual magic shows\, live in person performances and workshops .Join us in Santa Monica on August 11th at 12:30pm (for VIP magic brunch) and 1:30pm for standard show tickets for an extraordinary experience that you’re going to remember for the rest of your life. \n\n\n\nIn order to ensure every seat in the house is a good one\, only a small number of tickets are available for this intimate theatre experience. Make sure you order yours before they disappear forever!
URL:https://illusionmagiclounge.com/show/magic-and-mimosas-jonah-babins-magical-katrina
CATEGORIES:Outside Events
ATTACH;FMTTYPE=image/jpeg:https://illusionmagiclounge.com/wp-content/uploads/2024/07/https___cdn.evbuc_.com_images_817264029_211755547941_1_original.jpeg
END:VEVENT
END:VCALENDAR