BEGIN:VCALENDAR
VERSION:2.0
PRODID:-//Illusion Magic Lounge - ECPv6.15.20//NONSGML v1.0//EN
CALSCALE:GREGORIAN
METHOD:PUBLISH
X-WR-CALNAME:Illusion Magic Lounge
X-ORIGINAL-URL:https://illusionmagiclounge.com
X-WR-CALDESC:Events for Illusion Magic Lounge
REFRESH-INTERVAL;VALUE=DURATION:PT1H
X-Robots-Tag:noindex
X-PUBLISHED-TTL:PT1H
BEGIN:VTIMEZONE
TZID:America/Los_Angeles
BEGIN:DAYLIGHT
TZOFFSETFROM:-0800
TZOFFSETTO:-0700
TZNAME:PDT
DTSTART:20250309T100000
END:DAYLIGHT
BEGIN:STANDARD
TZOFFSETFROM:-0700
TZOFFSETTO:-0800
TZNAME:PST
DTSTART:20251102T090000
END:STANDARD
BEGIN:DAYLIGHT
TZOFFSETFROM:-0800
TZOFFSETTO:-0700
TZNAME:PDT
DTSTART:20260308T100000
END:DAYLIGHT
BEGIN:STANDARD
TZOFFSETFROM:-0700
TZOFFSETTO:-0800
TZNAME:PST
DTSTART:20261101T090000
END:STANDARD
BEGIN:DAYLIGHT
TZOFFSETFROM:-0800
TZOFFSETTO:-0700
TZNAME:PDT
DTSTART:20270314T100000
END:DAYLIGHT
BEGIN:STANDARD
TZOFFSETFROM:-0700
TZOFFSETTO:-0800
TZNAME:PST
DTSTART:20271107T090000
END:STANDARD
END:VTIMEZONE
BEGIN:VEVENT
DTSTART;TZID=America/Los_Angeles:20260429T193000
DTEND;TZID=America/Los_Angeles:20260429T213000
DTSTAMP:20260424T115136
CREATED:20251223T022459Z
LAST-MODIFIED:20251223T022507Z
UID:10000623-1777491000-1777498200@illusionmagiclounge.com
SUMMARY:Scot Nery's Boobietrap
DESCRIPTION:BUY TICKETS @ BOOBIETRAP\n\n\n\n\n\n\n\n\n\n\n\n\n\n\nThe Legendary LA Variety Show Returns…\n\n\n\nSince launching in 2015\, Scot Nery’s Boobietrap has destroyed audiences at hundreds of sold-out performances in Los Angeles and around the West Coast. An underground entertainment phenomenon\, Boobietrap shines as a proof of concept for just how incredible live performance can be. The exquisitely-curated experience serves up one life-changing moment after another\, blowing minds and rebuilding them in real time. “The best variety show in the world.” \n\n\n\nAfter a 5-year hiatus\, Scot Nery’s Boobietrap is ready to introduce you to the finest variety performers in LA!
URL:https://illusionmagiclounge.com/show/scot-nerys-boobietrap/2026-04-29
CATEGORIES:Non-Magic Shows,Scot Nery's Boobietrap
ATTACH;FMTTYPE=image/png:https://illusionmagiclounge.com/wp-content/uploads/2025/09/logo-boobietrap-1.png
END:VEVENT
BEGIN:VEVENT
DTSTART;TZID=America/Los_Angeles:20260430T193000
DTEND;TZID=America/Los_Angeles:20260430T210000
DTSTAMP:20260424T115136
CREATED:20260221T061808Z
LAST-MODIFIED:20260221T062021Z
UID:10000908-1777577400-1777582800@illusionmagiclounge.com
SUMMARY:Aaron Bonk! Indoors and Unleashed
DESCRIPTION:NOTE: This event is produced by Aaron Bonk. Please contact Aaron for any questions related to this event’s ticketing.\n\n\n\n\nBUY TICKETS @ TicketSpice\n\n\n\n\n\n\n\n\n\n\n\n\nAaron Bonk is a seriously ridiculous 3-time International Juggling Performance Champion\, 6-time Guinness World Record setting whip artist\, and unique entertainer with a twisted sense of humor who risks his life to make you laugh.\n\n\n\nYou may have seen his TV appearances on America’s Got Talent\, the Steve Harvey talk show and Game of Talents\, but now you can see him here. In high demand at Renaissance Fairs across the country and on Cruise Ships around the world\, he’s bringing his signature style of highly skilled insanity to Illusion Magic Lounge. \n\n\n\nWhips! Swords! Comedy! Music! Stunts so dangerous your mother would slap you for even thinking about them! (Even a few things that have never been performed on a stage in the history of ever.) ONE NIGHT ONLY!!! \n\n\n\nVIP Meet and Greet Available
URL:https://illusionmagiclounge.com/show/aaron-bonk-indoors-and-unleashed-april-30-2026
CATEGORIES:Non-Magic Shows,Outside Events
ATTACH;FMTTYPE=image/png:https://illusionmagiclounge.com/wp-content/uploads/2026/02/Bonk-Show-1-e1771654680577.png
END:VEVENT
END:VCALENDAR