BEGIN:VCALENDAR
VERSION:2.0
PRODID:-//Illusion Magic Lounge - ECPv6.15.20//NONSGML v1.0//EN
CALSCALE:GREGORIAN
METHOD:PUBLISH
X-ORIGINAL-URL:https://illusionmagiclounge.com
X-WR-CALDESC:Events for Illusion Magic Lounge
REFRESH-INTERVAL;VALUE=DURATION:PT1H
X-Robots-Tag:noindex
X-PUBLISHED-TTL:PT1H
BEGIN:VTIMEZONE
TZID:America/Los_Angeles
BEGIN:DAYLIGHT
TZOFFSETFROM:-0800
TZOFFSETTO:-0700
TZNAME:PDT
DTSTART:20250309T100000
END:DAYLIGHT
BEGIN:STANDARD
TZOFFSETFROM:-0700
TZOFFSETTO:-0800
TZNAME:PST
DTSTART:20251102T090000
END:STANDARD
BEGIN:DAYLIGHT
TZOFFSETFROM:-0800
TZOFFSETTO:-0700
TZNAME:PDT
DTSTART:20260308T100000
END:DAYLIGHT
BEGIN:STANDARD
TZOFFSETFROM:-0700
TZOFFSETTO:-0800
TZNAME:PST
DTSTART:20261101T090000
END:STANDARD
BEGIN:DAYLIGHT
TZOFFSETFROM:-0800
TZOFFSETTO:-0700
TZNAME:PDT
DTSTART:20270314T100000
END:DAYLIGHT
BEGIN:STANDARD
TZOFFSETFROM:-0700
TZOFFSETTO:-0800
TZNAME:PST
DTSTART:20271107T090000
END:STANDARD
END:VTIMEZONE
BEGIN:VEVENT
DTSTART;TZID=America/Los_Angeles:20260507T210000
DTEND;TZID=America/Los_Angeles:20260507T223000
DTSTAMP:20260424T141725
CREATED:20260424T013901Z
LAST-MODIFIED:20260424T013925Z
UID:10000942-1778187600-1778193000@illusionmagiclounge.com
SUMMARY:Netflix is a Joke Presents: High Note Comedy
DESCRIPTION:BUY TICKETS!\n\n\n\n\n\n\n\n\n\n\n\n\n\n\n\n\nLineup for May 7: \n\n\n\n\nTBA\n\n\n\n\n\n\n\n\n \n\n\n\nEnjoy beer\, wine\, soju cocktails and a hilarious night out with High Note Comedy! \n\n\n\nLocated at the Illusion Magic Lounge in Downtown Santa Monica\, High Note is a bi-weekly show featuring performances by the best comedians in the country. You’ve seen them on Netflix\, Hulu\, Comedy Central\, all manner of Late Night performances\, and even some of your favorite television shows! \n\n\n\nCome at 8:30 to enjoy the super-cozy lounge area\, grab some drinks and a snack\, and relax before the show which starts promptly at 9pm in the Courtroom theater.  \n\n\n\n—————————————- \n\n\n\nAT A GLANCE: \n\n\n\n\nHigh Note takes place on select Wednesdays each month.\n\n\n\nTickets are $10 in advance\, $15 at the door. \n\n\n\nThe show runs for about 90 minutes\, ending around 9:30.\n\n\n\nThe bar remains staffed during the show\, feel free to get a refill! There is no drink minimum at High Note. \n\n\n\n\n—————————————- \n\n\n\nGETTING THERE: \n\n\n\n\nThe fastest way to get to Illusion Magic Lounge is to simply take the 10 towards Santa Monica\, take the 5th St/4th St. exit\, turn right on to 4th\, and park in Structure 5. \n\n\n\nThe Metro E-Line stretches from East LA\, through DTLA\, and all the way to Santa Monica where it stops 2 blocks away from our show. Go Metro!\n\n\n\n\n\n\n\n\n\n\n\n\n\nClick here to buy ticketsSell tickets online with Ticket Tailor
URL:https://illusionmagiclounge.com/show/netflix-is-a-joke-presents-high-note-comedy
LOCATION:The Courtroom Theater
CATEGORIES:Comedy Shows,High Note Comedy,Non-Magic Shows
ATTACH;FMTTYPE=image/jpeg:https://illusionmagiclounge.com/wp-content/uploads/2026/03/3.11_HNLA_GIG-SHEET-1-e1772751267669.jpg
END:VEVENT
END:VCALENDAR