BEGIN:VCALENDAR
VERSION:2.0
PRODID:-//Illusion Magic Lounge - ECPv6.15.20//NONSGML v1.0//EN
CALSCALE:GREGORIAN
METHOD:PUBLISH
X-WR-CALNAME:Illusion Magic Lounge
X-ORIGINAL-URL:https://illusionmagiclounge.com
X-WR-CALDESC:Events for Illusion Magic Lounge
REFRESH-INTERVAL;VALUE=DURATION:PT1H
X-Robots-Tag:noindex
X-PUBLISHED-TTL:PT1H
BEGIN:VTIMEZONE
TZID:America/Los_Angeles
BEGIN:DAYLIGHT
TZOFFSETFROM:-0800
TZOFFSETTO:-0700
TZNAME:PDT
DTSTART:20240310T100000
END:DAYLIGHT
BEGIN:STANDARD
TZOFFSETFROM:-0700
TZOFFSETTO:-0800
TZNAME:PST
DTSTART:20241103T090000
END:STANDARD
BEGIN:DAYLIGHT
TZOFFSETFROM:-0800
TZOFFSETTO:-0700
TZNAME:PDT
DTSTART:20250309T100000
END:DAYLIGHT
BEGIN:STANDARD
TZOFFSETFROM:-0700
TZOFFSETTO:-0800
TZNAME:PST
DTSTART:20251102T090000
END:STANDARD
BEGIN:DAYLIGHT
TZOFFSETFROM:-0800
TZOFFSETTO:-0700
TZNAME:PDT
DTSTART:20260308T100000
END:DAYLIGHT
BEGIN:STANDARD
TZOFFSETFROM:-0700
TZOFFSETTO:-0800
TZNAME:PST
DTSTART:20261101T090000
END:STANDARD
END:VTIMEZONE
BEGIN:VEVENT
DTSTART;TZID=America/Los_Angeles:20250109T193000
DTEND;TZID=America/Los_Angeles:20250109T213000
DTSTAMP:20260425T133434
CREATED:20241217T071744Z
LAST-MODIFIED:20250109T221733Z
UID:10000364-1736451000-1736458200@illusionmagiclounge.com
SUMMARY:POSTPONED - High Note Comedy LA
DESCRIPTION:BUY TICKETS!\n\n\n\n\n\n\n\n\n\n\n\n\n\n\n\n\nLineup for January 9: \n\n\n\n\nTo Be Announced\n\n\n\n\n\n\n\n\n\n\n\n\n \n\n\n\nEnjoy beer\, wine\, soju cocktails and a hilarious night out with High Note Comedy! \n\n\n\nLocated at the Illusion Magic Lounge in Downtown Santa Monica\, High Note is a bi-weekly show featuring performances by the best comedians in the country. You’ve seen them on Netflix\, Hulu\, Comedy Central\, all manner of Late Night performances\, and even some of your favorite television shows! \n\n\n\nCome at 7:30 to enjoy the super-cozy lounge area\, grab some drinks and a snack\, and relax before the show which starts promptly at 8pm in the main theater.  \n\n\n\n—————————————- \n\n\n\nAT A GLANCE: \n\n\n\n\nHigh Note takes place on the First and Third Thursdays of every month.\n\n\n\nTickets are $10 in advance\, $15 at the door. \n\n\n\nThe show runs for about 90 minutes\, ending around 9:30.\n\n\n\nIllusion Magic Lounge has delicious snacks and appetizers\, but the theater itself is drinks-only so be sure to finish eating before heading in!\n\n\n\nThe bar remains staffed during the show\, feel free to get a refill! There is no drink minimum at High Note. \n\n\n\n\n—————————————- \n\n\n\nGETTING THERE: \n\n\n\n\nThe fastest way to get to Illusion Magic Lounge is to simply take the 10 towards Santa Monica\, take the 5th St/4th St. exit\, turn right on to 4th\, and park in Structure 5. \n\n\n\nParking Structure 5 is right next door to the venue and is free for the first hour and a half. As that’s roughly the length of our show\, you’ll likely be at the 2 hour mark which is only $2. If you get to Santa Monica early or stay later\, parking rates are very reasonable at $5 for 3hrs and $9 for 4hrs.\n\n\n\nThe Metro E-Line stretches from East LA\, through DTLA\, and all the way to Santa Monica where it stops 2 blocks away from our show. Go Metro!\n\n\n\n\n\n\n\n\n\n\n\n\n\nClick here to buy ticketsSell tickets online with Ticket Tailor
URL:https://illusionmagiclounge.com/show/high-note-comedy-la-jan-9-2025
CATEGORIES:High Note Comedy
ATTACH;FMTTYPE=image/png:https://illusionmagiclounge.com/wp-content/uploads/2024/09/Screen-Shot-2024-09-05-at-3.16.11-PM.png
END:VEVENT
BEGIN:VEVENT
DTSTART;TZID=America/Los_Angeles:20250130T193000
DTEND;TZID=America/Los_Angeles:20250130T213000
DTSTAMP:20260425T133434
CREATED:20241217T072130Z
LAST-MODIFIED:20250123T051103Z
UID:10000365-1738265400-1738272600@illusionmagiclounge.com
SUMMARY:High Note Comedy LA
DESCRIPTION:BUY TICKETS!\n\n\n\n\n\n\n\n\n\n\n\n\n\n\n\n\nLineup for January 30: \n\n\n\n\nWhitmer Thomas\n\n\n\nGianmarco Soresi\n\n\n\nSammy Mowrey\n\n\n\nEllory Smith\n\n\n\nJohn-Michael Bond\n\n\n\nBecky Braunstein\n\n\n\nAlyssa Yeoman\n\n\n\nRay Lau\n\n\n\n\n\n\n\n\n \n\n\n\nEnjoy beer\, wine\, soju cocktails and a hilarious night out with High Note Comedy! \n\n\n\nLocated at the Illusion Magic Lounge in Downtown Santa Monica\, High Note is a bi-weekly show featuring performances by the best comedians in the country. You’ve seen them on Netflix\, Hulu\, Comedy Central\, all manner of Late Night performances\, and even some of your favorite television shows! \n\n\n\nCome at 7:30 to enjoy the super-cozy lounge area\, grab some drinks and a snack\, and relax before the show which starts promptly at 8pm in the main theater.  \n\n\n\n—————————————- \n\n\n\nAT A GLANCE: \n\n\n\n\nHigh Note takes place on the First and Third Thursdays of every month.\n\n\n\nTickets are $10 in advance\, $15 at the door. \n\n\n\nThe show runs for about 90 minutes\, ending around 9:30.\n\n\n\nIllusion Magic Lounge has delicious snacks and appetizers\, but the theater itself is drinks-only so be sure to finish eating before heading in!\n\n\n\nThe bar remains staffed during the show\, feel free to get a refill! There is no drink minimum at High Note. \n\n\n\n\n—————————————- \n\n\n\nGETTING THERE: \n\n\n\n\nThe fastest way to get to Illusion Magic Lounge is to simply take the 10 towards Santa Monica\, take the 5th St/4th St. exit\, turn right on to 4th\, and park in Structure 5. \n\n\n\nParking Structure 5 is right next door to the venue and is free for the first hour and a half. As that’s roughly the length of our show\, you’ll likely be at the 2 hour mark which is only $2. If you get to Santa Monica early or stay later\, parking rates are very reasonable at $5 for 3hrs and $9 for 4hrs.\n\n\n\nThe Metro E-Line stretches from East LA\, through DTLA\, and all the way to Santa Monica where it stops 2 blocks away from our show. Go Metro!\n\n\n\n\n\n\n\n\n\n\n\n\n\nClick here to buy ticketsSell tickets online with Ticket Tailor
URL:https://illusionmagiclounge.com/show/high-note-comedy-la-jan-30-2025
CATEGORIES:High Note Comedy,Non-Magic Shows
ATTACH;FMTTYPE=image/png:https://illusionmagiclounge.com/wp-content/uploads/2024/09/Screen-Shot-2024-09-05-at-3.16.11-PM.png
END:VEVENT
END:VCALENDAR