BEGIN:VCALENDAR
VERSION:2.0
PRODID:-//Illusion Magic Lounge - ECPv6.15.20//NONSGML v1.0//EN
CALSCALE:GREGORIAN
METHOD:PUBLISH
X-ORIGINAL-URL:https://illusionmagiclounge.com
X-WR-CALDESC:Events for Illusion Magic Lounge
REFRESH-INTERVAL;VALUE=DURATION:PT1H
X-Robots-Tag:noindex
X-PUBLISHED-TTL:PT1H
BEGIN:VTIMEZONE
TZID:America/Los_Angeles
BEGIN:DAYLIGHT
TZOFFSETFROM:-0800
TZOFFSETTO:-0700
TZNAME:PDT
DTSTART:20250309T100000
END:DAYLIGHT
BEGIN:STANDARD
TZOFFSETFROM:-0700
TZOFFSETTO:-0800
TZNAME:PST
DTSTART:20251102T090000
END:STANDARD
BEGIN:DAYLIGHT
TZOFFSETFROM:-0800
TZOFFSETTO:-0700
TZNAME:PDT
DTSTART:20260308T100000
END:DAYLIGHT
BEGIN:STANDARD
TZOFFSETFROM:-0700
TZOFFSETTO:-0800
TZNAME:PST
DTSTART:20261101T090000
END:STANDARD
BEGIN:DAYLIGHT
TZOFFSETFROM:-0800
TZOFFSETTO:-0700
TZNAME:PDT
DTSTART:20270314T100000
END:DAYLIGHT
BEGIN:STANDARD
TZOFFSETFROM:-0700
TZOFFSETTO:-0800
TZNAME:PST
DTSTART:20271107T090000
END:STANDARD
END:VTIMEZONE
BEGIN:VEVENT
DTSTART;TZID=America/Los_Angeles:20261202T193000
DTEND;TZID=America/Los_Angeles:20261202T213000
DTSTAMP:20260425T072119
CREATED:20251223T022459Z
LAST-MODIFIED:20251223T022507Z
UID:10000654-1796239800-1796247000@illusionmagiclounge.com
SUMMARY:Scot Nery's Boobietrap
DESCRIPTION:BUY TICKETS @ BOOBIETRAP\n\n\n\n\n\n\n\n\n\n\n\n\n\n\nThe Legendary LA Variety Show Returns…\n\n\n\nSince launching in 2015\, Scot Nery’s Boobietrap has destroyed audiences at hundreds of sold-out performances in Los Angeles and around the West Coast. An underground entertainment phenomenon\, Boobietrap shines as a proof of concept for just how incredible live performance can be. The exquisitely-curated experience serves up one life-changing moment after another\, blowing minds and rebuilding them in real time. “The best variety show in the world.” \n\n\n\nAfter a 5-year hiatus\, Scot Nery’s Boobietrap is ready to introduce you to the finest variety performers in LA!
URL:https://illusionmagiclounge.com/show/scot-nerys-boobietrap/2026-12-02
CATEGORIES:Non-Magic Shows,Scot Nery's Boobietrap
ATTACH;FMTTYPE=image/png:https://illusionmagiclounge.com/wp-content/uploads/2025/09/logo-boobietrap-1.png
END:VEVENT
BEGIN:VEVENT
DTSTART;TZID=America/Los_Angeles:20261209T193000
DTEND;TZID=America/Los_Angeles:20261209T213000
DTSTAMP:20260425T072119
CREATED:20251223T022459Z
LAST-MODIFIED:20251223T022507Z
UID:10000655-1796844600-1796851800@illusionmagiclounge.com
SUMMARY:Scot Nery's Boobietrap
DESCRIPTION:BUY TICKETS @ BOOBIETRAP\n\n\n\n\n\n\n\n\n\n\n\n\n\n\nThe Legendary LA Variety Show Returns…\n\n\n\nSince launching in 2015\, Scot Nery’s Boobietrap has destroyed audiences at hundreds of sold-out performances in Los Angeles and around the West Coast. An underground entertainment phenomenon\, Boobietrap shines as a proof of concept for just how incredible live performance can be. The exquisitely-curated experience serves up one life-changing moment after another\, blowing minds and rebuilding them in real time. “The best variety show in the world.” \n\n\n\nAfter a 5-year hiatus\, Scot Nery’s Boobietrap is ready to introduce you to the finest variety performers in LA!
URL:https://illusionmagiclounge.com/show/scot-nerys-boobietrap/2026-12-09
CATEGORIES:Non-Magic Shows,Scot Nery's Boobietrap
ATTACH;FMTTYPE=image/png:https://illusionmagiclounge.com/wp-content/uploads/2025/09/logo-boobietrap-1.png
END:VEVENT
BEGIN:VEVENT
DTSTART;TZID=America/Los_Angeles:20261216T193000
DTEND;TZID=America/Los_Angeles:20261216T213000
DTSTAMP:20260425T072119
CREATED:20251223T022459Z
LAST-MODIFIED:20251223T022507Z
UID:10000656-1797449400-1797456600@illusionmagiclounge.com
SUMMARY:Scot Nery's Boobietrap
DESCRIPTION:BUY TICKETS @ BOOBIETRAP\n\n\n\n\n\n\n\n\n\n\n\n\n\n\nThe Legendary LA Variety Show Returns…\n\n\n\nSince launching in 2015\, Scot Nery’s Boobietrap has destroyed audiences at hundreds of sold-out performances in Los Angeles and around the West Coast. An underground entertainment phenomenon\, Boobietrap shines as a proof of concept for just how incredible live performance can be. The exquisitely-curated experience serves up one life-changing moment after another\, blowing minds and rebuilding them in real time. “The best variety show in the world.” \n\n\n\nAfter a 5-year hiatus\, Scot Nery’s Boobietrap is ready to introduce you to the finest variety performers in LA!
URL:https://illusionmagiclounge.com/show/scot-nerys-boobietrap/2026-12-16
CATEGORIES:Non-Magic Shows,Scot Nery's Boobietrap
ATTACH;FMTTYPE=image/png:https://illusionmagiclounge.com/wp-content/uploads/2025/09/logo-boobietrap-1.png
END:VEVENT
BEGIN:VEVENT
DTSTART;TZID=America/Los_Angeles:20261223T193000
DTEND;TZID=America/Los_Angeles:20261223T213000
DTSTAMP:20260425T072119
CREATED:20251223T022459Z
LAST-MODIFIED:20251223T022507Z
UID:10000657-1798054200-1798061400@illusionmagiclounge.com
SUMMARY:Scot Nery's Boobietrap
DESCRIPTION:BUY TICKETS @ BOOBIETRAP\n\n\n\n\n\n\n\n\n\n\n\n\n\n\nThe Legendary LA Variety Show Returns…\n\n\n\nSince launching in 2015\, Scot Nery’s Boobietrap has destroyed audiences at hundreds of sold-out performances in Los Angeles and around the West Coast. An underground entertainment phenomenon\, Boobietrap shines as a proof of concept for just how incredible live performance can be. The exquisitely-curated experience serves up one life-changing moment after another\, blowing minds and rebuilding them in real time. “The best variety show in the world.” \n\n\n\nAfter a 5-year hiatus\, Scot Nery’s Boobietrap is ready to introduce you to the finest variety performers in LA!
URL:https://illusionmagiclounge.com/show/scot-nerys-boobietrap/2026-12-23
CATEGORIES:Non-Magic Shows,Scot Nery's Boobietrap
ATTACH;FMTTYPE=image/png:https://illusionmagiclounge.com/wp-content/uploads/2025/09/logo-boobietrap-1.png
END:VEVENT
BEGIN:VEVENT
DTSTART;TZID=America/Los_Angeles:20261230T193000
DTEND;TZID=America/Los_Angeles:20261230T213000
DTSTAMP:20260425T072119
CREATED:20251223T022459Z
LAST-MODIFIED:20251223T022507Z
UID:10000658-1798659000-1798666200@illusionmagiclounge.com
SUMMARY:Scot Nery's Boobietrap
DESCRIPTION:BUY TICKETS @ BOOBIETRAP\n\n\n\n\n\n\n\n\n\n\n\n\n\n\nThe Legendary LA Variety Show Returns…\n\n\n\nSince launching in 2015\, Scot Nery’s Boobietrap has destroyed audiences at hundreds of sold-out performances in Los Angeles and around the West Coast. An underground entertainment phenomenon\, Boobietrap shines as a proof of concept for just how incredible live performance can be. The exquisitely-curated experience serves up one life-changing moment after another\, blowing minds and rebuilding them in real time. “The best variety show in the world.” \n\n\n\nAfter a 5-year hiatus\, Scot Nery’s Boobietrap is ready to introduce you to the finest variety performers in LA!
URL:https://illusionmagiclounge.com/show/scot-nerys-boobietrap/2026-12-30
CATEGORIES:Non-Magic Shows,Scot Nery's Boobietrap
ATTACH;FMTTYPE=image/png:https://illusionmagiclounge.com/wp-content/uploads/2025/09/logo-boobietrap-1.png
END:VEVENT
END:VCALENDAR