BEGIN:VCALENDAR
VERSION:2.0
PRODID:-//Illusion Magic Lounge - ECPv6.15.20//NONSGML v1.0//EN
CALSCALE:GREGORIAN
METHOD:PUBLISH
X-WR-CALNAME:Illusion Magic Lounge
X-ORIGINAL-URL:https://illusionmagiclounge.com
X-WR-CALDESC:Events for Illusion Magic Lounge
REFRESH-INTERVAL;VALUE=DURATION:PT1H
X-Robots-Tag:noindex
X-PUBLISHED-TTL:PT1H
BEGIN:VTIMEZONE
TZID:America/Los_Angeles
BEGIN:DAYLIGHT
TZOFFSETFROM:-0800
TZOFFSETTO:-0700
TZNAME:PDT
DTSTART:20260308T100000
END:DAYLIGHT
BEGIN:STANDARD
TZOFFSETFROM:-0700
TZOFFSETTO:-0800
TZNAME:PST
DTSTART:20261101T090000
END:STANDARD
BEGIN:DAYLIGHT
TZOFFSETFROM:-0800
TZOFFSETTO:-0700
TZNAME:PDT
DTSTART:20270314T100000
END:DAYLIGHT
BEGIN:STANDARD
TZOFFSETFROM:-0700
TZOFFSETTO:-0800
TZNAME:PST
DTSTART:20271107T090000
END:STANDARD
BEGIN:DAYLIGHT
TZOFFSETFROM:-0800
TZOFFSETTO:-0700
TZNAME:PDT
DTSTART:20280312T100000
END:DAYLIGHT
BEGIN:STANDARD
TZOFFSETFROM:-0700
TZOFFSETTO:-0800
TZNAME:PST
DTSTART:20281105T090000
END:STANDARD
END:VTIMEZONE
BEGIN:VEVENT
DTSTART;TZID=America/Los_Angeles:20270303T193000
DTEND;TZID=America/Los_Angeles:20270303T213000
DTSTAMP:20260425T071750
CREATED:20251223T022459Z
LAST-MODIFIED:20251223T022507Z
UID:10000667-1804102200-1804109400@illusionmagiclounge.com
SUMMARY:Scot Nery's Boobietrap
DESCRIPTION:BUY TICKETS @ BOOBIETRAP\n\n\n\n\n\n\n\n\n\n\n\n\n\n\nThe Legendary LA Variety Show Returns…\n\n\n\nSince launching in 2015\, Scot Nery’s Boobietrap has destroyed audiences at hundreds of sold-out performances in Los Angeles and around the West Coast. An underground entertainment phenomenon\, Boobietrap shines as a proof of concept for just how incredible live performance can be. The exquisitely-curated experience serves up one life-changing moment after another\, blowing minds and rebuilding them in real time. “The best variety show in the world.” \n\n\n\nAfter a 5-year hiatus\, Scot Nery’s Boobietrap is ready to introduce you to the finest variety performers in LA!
URL:https://illusionmagiclounge.com/show/scot-nerys-boobietrap/2027-03-03
CATEGORIES:Non-Magic Shows,Scot Nery's Boobietrap
ATTACH;FMTTYPE=image/png:https://illusionmagiclounge.com/wp-content/uploads/2025/09/logo-boobietrap-1.png
END:VEVENT
BEGIN:VEVENT
DTSTART;TZID=America/Los_Angeles:20270310T193000
DTEND;TZID=America/Los_Angeles:20270310T213000
DTSTAMP:20260425T071750
CREATED:20251223T022459Z
LAST-MODIFIED:20251223T022507Z
UID:10000668-1804707000-1804714200@illusionmagiclounge.com
SUMMARY:Scot Nery's Boobietrap
DESCRIPTION:BUY TICKETS @ BOOBIETRAP\n\n\n\n\n\n\n\n\n\n\n\n\n\n\nThe Legendary LA Variety Show Returns…\n\n\n\nSince launching in 2015\, Scot Nery’s Boobietrap has destroyed audiences at hundreds of sold-out performances in Los Angeles and around the West Coast. An underground entertainment phenomenon\, Boobietrap shines as a proof of concept for just how incredible live performance can be. The exquisitely-curated experience serves up one life-changing moment after another\, blowing minds and rebuilding them in real time. “The best variety show in the world.” \n\n\n\nAfter a 5-year hiatus\, Scot Nery’s Boobietrap is ready to introduce you to the finest variety performers in LA!
URL:https://illusionmagiclounge.com/show/scot-nerys-boobietrap/2027-03-10
CATEGORIES:Non-Magic Shows,Scot Nery's Boobietrap
ATTACH;FMTTYPE=image/png:https://illusionmagiclounge.com/wp-content/uploads/2025/09/logo-boobietrap-1.png
END:VEVENT
BEGIN:VEVENT
DTSTART;TZID=America/Los_Angeles:20270317T193000
DTEND;TZID=America/Los_Angeles:20270317T213000
DTSTAMP:20260425T071750
CREATED:20251223T022459Z
LAST-MODIFIED:20251223T022507Z
UID:10000669-1805311800-1805319000@illusionmagiclounge.com
SUMMARY:Scot Nery's Boobietrap
DESCRIPTION:BUY TICKETS @ BOOBIETRAP\n\n\n\n\n\n\n\n\n\n\n\n\n\n\nThe Legendary LA Variety Show Returns…\n\n\n\nSince launching in 2015\, Scot Nery’s Boobietrap has destroyed audiences at hundreds of sold-out performances in Los Angeles and around the West Coast. An underground entertainment phenomenon\, Boobietrap shines as a proof of concept for just how incredible live performance can be. The exquisitely-curated experience serves up one life-changing moment after another\, blowing minds and rebuilding them in real time. “The best variety show in the world.” \n\n\n\nAfter a 5-year hiatus\, Scot Nery’s Boobietrap is ready to introduce you to the finest variety performers in LA!
URL:https://illusionmagiclounge.com/show/scot-nerys-boobietrap/2027-03-17
CATEGORIES:Non-Magic Shows,Scot Nery's Boobietrap
ATTACH;FMTTYPE=image/png:https://illusionmagiclounge.com/wp-content/uploads/2025/09/logo-boobietrap-1.png
END:VEVENT
BEGIN:VEVENT
DTSTART;TZID=America/Los_Angeles:20270324T193000
DTEND;TZID=America/Los_Angeles:20270324T213000
DTSTAMP:20260425T071750
CREATED:20251223T022459Z
LAST-MODIFIED:20251223T022507Z
UID:10000670-1805916600-1805923800@illusionmagiclounge.com
SUMMARY:Scot Nery's Boobietrap
DESCRIPTION:BUY TICKETS @ BOOBIETRAP\n\n\n\n\n\n\n\n\n\n\n\n\n\n\nThe Legendary LA Variety Show Returns…\n\n\n\nSince launching in 2015\, Scot Nery’s Boobietrap has destroyed audiences at hundreds of sold-out performances in Los Angeles and around the West Coast. An underground entertainment phenomenon\, Boobietrap shines as a proof of concept for just how incredible live performance can be. The exquisitely-curated experience serves up one life-changing moment after another\, blowing minds and rebuilding them in real time. “The best variety show in the world.” \n\n\n\nAfter a 5-year hiatus\, Scot Nery’s Boobietrap is ready to introduce you to the finest variety performers in LA!
URL:https://illusionmagiclounge.com/show/scot-nerys-boobietrap/2027-03-24
CATEGORIES:Non-Magic Shows,Scot Nery's Boobietrap
ATTACH;FMTTYPE=image/png:https://illusionmagiclounge.com/wp-content/uploads/2025/09/logo-boobietrap-1.png
END:VEVENT
BEGIN:VEVENT
DTSTART;TZID=America/Los_Angeles:20270331T193000
DTEND;TZID=America/Los_Angeles:20270331T213000
DTSTAMP:20260425T071750
CREATED:20251223T022459Z
LAST-MODIFIED:20251223T022507Z
UID:10000671-1806521400-1806528600@illusionmagiclounge.com
SUMMARY:Scot Nery's Boobietrap
DESCRIPTION:BUY TICKETS @ BOOBIETRAP\n\n\n\n\n\n\n\n\n\n\n\n\n\n\nThe Legendary LA Variety Show Returns…\n\n\n\nSince launching in 2015\, Scot Nery’s Boobietrap has destroyed audiences at hundreds of sold-out performances in Los Angeles and around the West Coast. An underground entertainment phenomenon\, Boobietrap shines as a proof of concept for just how incredible live performance can be. The exquisitely-curated experience serves up one life-changing moment after another\, blowing minds and rebuilding them in real time. “The best variety show in the world.” \n\n\n\nAfter a 5-year hiatus\, Scot Nery’s Boobietrap is ready to introduce you to the finest variety performers in LA!
URL:https://illusionmagiclounge.com/show/scot-nerys-boobietrap/2027-03-31
CATEGORIES:Non-Magic Shows,Scot Nery's Boobietrap
ATTACH;FMTTYPE=image/png:https://illusionmagiclounge.com/wp-content/uploads/2025/09/logo-boobietrap-1.png
END:VEVENT
END:VCALENDAR