BEGIN:VCALENDAR
VERSION:2.0
PRODID:-//Illusion Magic Lounge - ECPv6.15.20//NONSGML v1.0//EN
CALSCALE:GREGORIAN
METHOD:PUBLISH
X-ORIGINAL-URL:https://illusionmagiclounge.com
X-WR-CALDESC:Events for Illusion Magic Lounge
REFRESH-INTERVAL;VALUE=DURATION:PT1H
X-Robots-Tag:noindex
X-PUBLISHED-TTL:PT1H
BEGIN:VTIMEZONE
TZID:America/Los_Angeles
BEGIN:DAYLIGHT
TZOFFSETFROM:-0800
TZOFFSETTO:-0700
TZNAME:PDT
DTSTART:20250309T100000
END:DAYLIGHT
BEGIN:STANDARD
TZOFFSETFROM:-0700
TZOFFSETTO:-0800
TZNAME:PST
DTSTART:20251102T090000
END:STANDARD
BEGIN:DAYLIGHT
TZOFFSETFROM:-0800
TZOFFSETTO:-0700
TZNAME:PDT
DTSTART:20260308T100000
END:DAYLIGHT
BEGIN:STANDARD
TZOFFSETFROM:-0700
TZOFFSETTO:-0800
TZNAME:PST
DTSTART:20261101T090000
END:STANDARD
BEGIN:DAYLIGHT
TZOFFSETFROM:-0800
TZOFFSETTO:-0700
TZNAME:PDT
DTSTART:20270314T100000
END:DAYLIGHT
BEGIN:STANDARD
TZOFFSETFROM:-0700
TZOFFSETTO:-0800
TZNAME:PST
DTSTART:20271107T090000
END:STANDARD
END:VTIMEZONE
BEGIN:VEVENT
DTSTART;TZID=America/Los_Angeles:20260304T193000
DTEND;TZID=America/Los_Angeles:20260304T213000
DTSTAMP:20260424T135130
CREATED:20251223T022459Z
LAST-MODIFIED:20251223T022507Z
UID:10000615-1772652600-1772659800@illusionmagiclounge.com
SUMMARY:Scot Nery's Boobietrap
DESCRIPTION:BUY TICKETS @ BOOBIETRAP\n\n\n\n\n\n\n\n\n\n\n\n\n\n\nThe Legendary LA Variety Show Returns…\n\n\n\nSince launching in 2015\, Scot Nery’s Boobietrap has destroyed audiences at hundreds of sold-out performances in Los Angeles and around the West Coast. An underground entertainment phenomenon\, Boobietrap shines as a proof of concept for just how incredible live performance can be. The exquisitely-curated experience serves up one life-changing moment after another\, blowing minds and rebuilding them in real time. “The best variety show in the world.” \n\n\n\nAfter a 5-year hiatus\, Scot Nery’s Boobietrap is ready to introduce you to the finest variety performers in LA!
URL:https://illusionmagiclounge.com/show/scot-nerys-boobietrap/2026-03-04
CATEGORIES:Non-Magic Shows,Scot Nery's Boobietrap
ATTACH;FMTTYPE=image/png:https://illusionmagiclounge.com/wp-content/uploads/2025/09/logo-boobietrap-1.png
END:VEVENT
BEGIN:VEVENT
DTSTART;TZID=America/Los_Angeles:20260311T193000
DTEND;TZID=America/Los_Angeles:20260311T213000
DTSTAMP:20260424T135130
CREATED:20251223T022459Z
LAST-MODIFIED:20251223T022507Z
UID:10000616-1773257400-1773264600@illusionmagiclounge.com
SUMMARY:Scot Nery's Boobietrap
DESCRIPTION:BUY TICKETS @ BOOBIETRAP\n\n\n\n\n\n\n\n\n\n\n\n\n\n\nThe Legendary LA Variety Show Returns…\n\n\n\nSince launching in 2015\, Scot Nery’s Boobietrap has destroyed audiences at hundreds of sold-out performances in Los Angeles and around the West Coast. An underground entertainment phenomenon\, Boobietrap shines as a proof of concept for just how incredible live performance can be. The exquisitely-curated experience serves up one life-changing moment after another\, blowing minds and rebuilding them in real time. “The best variety show in the world.” \n\n\n\nAfter a 5-year hiatus\, Scot Nery’s Boobietrap is ready to introduce you to the finest variety performers in LA!
URL:https://illusionmagiclounge.com/show/scot-nerys-boobietrap/2026-03-11
CATEGORIES:Non-Magic Shows,Scot Nery's Boobietrap
ATTACH;FMTTYPE=image/png:https://illusionmagiclounge.com/wp-content/uploads/2025/09/logo-boobietrap-1.png
END:VEVENT
BEGIN:VEVENT
DTSTART;TZID=America/Los_Angeles:20260311T210000
DTEND;TZID=America/Los_Angeles:20260311T223000
DTSTAMP:20260424T135130
CREATED:20260305T225437Z
LAST-MODIFIED:20260305T225449Z
UID:10000910-1773262800-1773268200@illusionmagiclounge.com
SUMMARY:High Note Comedy LA
DESCRIPTION:BUY TICKETS!\n\n\n\n\n\n\n\n\n\n\n\n\n\n\n\n\nLineup for March 11: \n\n\n\n\nLaurie Kilmartin\n\n\n\nDebra Digiovanni\n\n\n\nCarly Ballerini\n\n\n\nMandal\n\n\n\nKimmy Velarde\n\n\n\nCurtis Cook\n\n\n\nCarter Glasscock\n\n\n\nAnd your host Chris Mejia!\n\n\n\n\n\n\n\n\n \n\n\n\nEnjoy beer\, wine\, soju cocktails and a hilarious night out with High Note Comedy! \n\n\n\nLocated at the Illusion Magic Lounge in Downtown Santa Monica\, High Note is a bi-weekly show featuring performances by the best comedians in the country. You’ve seen them on Netflix\, Hulu\, Comedy Central\, all manner of Late Night performances\, and even some of your favorite television shows! \n\n\n\nCome at 8:30 to enjoy the super-cozy lounge area\, grab some drinks and a snack\, and relax before the show which starts promptly at 9pm in the Courtroom theater.  \n\n\n\n—————————————- \n\n\n\nAT A GLANCE: \n\n\n\n\nHigh Note takes place on select Wednesdays each month.\n\n\n\nTickets are $10 in advance\, $15 at the door. \n\n\n\nThe show runs for about 90 minutes\, ending around 10:30.\n\n\n\nIllusion Magic Lounge has delicious snacks and appetizers available for purchase.\n\n\n\nThe bar remains staffed during the show\, feel free to get a refill! There is no drink minimum at High Note. \n\n\n\n\n—————————————- \n\n\n\nGETTING THERE: \n\n\n\n\nThe fastest way to get to Illusion Magic Lounge is to simply take the 10 towards Santa Monica\, take the 5th St/4th St. exit\, turn right on to 4th\, and park in Structure 5. \n\n\n\nParking Structure 5 is right next door to the venue and is free for the first hour and a half. As that’s roughly the length of our show\, you’ll likely be at the 2 hour mark which is only $2. If you get to Santa Monica early or stay later\, parking rates are very reasonable at $5 for 3hrs and $9 for 4hrs.\n\n\n\nThe Metro E-Line stretches from East LA\, through DTLA\, and all the way to Santa Monica where it stops 2 blocks away from our show. Go Metro!\n\n\n\n\n\n\n\n\n\n\n\n\n\nClick here to buy ticketsSell tickets online with Ticket Tailor
URL:https://illusionmagiclounge.com/show/high-note-comedy-la-march-11-2026
LOCATION:The Courtroom Theater
CATEGORIES:Comedy Shows,High Note Comedy,Non-Magic Shows
ATTACH;FMTTYPE=image/jpeg:https://illusionmagiclounge.com/wp-content/uploads/2026/03/3.11_HNLA_GIG-SHEET-1-e1772751267669.jpg
END:VEVENT
BEGIN:VEVENT
DTSTART;TZID=America/Los_Angeles:20260318T193000
DTEND;TZID=America/Los_Angeles:20260318T213000
DTSTAMP:20260424T135130
CREATED:20251223T022459Z
LAST-MODIFIED:20251223T022507Z
UID:10000617-1773862200-1773869400@illusionmagiclounge.com
SUMMARY:Scot Nery's Boobietrap
DESCRIPTION:BUY TICKETS @ BOOBIETRAP\n\n\n\n\n\n\n\n\n\n\n\n\n\n\nThe Legendary LA Variety Show Returns…\n\n\n\nSince launching in 2015\, Scot Nery’s Boobietrap has destroyed audiences at hundreds of sold-out performances in Los Angeles and around the West Coast. An underground entertainment phenomenon\, Boobietrap shines as a proof of concept for just how incredible live performance can be. The exquisitely-curated experience serves up one life-changing moment after another\, blowing minds and rebuilding them in real time. “The best variety show in the world.” \n\n\n\nAfter a 5-year hiatus\, Scot Nery’s Boobietrap is ready to introduce you to the finest variety performers in LA!
URL:https://illusionmagiclounge.com/show/scot-nerys-boobietrap/2026-03-18
CATEGORIES:Non-Magic Shows,Scot Nery's Boobietrap
ATTACH;FMTTYPE=image/png:https://illusionmagiclounge.com/wp-content/uploads/2025/09/logo-boobietrap-1.png
END:VEVENT
BEGIN:VEVENT
DTSTART;TZID=America/Los_Angeles:20260320T200000
DTEND;TZID=America/Los_Angeles:20260320T220000
DTSTAMP:20260424T135130
CREATED:20260306T020134Z
LAST-MODIFIED:20260306T020843Z
UID:10000917-1774036800-1774044000@illusionmagiclounge.com
SUMMARY:Javier Ceriani en "Vamos con el Chisme"
DESCRIPTION:NOTE: This event is produced by a third party.  Please contact the Event Producer for any questions related to this event.\n\n\n\nThis program presented in Spanish \n\n\n\n\n\n\n\n\nBuy Tickets @ Ticketplate\n\n\n\n\n\n\n\n\n\n\n\n\n\n\n\n\nJavier Ceriani\, el periodista número uno de espectáculos en USA y Latinoamerica\, regresa al teatro con una nueva obra: “Vamos con el Chisme”. \n\n\n\nEsta nueva obra transcurre en una “convención para chismosos” y promete secretos inéditos de la farándula\, personajes inesperados\, sorpresas y una experiencia única para sus Cerianitas\, a quienes Javier homenajeará función a función\, ciudad tras ciudad. \n\n\n\nLuego del éxito de su tour 2025\, en el que recorrió más de 20 ciudades\, Ceriani vuelve este 2026 al escenario por segundo año consecutivo con una propuesta completamente distinta. Un fenómeno inédito: no existe otro periodista de espectáculos en Estados Unidos que haga lo que él hace: nvestigar\, informar y además girar teatralmente por todo el país\, encuentro cara a cara con su público. \n\n\n\nLa promesa es clara: aquí se dice y se muestra\, sin censura\, todo lo que no se puede contar ni ver en la televisión ni en su canal de YouTube. \n\n\n\nUn espectáculo de humor filoso\, provocador y sin filtros\, donde el chisme se convierte en teatro y la verdad sale a escena. \n\n\n\nAdemás del show\, las Cerianitas de todo Estados Unidos tendrán la oportunidad de ver de cerca a su ídolo en persona\, en una experiencia íntima e irrepetible que no se pueden perder. \n\n\n\nImportante:  \n\n\n\n-Todas las ventas son definitivas. \n\n\n\n-Puertas abren una hora antes del show. \n\n\n\n-Edad mínima de ingreso: 16 años. \n\n\n\n-La producción se reserva el derecho de sentar en otra ubicación a las personas que lleguen tarde\, de esta manera no se molesta ni distrae a los espectadores que llegaron a tiempo ni a los artistas. Si la persona llega una vez comenzada la función\, no podrá hacer ningún tipo de reclamo referido a su ticket\, aunque la nueva ubicación asignada tenga un valor menor al comprado. \n\n\n\n\n\n\n\nJavier Ceriani\, the number one entertainment journalist in the USA and Latin America\, returns to the theater with a new play:  “Let’s go with the gossip”. \n\n\n\nThis new work takes place at a “convention for gossips” and promises unpublished secrets of show business\, unexpected characters\, surprises and a unique experience for its Cerianitas\, whom Javier will honor performance after performance\, city after city. \n\n\n\nFollowing the success of his 2025 tour\, which took him to more than 20 cities\, Ceriani returns to the stage in 2026 for the second consecutive year with a completely different show. A unique phenomenon: there is no other entertainment journalist in the United States who does what he does: investigate\, report\, and also tour the country theatrically\, meeting his audience face-to-face. \n\n\n\nThe promise is clear: here\, everything that cannot be told or seen on television or on their YouTube channel is said and shown\, without censorship. \n\n\n\nA sharp\, provocative\, and unfiltered comedy show where gossip becomes theater and the truth comes to the stage. \n\n\n\nIn addition to the show\, Cerianitas from all over the United States will have the opportunity to see their idol up close in person\, in an intimate and unrepeatable experience that they cannot miss. \n\n\n\nImportant:  \n\n\n\n-All sales are final. \n\n\n\n-Doors open one hour before the show. \n\n\n\n-Minimum age for admission: 16 years. \n\n\n\nThe production reserves the right to seat latecomers in a different location to avoid disturbing or distracting those who arrived on time or the performers. If a person arrives after the performance has begun\, they will not be able to make any claims regarding their ticket\, even if the new seat is less expensive than the original.
URL:https://illusionmagiclounge.com/show/javier-ceriani-en-vamos-con-el-chisme-march-20-2026
CATEGORIES:Non-Magic Shows,Outside Events
ATTACH;FMTTYPE=image/png:https://illusionmagiclounge.com/wp-content/uploads/2026/03/javier-1-e1772762389904.png
END:VEVENT
BEGIN:VEVENT
DTSTART;TZID=America/Los_Angeles:20260321T200000
DTEND;TZID=America/Los_Angeles:20260321T230000
DTSTAMP:20260424T135130
CREATED:20251211T075216Z
LAST-MODIFIED:20251211T075225Z
UID:10000603-1774123200-1774134000@illusionmagiclounge.com
SUMMARY:The Dollface Dames Alice in WINEderland
DESCRIPTION:NOTE: This event is produced by a third party.  Please contact the Event Producer for any questions related to this event.\n\n\n\n\n\n\n\n\nBuy Tickets @ TicketSpice\n\n\n\n\n\n\n\n\n✨ Step into the Rabbit Hole… and into a Wonderland like no other! ✨ \n\n\n\nThe Dollface Dames proudly present the debut of Alice in WINEderland — an immersive cabaret\, burlesque\, and variety spectacular at the Illusion Magic Lounge Theater in Santa Monica. 🎩✨ Join us on Saturday\, March 21st  for a dazzling night celebrating the 160th anniversary of Lewis Carroll’s timeless tale\, reimagined in a bold\, empowering new script written by Dames Founder Lola Boutée. \n\n\n\n💫 Your favorite Wonderland characters come to life in ways you’ve never seen before — whimsical\, daring\, seductive\, and unforgettable. This isn’t the story you read as a child… this is Alice’s Wonderland\, grown-up and glamorously twisted. A true celebration of female empowerment\, fashion\, dance\, burlesque\, and the arts. ✨ \n\n\n\n🌹 This is THE ultimate night out — glamorous\, playful\, and oh-so unforgettable.  Seating is limited and demand will be high\, so secure your spot in Wonderland before the Queen of Hearts shouts “Off with their heads!” \n\n\n\n📍 Illusion Magic Lounge Theater\, Santa Monica📅 Saturday\, March 21st 2026 as we celebrate The Queen of Hearts  birthday!🍷 Lounge opens early with themed cocktails\, overflowing wine\, & tasty bites — immerse yourself from the moment you arrive. \n\n\n\n✨ Don’t be late for this very important date! \n\n\n\nSuggested age: 18 & over OR accompanied by an adult
URL:https://illusionmagiclounge.com/show/the-dollface-dames-alice-in-winederland-march-21-2026
CATEGORIES:Dollface Dames,Outside Events
ATTACH;FMTTYPE=image/jpeg:https://illusionmagiclounge.com/wp-content/uploads/2024/01/https___cdn.evbuc_.com_images_586783859_11835622443_1_original-e1728945424558.jpeg
END:VEVENT
BEGIN:VEVENT
DTSTART;TZID=America/Los_Angeles:20260322T170000
DTEND;TZID=America/Los_Angeles:20260322T190000
DTSTAMP:20260424T135130
CREATED:20260306T021139Z
LAST-MODIFIED:20260306T021312Z
UID:10000918-1774198800-1774206000@illusionmagiclounge.com
SUMMARY:Javier Ceriani en "Vamos con el Chisme"
DESCRIPTION:NOTE: This event is produced by a third party.  Please contact the Event Producer for any questions related to this event.\n\n\n\nThis program presented in Spanish \n\n\n\n\n\n\n\n\nBuy Tickets @ Ticketplate\n\n\n\n\n\n\n\n\n\n\n\n\n\n\n\n\nJavier Ceriani\, el periodista número uno de espectáculos en USA y Latinoamerica\, regresa al teatro con una nueva obra: “Vamos con el Chisme”. \n\n\n\nEsta nueva obra transcurre en una “convención para chismosos” y promete secretos inéditos de la farándula\, personajes inesperados\, sorpresas y una experiencia única para sus Cerianitas\, a quienes Javier homenajeará función a función\, ciudad tras ciudad. \n\n\n\nLuego del éxito de su tour 2025\, en el que recorrió más de 20 ciudades\, Ceriani vuelve este 2026 al escenario por segundo año consecutivo con una propuesta completamente distinta. Un fenómeno inédito: no existe otro periodista de espectáculos en Estados Unidos que haga lo que él hace: nvestigar\, informar y además girar teatralmente por todo el país\, encuentro cara a cara con su público. \n\n\n\nLa promesa es clara: aquí se dice y se muestra\, sin censura\, todo lo que no se puede contar ni ver en la televisión ni en su canal de YouTube. \n\n\n\nUn espectáculo de humor filoso\, provocador y sin filtros\, donde el chisme se convierte en teatro y la verdad sale a escena. \n\n\n\nAdemás del show\, las Cerianitas de todo Estados Unidos tendrán la oportunidad de ver de cerca a su ídolo en persona\, en una experiencia íntima e irrepetible que no se pueden perder. \n\n\n\nImportante:  \n\n\n\n-Todas las ventas son definitivas. \n\n\n\n-Puertas abren una hora antes del show. \n\n\n\n-Edad mínima de ingreso: 16 años. \n\n\n\n-La producción se reserva el derecho de sentar en otra ubicación a las personas que lleguen tarde\, de esta manera no se molesta ni distrae a los espectadores que llegaron a tiempo ni a los artistas. Si la persona llega una vez comenzada la función\, no podrá hacer ningún tipo de reclamo referido a su ticket\, aunque la nueva ubicación asignada tenga un valor menor al comprado. \n\n\n\n\n\n\n\nJavier Ceriani\, the number one entertainment journalist in the USA and Latin America\, returns to the theater with a new play:  “Let’s go with the gossip”. \n\n\n\nThis new work takes place at a “convention for gossips” and promises unpublished secrets of show business\, unexpected characters\, surprises and a unique experience for its Cerianitas\, whom Javier will honor performance after performance\, city after city. \n\n\n\nFollowing the success of his 2025 tour\, which took him to more than 20 cities\, Ceriani returns to the stage in 2026 for the second consecutive year with a completely different show. A unique phenomenon: there is no other entertainment journalist in the United States who does what he does: investigate\, report\, and also tour the country theatrically\, meeting his audience face-to-face. \n\n\n\nThe promise is clear: here\, everything that cannot be told or seen on television or on their YouTube channel is said and shown\, without censorship. \n\n\n\nA sharp\, provocative\, and unfiltered comedy show where gossip becomes theater and the truth comes to the stage. \n\n\n\nIn addition to the show\, Cerianitas from all over the United States will have the opportunity to see their idol up close in person\, in an intimate and unrepeatable experience that they cannot miss. \n\n\n\nImportant:  \n\n\n\n-All sales are final. \n\n\n\n-Doors open one hour before the show. \n\n\n\n-Minimum age for admission: 16 years. \n\n\n\nThe production reserves the right to seat latecomers in a different location to avoid disturbing or distracting those who arrived on time or the performers. If a person arrives after the performance has begun\, they will not be able to make any claims regarding their ticket\, even if the new seat is less expensive than the original.
URL:https://illusionmagiclounge.com/show/javier-ceriani-en-vamos-con-el-chisme-march-22-2026
CATEGORIES:Non-Magic Shows,Outside Events
ATTACH;FMTTYPE=image/png:https://illusionmagiclounge.com/wp-content/uploads/2026/03/javier-1-e1772762389904.png
END:VEVENT
BEGIN:VEVENT
DTSTART;TZID=America/Los_Angeles:20260325T193000
DTEND;TZID=America/Los_Angeles:20260325T213000
DTSTAMP:20260424T135130
CREATED:20251223T022459Z
LAST-MODIFIED:20251223T022507Z
UID:10000618-1774467000-1774474200@illusionmagiclounge.com
SUMMARY:Scot Nery's Boobietrap
DESCRIPTION:BUY TICKETS @ BOOBIETRAP\n\n\n\n\n\n\n\n\n\n\n\n\n\n\nThe Legendary LA Variety Show Returns…\n\n\n\nSince launching in 2015\, Scot Nery’s Boobietrap has destroyed audiences at hundreds of sold-out performances in Los Angeles and around the West Coast. An underground entertainment phenomenon\, Boobietrap shines as a proof of concept for just how incredible live performance can be. The exquisitely-curated experience serves up one life-changing moment after another\, blowing minds and rebuilding them in real time. “The best variety show in the world.” \n\n\n\nAfter a 5-year hiatus\, Scot Nery’s Boobietrap is ready to introduce you to the finest variety performers in LA!
URL:https://illusionmagiclounge.com/show/scot-nerys-boobietrap/2026-03-25
CATEGORIES:Non-Magic Shows,Scot Nery's Boobietrap
ATTACH;FMTTYPE=image/png:https://illusionmagiclounge.com/wp-content/uploads/2025/09/logo-boobietrap-1.png
END:VEVENT
BEGIN:VEVENT
DTSTART;TZID=America/Los_Angeles:20260325T210000
DTEND;TZID=America/Los_Angeles:20260325T223000
DTSTAMP:20260424T135130
CREATED:20260305T232014Z
LAST-MODIFIED:20260320T211952Z
UID:10000911-1774472400-1774477800@illusionmagiclounge.com
SUMMARY:High Note Comedy LA
DESCRIPTION:BUY TICKETS!\n\n\n\n\n\n\n\n\n\n\n\n\n\n\n\n\nLineup for March 25: \n\n\n\n\nRob Haze\n\n\n\nAmy Silverberg\n\n\n\nTavaris Smith\n\n\n\nSarah Cortina\n\n\n\nAmanda G.\n\n\n\nKat Moore\n\n\n\nHosted by Danny Cuneo\n\n\n\n\n\n\n\n\n \n\n\n\nEnjoy beer\, wine\, soju cocktails and a hilarious night out with High Note Comedy! \n\n\n\nLocated at the Illusion Magic Lounge in Downtown Santa Monica\, High Note is a bi-weekly show featuring performances by the best comedians in the country. You’ve seen them on Netflix\, Hulu\, Comedy Central\, all manner of Late Night performances\, and even some of your favorite television shows! \n\n\n\nCome at 8:30 to enjoy the super-cozy lounge area\, grab some drinks and a snack\, and relax before the show which starts promptly at 9pm in the Courtroom theater.  \n\n\n\n—————————————- \n\n\n\nAT A GLANCE: \n\n\n\n\nHigh Note takes place on select Wednesdays each month.\n\n\n\nTickets are $10 in advance\, $15 at the door. \n\n\n\nThe show runs for about 90 minutes\, ending around 10:30.\n\n\n\nIllusion Magic Lounge has delicious snacks and appetizers available for purchase.\n\n\n\nThe bar remains staffed during the show\, feel free to get a refill! There is no drink minimum at High Note. \n\n\n\n\n—————————————- \n\n\n\nGETTING THERE: \n\n\n\n\nThe fastest way to get to Illusion Magic Lounge is to simply take the 10 towards Santa Monica\, take the 5th St/4th St. exit\, turn right on to 4th\, and park in Structure 5. \n\n\n\nParking Structure 5 is right next door to the venue and is free for the first hour and a half. As that’s roughly the length of our show\, you’ll likely be at the 2 hour mark which is only $2. If you get to Santa Monica early or stay later\, parking rates are very reasonable at $5 for 3hrs and $9 for 4hrs.\n\n\n\nThe Metro E-Line stretches from East LA\, through DTLA\, and all the way to Santa Monica where it stops 2 blocks away from our show. Go Metro!\n\n\n\n\n\n\n\n\n\n\n\n\n\nClick here to buy ticketsSell tickets online with Ticket Tailor
URL:https://illusionmagiclounge.com/show/high-note-comedy-la-march-25-2026
LOCATION:The Courtroom Theater
CATEGORIES:Comedy Shows,High Note Comedy,Non-Magic Shows
ATTACH;FMTTYPE=image/jpeg:https://illusionmagiclounge.com/wp-content/uploads/2026/03/3.11_HNLA_GIG-SHEET-1-e1772751267669.jpg
END:VEVENT
BEGIN:VEVENT
DTSTART;TZID=America/Los_Angeles:20260328T203000
DTEND;TZID=America/Los_Angeles:20260328T223000
DTSTAMP:20260424T135130
CREATED:20260130T212054Z
LAST-MODIFIED:20260325T225124Z
UID:10000887-1774729800-1774737000@illusionmagiclounge.com
SUMMARY:TaranTEASE: A Quentin Tarantino Tribute
DESCRIPTION:NOTE: This event is produced by a third party.  Please contact Dirty Little Secret Burlesque for any questions related to this event.\n\n\n\n\n\n\n\n\nBuy Tickets @ Eventbrite\n\n\n\n\n\n\n\n\n\n\n\n\n\n\n\n\nA bold\, cinematic burlesque tribute to Quentin Tarantino’s iconic films — dripping with danger\, attitude\, and irresistible tease.\n\n\n\nTaranTEASE: A Quentin Tarantino Tribute is Dirty Little Secrets Burlesque at full throttle — a razor-sharp\, high-style striptease love letter to the cult films\, iconic characters\, and twisted cool of Quentin Tarantino.This is burlesque with bite: bold choreography\, cinematic storytelling\, killer looks\, and unapologetic attitude collide in a world where vengeance is sexy\, danger drips with glamour\, and every tease feels like a slow-burn close-up. \n\n\n\nExpect explosive moments\, sly humor\, unforgettable femme energy\, and a soundtrack that hits like a needle drop at the perfect moment. From outlaw swagger to blood-red glamour and revenge-fantasy fantasy\, TaranTEASE captures the seductive chaos\, style\, and swagger that made Tarantino’s universe legendary — then peels it down to the essentials. \n\n\n\nViolent in spirit\, playful in execution\, and dripping with Dirty Little Secrets attitude\, TaranTEASE is a burlesque spectacle for film lovers\, thrill-seekers\, and anyone who likes their cinema with a little extra sin. \n\n\n\nDoors open at 8pm \n\n\n\nVIP Ticket Holders will be seated first\, so if you want specific seating\, please buy VIP. \n\n\n\nTipping is highly encouraged! $1’s will be exchanged from 7:30-8:30pm in lobby! \n\n\n\nThis show is 18+ \n\n\n\n\nBuy Tickets @ Eventbrite
URL:https://illusionmagiclounge.com/show/tarantease-a-quentin-tarantino-tribute-march-28-2026
CATEGORIES:Dirty Little Secrets Burlesque
ATTACH;FMTTYPE=image/png:https://illusionmagiclounge.com/wp-content/uploads/2026/01/tarantease.png
END:VEVENT
BEGIN:VEVENT
DTSTART;TZID=America/Los_Angeles:20260328T203000
DTEND;TZID=America/Los_Angeles:20260328T233000
DTSTAMP:20260424T135130
CREATED:20260328T010648Z
LAST-MODIFIED:20260328T010648Z
UID:10000929-1774729800-1774740600@illusionmagiclounge.com
SUMMARY:TaranTEASE: a Quentin Tarantino Tribute by Dirty Little Secrets Burlesque
DESCRIPTION:NOTE: This event is produced by a third party. Please contact Dirty Little Secrets Burlesque for any questions related to this event.\n\n\n\n\n\n\n\n\nBuy Tickets @ Eventbrite\n\n\n\n\nA bold\, cinematic burlesque tribute to Quentin Tarantino’s iconic films — dripping with danger\, attitude\, and irresistible tease.\n\n\n\nTaranTEASE: A Quentin Tarantino Tribute is Dirty Little Secrets Burlesque at full throttle — a razor-sharp\, high-style striptease love letter to the cult films\, iconic characters\, and twisted cool of Quentin Tarantino. \n\n\n\nThis is burlesque with bite: bold choreography\, cinematic storytelling\, killer looks\, and unapologetic attitude collide in a world where vengeance is sexy\, danger drips with glamour\, and every tease feels like a slow-burn close-up. \n\n\n\nExpect explosive moments\, sly humor\, unforgettable femme energy\, and a soundtrack that hits like a needle drop at the perfect moment. From outlaw swagger to blood-red glamour and revenge-fantasy fantasy\, TaranTEASE captures the seductive chaos\, style\, and swagger that made Tarantino’s universe legendary — then peels it down to the essentials. \n\n\n\nViolent in spirit\, playful in execution\, and dripping with Dirty Little Secrets attitude\, TaranTEASE is a burlesque spectacle for film lovers\, thrill-seekers\, and anyone who likes their cinema with a little extra sin. \n\n\n\nDoors open at 7:30pm \n\n\n\nVIP Ticket Holders will be seated first\, so if you want specific seating\, please buy VIP. \n\n\n\nTipping is highly encouraged! $1’s will be exchanged from 7:30-8:30pm in lobby for cocktail hour. \n\n\n\nThis show is 18+ \n\n\n\n\nBuy Tickets @ Eventbrite
URL:https://illusionmagiclounge.com/show/tarantease-a-quentin-tarantino-tribute-by-dirty-little-secrets-burlesque-2
CATEGORIES:Dirty Little Secrets Burlesque
ATTACH;FMTTYPE=image/png:https://illusionmagiclounge.com/wp-content/uploads/2026/03/Add-a-subheading-1920-x-1080-px-3.png
END:VEVENT
END:VCALENDAR