BEGIN:VCALENDAR
VERSION:2.0
PRODID:-//Illusion Magic Lounge - ECPv6.15.20//NONSGML v1.0//EN
CALSCALE:GREGORIAN
METHOD:PUBLISH
X-ORIGINAL-URL:https://illusionmagiclounge.com
X-WR-CALDESC:Events for Illusion Magic Lounge
REFRESH-INTERVAL;VALUE=DURATION:PT1H
X-Robots-Tag:noindex
X-PUBLISHED-TTL:PT1H
BEGIN:VTIMEZONE
TZID:America/Los_Angeles
BEGIN:DAYLIGHT
TZOFFSETFROM:-0800
TZOFFSETTO:-0700
TZNAME:PDT
DTSTART:20250309T100000
END:DAYLIGHT
BEGIN:STANDARD
TZOFFSETFROM:-0700
TZOFFSETTO:-0800
TZNAME:PST
DTSTART:20251102T090000
END:STANDARD
BEGIN:DAYLIGHT
TZOFFSETFROM:-0800
TZOFFSETTO:-0700
TZNAME:PDT
DTSTART:20260308T100000
END:DAYLIGHT
BEGIN:STANDARD
TZOFFSETFROM:-0700
TZOFFSETTO:-0800
TZNAME:PST
DTSTART:20261101T090000
END:STANDARD
BEGIN:DAYLIGHT
TZOFFSETFROM:-0800
TZOFFSETTO:-0700
TZNAME:PDT
DTSTART:20270314T100000
END:DAYLIGHT
BEGIN:STANDARD
TZOFFSETFROM:-0700
TZOFFSETTO:-0800
TZNAME:PST
DTSTART:20271107T090000
END:STANDARD
END:VTIMEZONE
BEGIN:VEVENT
DTSTART;TZID=America/Los_Angeles:20260107T193000
DTEND;TZID=America/Los_Angeles:20260107T213000
DTSTAMP:20260424T174035
CREATED:20251130T043527Z
LAST-MODIFIED:20251130T043534Z
UID:10000591-1767814200-1767821400@illusionmagiclounge.com
SUMMARY:Scot Nery's Boobietrap
DESCRIPTION:BUY TICKETS @ BOOBIETRAP\n\n\n\n\n\n\n\n\n\n\n\n\n\n\nThe Legendary LA Variety Show Returns…\n\n\n\nSince launching in 2015\, Scot Nery’s Boobietrap has destroyed audiences at hundreds of sold-out performances in Los Angeles and around the West Coast. An underground entertainment phenomenon\, Boobietrap shines as a proof of concept for just how incredible live performance can be. The exquisitely-curated experience serves up one life-changing moment after another\, blowing minds and rebuilding them in real time. “The best variety show in the world.” \n\n\n\nAfter a 5 year hiatus\, Scot Nery’s Boobietrap is ready to introduce you to the finest variety performers in LA!
URL:https://illusionmagiclounge.com/show/scot-nerys-boobietrap-jan-7-2026
CATEGORIES:Non-Magic Shows,Scot Nery's Boobietrap
ATTACH;FMTTYPE=image/png:https://illusionmagiclounge.com/wp-content/uploads/2025/09/logo-boobietrap-1.png
END:VEVENT
BEGIN:VEVENT
DTSTART;TZID=America/Los_Angeles:20260108T210000
DTEND;TZID=America/Los_Angeles:20260108T223000
DTSTAMP:20260424T174035
CREATED:20260103T205652Z
LAST-MODIFIED:20260103T210310Z
UID:10000866-1767906000-1767911400@illusionmagiclounge.com
SUMMARY:High Note Comedy LA
DESCRIPTION:BUY TICKETS!\n\n\n\n\n\n\n\n\n\n\n\n\n\n\n\n\nLineup for December 18: \n\n\n\n\nTBA\n\n\n\n\n\n\n\n\n \n\n\n\nEnjoy beer\, wine\, soju cocktails and a hilarious night out with High Note Comedy! \n\n\n\nLocated at the Illusion Magic Lounge in Downtown Santa Monica\, High Note is a bi-weekly show featuring performances by the best comedians in the country. You’ve seen them on Netflix\, Hulu\, Comedy Central\, all manner of Late Night performances\, and even some of your favorite television shows! \n\n\n\nCome at 8:30 to enjoy the super-cozy lounge area\, grab some drinks and a snack\, and relax before the show which starts promptly at 9pm in the Courtroom theater.  \n\n\n\n—————————————- \n\n\n\nAT A GLANCE: \n\n\n\n\nHigh Note takes place on the First and Third Thursdays of every month.\n\n\n\nTickets are $10 in advance\, $15 at the door. \n\n\n\nThe show runs for about 90 minutes\, ending around 10:30.\n\n\n\nIllusion Magic Lounge has delicious snacks and appetizers available for purchase.\n\n\n\nThe bar remains staffed during the show\, feel free to get a refill! There is no drink minimum at High Note. \n\n\n\n\n—————————————- \n\n\n\nGETTING THERE: \n\n\n\n\nThe fastest way to get to Illusion Magic Lounge is to simply take the 10 towards Santa Monica\, take the 5th St/4th St. exit\, turn right on to 4th\, and park in Structure 5. \n\n\n\nParking Structure 5 is right next door to the venue and is free for the first hour and a half. As that’s roughly the length of our show\, you’ll likely be at the 2 hour mark which is only $2. If you get to Santa Monica early or stay later\, parking rates are very reasonable at $5 for 3hrs and $9 for 4hrs.\n\n\n\nThe Metro E-Line stretches from East LA\, through DTLA\, and all the way to Santa Monica where it stops 2 blocks away from our show. Go Metro!\n\n\n\n\n\n\n\n\n\n\n\n\n\nClick here to buy ticketsSell tickets online with Ticket Tailor
URL:https://illusionmagiclounge.com/show/high-note-comedy-la-jan-8-2026
LOCATION:The Courtroom Theater
CATEGORIES:Comedy Shows,High Note Comedy,Non-Magic Shows
ATTACH;FMTTYPE=image/png:https://illusionmagiclounge.com/wp-content/uploads/2025/02/013025-POSTER-e1738894515638.png
END:VEVENT
BEGIN:VEVENT
DTSTART;TZID=America/Los_Angeles:20260114T193000
DTEND;TZID=America/Los_Angeles:20260114T213000
DTSTAMP:20260424T174035
CREATED:20251223T022459Z
LAST-MODIFIED:20251223T022507Z
UID:10000608-1768419000-1768426200@illusionmagiclounge.com
SUMMARY:Scot Nery's Boobietrap
DESCRIPTION:BUY TICKETS @ BOOBIETRAP\n\n\n\n\n\n\n\n\n\n\n\n\n\n\nThe Legendary LA Variety Show Returns…\n\n\n\nSince launching in 2015\, Scot Nery’s Boobietrap has destroyed audiences at hundreds of sold-out performances in Los Angeles and around the West Coast. An underground entertainment phenomenon\, Boobietrap shines as a proof of concept for just how incredible live performance can be. The exquisitely-curated experience serves up one life-changing moment after another\, blowing minds and rebuilding them in real time. “The best variety show in the world.” \n\n\n\nAfter a 5-year hiatus\, Scot Nery’s Boobietrap is ready to introduce you to the finest variety performers in LA!
URL:https://illusionmagiclounge.com/show/scot-nerys-boobietrap/2026-01-14
CATEGORIES:Non-Magic Shows,Scot Nery's Boobietrap
ATTACH;FMTTYPE=image/png:https://illusionmagiclounge.com/wp-content/uploads/2025/09/logo-boobietrap-1.png
END:VEVENT
BEGIN:VEVENT
DTSTART;TZID=America/Los_Angeles:20260117T200000
DTEND;TZID=America/Los_Angeles:20260117T230000
DTSTAMP:20260424T174035
CREATED:20251211T074803Z
LAST-MODIFIED:20251211T074813Z
UID:10000601-1768680000-1768690800@illusionmagiclounge.com
SUMMARY:The Dollface Dames 18 Year Anniversary Show
DESCRIPTION:NOTE: This event is produced by a third party.  Please contact the Event Producer for any questions related to this event.\n\n\n\n\n\n\n\n\nBuy Tickets @ TicketSpice\n\n\n\n\n\n\n\n\nThe Dollface Dames & Lola Boutée Presents:  \n\n\n\nSaturday\, Jan 17th The Dollface Dames 18yr Company Anniversary \n\n\n\nA naughty & nice mix of acrobatics\, burlesque\, fire\, & aerial! \n\n\n\nCelebrating 17 years as LA’s premier burlesque & cabaret company! \n\n\n\nUpcoming Calendar: \n\n\n\nFeb 14th-Valentine’s Day SpectacularMarch 21st Alice in WINEderland: A reimagined tale down the rabbit hole! Tickets HERE \n\n\n\n8pm Preparty Mix & Mingle with Roaming Characters & maybe even catch a pop-up performance or two! Arrive early to sip tasty beverages & bites at the swanky magical lobby bar! \n\n\n\n9:30pm Main Stage Show \n\n\n\nAdditional Info: \n\n\n\nTipping is encouraged and tip hats will be circulated. \n\n\n\nTickets are non-refundable but can be transferred to another individual. \n\n\n\nSuggested age: 18 & over OR accompanied by an adult
URL:https://illusionmagiclounge.com/show/the-dollface-dames-18-year-anniversary-show-jan-17-2026
CATEGORIES:Burlesque Shows,Dollface Dames,Non-Magic Shows,Outside Events
ATTACH;FMTTYPE=image/jpeg:https://illusionmagiclounge.com/wp-content/uploads/2024/01/https___cdn.evbuc_.com_images_586783859_11835622443_1_original-e1728945424558.jpeg
END:VEVENT
BEGIN:VEVENT
DTSTART;TZID=America/Los_Angeles:20260121T193000
DTEND;TZID=America/Los_Angeles:20260121T213000
DTSTAMP:20260424T174035
CREATED:20251223T022459Z
LAST-MODIFIED:20251223T022507Z
UID:10000609-1769023800-1769031000@illusionmagiclounge.com
SUMMARY:Scot Nery's Boobietrap
DESCRIPTION:BUY TICKETS @ BOOBIETRAP\n\n\n\n\n\n\n\n\n\n\n\n\n\n\nThe Legendary LA Variety Show Returns…\n\n\n\nSince launching in 2015\, Scot Nery’s Boobietrap has destroyed audiences at hundreds of sold-out performances in Los Angeles and around the West Coast. An underground entertainment phenomenon\, Boobietrap shines as a proof of concept for just how incredible live performance can be. The exquisitely-curated experience serves up one life-changing moment after another\, blowing minds and rebuilding them in real time. “The best variety show in the world.” \n\n\n\nAfter a 5-year hiatus\, Scot Nery’s Boobietrap is ready to introduce you to the finest variety performers in LA!
URL:https://illusionmagiclounge.com/show/scot-nerys-boobietrap/2026-01-21
CATEGORIES:Non-Magic Shows,Scot Nery's Boobietrap
ATTACH;FMTTYPE=image/png:https://illusionmagiclounge.com/wp-content/uploads/2025/09/logo-boobietrap-1.png
END:VEVENT
BEGIN:VEVENT
DTSTART;TZID=America/Los_Angeles:20260121T210000
DTEND;TZID=America/Los_Angeles:20260121T223000
DTSTAMP:20260424T174035
CREATED:20260110T045902Z
LAST-MODIFIED:20260116T221253Z
UID:10000874-1769029200-1769034600@illusionmagiclounge.com
SUMMARY:High Note Comedy LA
DESCRIPTION:BUY TICKETS!\n\n\n\n\n\n\n\n\n\n\n\n\n\n\n\n\nLineup for January 21: \n\n\n\n\nTaylor P Miller\n\n\n\nPaige Gallagher\n\n\n\nJohn-Michael Bond\n\n\n\nQuincy Yeoman\n\n\n\nGreg Edwards\n\n\n\nMike Glazer\n\n\n\n\n\n\n\n\n \n\n\n\nEnjoy beer\, wine\, soju cocktails and a hilarious night out with High Note Comedy! \n\n\n\nLocated at the Illusion Magic Lounge in Downtown Santa Monica\, High Note is a bi-weekly show featuring performances by the best comedians in the country. You’ve seen them on Netflix\, Hulu\, Comedy Central\, all manner of Late Night performances\, and even some of your favorite television shows! \n\n\n\nCome at 8:30 to enjoy the super-cozy lounge area\, grab some drinks and a snack\, and relax before the show which starts promptly at 9pm in the Courtroom theater.  \n\n\n\n—————————————- \n\n\n\nAT A GLANCE: \n\n\n\n\nHigh Note takes place on select Wednesdays each month.\n\n\n\nTickets are $10 in advance\, $15 at the door. \n\n\n\nThe show runs for about 90 minutes\, ending around 10:30.\n\n\n\nIllusion Magic Lounge has delicious snacks and appetizers available for purchase.\n\n\n\nThe bar remains staffed during the show\, feel free to get a refill! There is no drink minimum at High Note. \n\n\n\n\n—————————————- \n\n\n\nGETTING THERE: \n\n\n\n\nThe fastest way to get to Illusion Magic Lounge is to simply take the 10 towards Santa Monica\, take the 5th St/4th St. exit\, turn right on to 4th\, and park in Structure 5. \n\n\n\nParking Structure 5 is right next door to the venue and is free for the first hour and a half. As that’s roughly the length of our show\, you’ll likely be at the 2 hour mark which is only $2. If you get to Santa Monica early or stay later\, parking rates are very reasonable at $5 for 3hrs and $9 for 4hrs.\n\n\n\nThe Metro E-Line stretches from East LA\, through DTLA\, and all the way to Santa Monica where it stops 2 blocks away from our show. Go Metro!\n\n\n\n\n\n\n\n\n\n\n\n\n\nClick here to buy ticketsSell tickets online with Ticket Tailor
URL:https://illusionmagiclounge.com/show/high-note-comedy-la-jan-21-2026
LOCATION:The Courtroom Theater
CATEGORIES:Comedy Shows,High Note Comedy,Non-Magic Shows
ATTACH;FMTTYPE=image/png:https://illusionmagiclounge.com/wp-content/uploads/2025/02/013025-POSTER-e1738894515638.png
END:VEVENT
BEGIN:VEVENT
DTSTART;TZID=America/Los_Angeles:20260128T193000
DTEND;TZID=America/Los_Angeles:20260128T213000
DTSTAMP:20260424T174035
CREATED:20251223T022459Z
LAST-MODIFIED:20251223T022507Z
UID:10000610-1769628600-1769635800@illusionmagiclounge.com
SUMMARY:Scot Nery's Boobietrap
DESCRIPTION:BUY TICKETS @ BOOBIETRAP\n\n\n\n\n\n\n\n\n\n\n\n\n\n\nThe Legendary LA Variety Show Returns…\n\n\n\nSince launching in 2015\, Scot Nery’s Boobietrap has destroyed audiences at hundreds of sold-out performances in Los Angeles and around the West Coast. An underground entertainment phenomenon\, Boobietrap shines as a proof of concept for just how incredible live performance can be. The exquisitely-curated experience serves up one life-changing moment after another\, blowing minds and rebuilding them in real time. “The best variety show in the world.” \n\n\n\nAfter a 5-year hiatus\, Scot Nery’s Boobietrap is ready to introduce you to the finest variety performers in LA!
URL:https://illusionmagiclounge.com/show/scot-nerys-boobietrap/2026-01-28
CATEGORIES:Non-Magic Shows,Scot Nery's Boobietrap
ATTACH;FMTTYPE=image/png:https://illusionmagiclounge.com/wp-content/uploads/2025/09/logo-boobietrap-1.png
END:VEVENT
BEGIN:VEVENT
DTSTART;TZID=America/Los_Angeles:20260131T213000
DTEND;TZID=America/Los_Angeles:20260131T233000
DTSTAMP:20260424T174035
CREATED:20251206T084938Z
LAST-MODIFIED:20260131T033925Z
UID:10000593-1769895000-1769902200@illusionmagiclounge.com
SUMMARY:SOLD OUT: Stripwrecked! Pirates of the Caribbean Burlesque
DESCRIPTION:NOTE: This event is produced by a third party.  Please contact Dirty Little Secret Burlesque for any questions related to this event.\n\n\n\n\n\n\n\n\nBuy Tickets @ Eventbrite\n\n\n\n\n\n\n\n\n\n\n\n\n\n\n\n\nSet sail for a sultry spin on the classic Disney pirate ride\, starring Jack Sparrow\, the Redhead\, and a dazzling crew of burlesque beauties!\n\n\n\nStripwrecked: Pirates of the Caribbean Burlesque \n\n\n\nAvast\, me hearties! Tonight\, the moon is high\, the tide is wild\, and the glittering seas are calling you aboard for an adventure unlike any other. Inspired by the beloved Disneyland attraction — with just a playful whisper of the films — Stripwrecked brings the swashbuckling world of Pirates of the Caribbean to life with shimmering tease\, roguish charm\, and a shipload of mischief. \n\n\n\nSet sail with our daring crew of burlesque buccaneers\, where bold beauties\, charming scalawags\, and cheeky rogues twirl\, strut\, and sparkle through every iconic moment. From haunted caverns glowing with secrets to towns ablaze with revelry and rum\, this is the pirate’s life… with a little extra wink. \n\n\n\nAnd fear not\, ye seekers of legends —our Jack Sparrow is ready\, swaggering across the deck with that unmistakable charm and chaotic good looks.And yes… we have the Redhead. Fiery\, fearless\, and fabulous as ever — she’s ready to claim the spotlight\, steal your heart\, and maybe your doubloons. \n\n\n\nExpect sirens who shimmer like moonlit waves\, captains who command with wicked glee\, and pirates who dance like the wind itself. With dazzling costumes\, iconic nods to the original ride\, and burlesque magic in every corner\, Stripwreckeddelivers a treasure trove of wonder\, whimsy\, and a splash of naughty nautical fun. \n\n\n\nHoist your colors\, gather your crew\, and prepare to be enchanted.Dead men tell no tales…but our performers tell them spectacularly. \n\n\n\nDoors open at 8pm \n\n\n\nVIP Ticket Holders will be seated first\, so if you want specific seating\, please buy VIP. \n\n\n\nTipping is highly encouraged! \n\n\n\nThis show is 18+
URL:https://illusionmagiclounge.com/show/stripwrecked-pirates-of-the-caribbean-burlesque-jan-31-2026
CATEGORIES:Dirty Little Secrets Burlesque
ATTACH;FMTTYPE=image/png:https://illusionmagiclounge.com/wp-content/uploads/2025/12/stripwreck.png
END:VEVENT
END:VCALENDAR