BEGIN:VCALENDAR
VERSION:2.0
PRODID:-//Illusion Magic Lounge - ECPv6.15.20//NONSGML v1.0//EN
CALSCALE:GREGORIAN
METHOD:PUBLISH
X-WR-CALNAME:Illusion Magic Lounge
X-ORIGINAL-URL:https://illusionmagiclounge.com
X-WR-CALDESC:Events for Illusion Magic Lounge
REFRESH-INTERVAL;VALUE=DURATION:PT1H
X-Robots-Tag:noindex
X-PUBLISHED-TTL:PT1H
BEGIN:VTIMEZONE
TZID:America/Los_Angeles
BEGIN:DAYLIGHT
TZOFFSETFROM:-0800
TZOFFSETTO:-0700
TZNAME:PDT
DTSTART:20240310T100000
END:DAYLIGHT
BEGIN:STANDARD
TZOFFSETFROM:-0700
TZOFFSETTO:-0800
TZNAME:PST
DTSTART:20241103T090000
END:STANDARD
BEGIN:DAYLIGHT
TZOFFSETFROM:-0800
TZOFFSETTO:-0700
TZNAME:PDT
DTSTART:20250309T100000
END:DAYLIGHT
BEGIN:STANDARD
TZOFFSETFROM:-0700
TZOFFSETTO:-0800
TZNAME:PST
DTSTART:20251102T090000
END:STANDARD
BEGIN:DAYLIGHT
TZOFFSETFROM:-0800
TZOFFSETTO:-0700
TZNAME:PDT
DTSTART:20260308T100000
END:DAYLIGHT
BEGIN:STANDARD
TZOFFSETFROM:-0700
TZOFFSETTO:-0800
TZNAME:PST
DTSTART:20261101T090000
END:STANDARD
END:VTIMEZONE
BEGIN:VEVENT
DTSTART;TZID=America/Los_Angeles:20251105T193000
DTEND;TZID=America/Los_Angeles:20251105T213000
DTSTAMP:20260424T210750
CREATED:20250923T060700Z
LAST-MODIFIED:20250930T024337Z
UID:10000548-1762371000-1762378200@illusionmagiclounge.com
SUMMARY:Scot Nery's Boobietrap
DESCRIPTION:BUY TICKETS @ BOOBIETRAP\n\n\n\n\n\n\n\n\n\n\n\n\n\n\nThe Legendary LA Variety Show Returns…\n\n\n\nSince launching in 2015\, Scot Nery’s Boobietrap has destroyed audiences at hundreds of sold-out performances in Los Angeles and around the West Coast. An underground entertainment phenomenon\, Boobietrap shines as a proof of concept for just how incredible live performance can be. The exquisitely-curated experience serves up one life-changing moment after another\, blowing minds and rebuilding them in real time. “The best variety show in the world.” \n\n\n\nAfter a 5 year hiatus\, Scot Nery’s Boobietrap is ready to introduce you to the finest variety performers in LA!
URL:https://illusionmagiclounge.com/show/scot-nerys-boobie-trap-nov-5-2025
CATEGORIES:Non-Magic Shows,Scot Nery's Boobietrap
ATTACH;FMTTYPE=image/png:https://illusionmagiclounge.com/wp-content/uploads/2025/09/logo-boobietrap-1.png
END:VEVENT
BEGIN:VEVENT
DTSTART;TZID=America/Los_Angeles:20251108T213000
DTEND;TZID=America/Los_Angeles:20251108T233000
DTSTAMP:20260424T210750
CREATED:20251103T050227Z
LAST-MODIFIED:20251108T001355Z
UID:10000571-1762637400-1762644600@illusionmagiclounge.com
SUMMARY:Haunted Mansion Cabaret\, a Spirited Tease
DESCRIPTION:NOTE: This event is produced by a third party.  Please contact Dirty Little Secret Burlesque for any questions related to this event.\n\n\n\n\n\n\n\n\nBuy Tickets\n\n\n\n\n\n\n\n\n\n\n\n\n\n\n\n\nHaunted Mansion Cabaret: A Spirited Tease \n\n\n\nWelcome\, Foolish Mortals\, to an evening of eerie enchantment and tantalizing thrills! Haunted Mansion Cabaret: A Spirited Tease is a burlesque tribute to the 999 happy haunts of Disney’s beloved Haunted Mansion. Step beyond the veil as ghosts\, ghouls\, and spectral seductresses come alive to share their most spine-tingling and scandalous tales. \n\n\n\nFrom the swinging wake of the Graveyard Ghouls to the ghostly glamour of Madame Leota\, our otherworldly performers will be sure to leave you bewitched. This is a night where the supernatural meets the sultry\, and the afterlife has never been so alluring. So bring your mortal curiosity\, but beware—this cabaret has room for one more… \n\n\n\nAre you brave enough to join the spirits for one last tease? \n\n\n\nCome celebrate 20 years od C8 Dynasty with us at Illusion Magic Lounge! \n\n\n\nDoors open at 8pm \n\n\n\nVIP Ticket Holders will be seated first\, so if you want specific seating\, please buy VIP. \n\n\n\nTipping is highly encouraged! \n\n\n\nThis show is 18+ \n\n\n\n\n\n\n\n\nClick here to buy ticketsSell tickets online with Ticket Tailor
URL:https://illusionmagiclounge.com/show/haunted-mansion-cabaret-a-spirited-tease-november-8-2025
CATEGORIES:Dirty Little Secrets Burlesque
ATTACH;FMTTYPE=image/png:https://illusionmagiclounge.com/wp-content/uploads/2025/06/hm-banner-1-e1748932537349.png
END:VEVENT
BEGIN:VEVENT
DTSTART;TZID=America/Los_Angeles:20251112T193000
DTEND;TZID=America/Los_Angeles:20251112T213000
DTSTAMP:20260424T210750
CREATED:20251104T212012Z
LAST-MODIFIED:20251104T212025Z
UID:10000577-1762975800-1762983000@illusionmagiclounge.com
SUMMARY:Scot Nery's Boobietrap
DESCRIPTION:BUY TICKETS @ BOOBIETRAP\n\n\n\n\n\n\n\n\n\n\n\n\n\n\nThe Legendary LA Variety Show Returns…\n\n\n\nSince launching in 2015\, Scot Nery’s Boobietrap has destroyed audiences at hundreds of sold-out performances in Los Angeles and around the West Coast. An underground entertainment phenomenon\, Boobietrap shines as a proof of concept for just how incredible live performance can be. The exquisitely-curated experience serves up one life-changing moment after another\, blowing minds and rebuilding them in real time. “The best variety show in the world.” \n\n\n\nAfter a 5 year hiatus\, Scot Nery’s Boobietrap is ready to introduce you to the finest variety performers in LA!
URL:https://illusionmagiclounge.com/show/scot-nerys-boobietrap-nov-12-2025
CATEGORIES:Non-Magic Shows,Scot Nery's Boobietrap
ATTACH;FMTTYPE=image/png:https://illusionmagiclounge.com/wp-content/uploads/2025/09/logo-boobietrap-1.png
END:VEVENT
BEGIN:VEVENT
DTSTART;TZID=America/Los_Angeles:20251113T190000
DTEND;TZID=America/Los_Angeles:20251113T220000
DTSTAMP:20260424T210750
CREATED:20251103T083619Z
LAST-MODIFIED:20251103T083633Z
UID:10000575-1763060400-1763071200@illusionmagiclounge.com
SUMMARY:Melons for Malak Presented by Pansy St Battie x Burlesque & Chill
DESCRIPTION:NOTE: This event is produced by a third party.  Please contact the producer for any questions related to this event.\n\n\n\n\n\n\n\n\nBuy Tickets @ Eventbrite\n\n\n\n\n\n\n\n\n\n\n\n\n\n\n\n\nA burlesque\, drag\, and live music fundraiser for Malak Saqer\, a nursing student in gaza \n\n\n\nHosted by Pansy St Battie x Burlesque & Chill\, enjoy a fun\, sexy night out and a star-studded cast coming together to support Malak Saqer\, a nursing student in Gaza (read more about her at the bottom!) We’ll have burlesque\, drag\, live music\, vendors\, prizes\, food\, drinks\, a hidden speakeasy spanking booth & more! \n\n\n\nKnow before you go! \n\n\n\n100% of profits from ticket sales will be donated and other fun ways to donate will be available on site. Please bring cash to tip our performers as they’re donating their time to make this possible! \n\n\n\n\n\n\n\nMeet our cast\n\n\n\nLive music by Damag3 \n\n\n\nDrag by: \n\n\n\n\nVander Von Odd\n\n\n\nMauro Cuchi\n\n\n\n\nBurlesque by \n\n\n\n\nPansy St. Battie\n\n\n\nGinger Valentine\n\n\n\nAshleeta\n\n\n\nVHex\n\n\n\nAnna Shevitz\n\n\n\nMz. Juicy Jones\n\n\n\nLa Frida Loka\n\n\n\nAntoinette Minx\n\n\n\n\nDancing by \n\n\n\n\nMiss Lady Legs\n\n\n\nAntoinette Minx\n\n\n\nCassie Dailey\n\n\n\nDJ\n\n\n\nLa Frida Loah\n\n\n\nMaria Monroe\n\n\n\n\nKittening by: \n\n\n\n\nDolly Debauchery\n\n\n\nDeedee Debonair\n\n\n\n\nHosted by Hasadick (live) and Reagan (livestream) \n\n\n\nSilent Auction (with a Fun Twist)\n\n\n\nPrizes including \n\n\n\n\nA custom gaff or binder from Rebirth Garments\n\n\n\nA zine & sticker pack from Rebirth Garments\n\n\n\nNail polish from Tuesday In Love\n\n\n\nA gift card for a pottery class from POT LA\n\n\n\nA hair service & products from Folklore Salon & Barber\n\n\n\nA henna service from Henna By Devna\n\n\n\nAn art print from Evangeline Gallagher\n\n\n\nAn art print from Betty Turbo\n\n\n\nA photoshoot from Hannah Hotchkiss\n\n\n\nShow tickets from Burlesque & Chill\n\n\n\nDance class from Burlesque & Chill\n\n\n\nA week of dog walks or cat care from Dolly’s Petsitting\n\n\n\nPress on nails by Hi Bunny!\n\n\n\nHenna services by Henna by Devna\n\n\n\nPackages by Hint of Tatreez\n\n\n\nA free class at Nova Community Arts\n\n\n\nCandle by Sapphoir Faire\n\n\n\nPin pack from Word for Word Factory\n\n\n\nStickers & Zines from Mestiza Makes\n\n\n\n& a handful of special goodies from Pansy St. Battie\n\n\n\n\nVendors \n\n\n\n\nSpanking Booth with Justine Cross & Lilith Bunny\n\n\n\nJupiter Bloom Jewelry\n\n\n\nSapphoir Faire\n\n\n\nFeral Moments\n\n\n\n\nAbout Illusion Magic Lounge\n\n\n\nIllusion Magic Lounge in Santa Monica is a unique whimsical bar & theatre with food\, drinks\, hidden rooms\, and a passion for supporting the arts. It’s located at 1418 4th Street\, Santa Monica. Santa Monica Public Parking structures #3 & #5 are both within half a block and cost around $5. Volunteer safety escorts are available to walk people to and from their cars. \n\n\n\nCan’t make it in person? We’ll miss you\, but don’t worry! We have a livestream. You can support the cause and get your own special view of the stage from anywhere in the world. Find livestream tickets in the Add-On section (can be purchased without a regular ticket). \n\n\n\nAccess and covid safety: \n\n\n\nThe building is ADA compliant with 0 steps to main areas\, adequate doorways\, and an accessible bathroom. Accessible seating is available for those unable to use stairs. \n\n\n\nAir purifiers will be in use throughout the building. For our immunocompromised staff & cast\, masks will be required when not eating or drinking\, and will be provided for those who need. Covid testing is not required but rapid tests will be available on site for those in need. Please do not attend if you are ill. \n\n\n\nA note from Pansy:\n\n\n\nMalak is a dear friend of mine I was introduced to last year by a mutual friend. \n\n\n\nShe’s a 20 year old nursing student living in Gaza with her family of 9. She’s been completing her coursework surrounded by violence\, trying to build a life where she can help people and reach safety/security\, all while being unable to afford food and necessities. And while neither of these things are a prerequisite to be deserving of support and care\, she’s SUCH a dedicated hard worker and an incredibly kind person. \n\n\n\nEven with everything she’s going through\, she’s always taken the time to check in on me & ask how my friends are when we’ve had our share of newsworthy events in LA. I can’t wait to show her how much our community cares in return. \n\n\n\nOn top of it all\, despite being verified by the butterfly effect project and her fundraiser being a protected gofundme\, bad actors reported her Instagram and her internet connection is inconsistent so she is struggling to get donations. \n\n\n\nThat’s what gave me the idea for this show. I hope it will allow us to give her funds so she can eat and clothe herself and her family\, get school supplies to make her coursework easier\, and meet other needs as they come up. \n\n\n\n\nBuy Tickets @ Eventbrite
URL:https://illusionmagiclounge.com/show/melons-for-malak-presented-by-pansy-st-battie-x-burlesque-chill-nov-13-2025
CATEGORIES:Dirty Little Secrets Burlesque
ATTACH;FMTTYPE=image/jpeg:https://illusionmagiclounge.com/wp-content/uploads/2025/11/melons.jpeg
END:VEVENT
BEGIN:VEVENT
DTSTART;TZID=America/Los_Angeles:20251115T200000
DTEND;TZID=America/Los_Angeles:20251115T230000
DTSTAMP:20260424T210750
CREATED:20250810T033820Z
LAST-MODIFIED:20251114T042147Z
UID:10000509-1763236800-1763247600@illusionmagiclounge.com
SUMMARY:The Dollface Dames Alice in WINEderland
DESCRIPTION:NOTE: This event is produced by a third party.  Please contact the Event Producer for any questions related to this event.\n\n\n\n\n\n\n\n\nBuy Tickets @ TicketSpice\n\n\n\n\n\n\n\n\n✨ Step into the Rabbit Hole… and into a Wonderland like no other! ✨ \n\n\n\nThe Dollface Dames proudly present the debut of Alice in WINEderland — an immersive cabaret\, burlesque\, and variety spectacular at the Illusion Magic Lounge Theater in Santa Monica. 🎩✨ Join us on Saturday\, November 15th for a dazzling night celebrating the 160th anniversary of Lewis Carroll’s timeless tale\, reimagined in a bold\, empowering new script written by Dames Founder Lola Boutée. \n\n\n\n💫 Your favorite Wonderland characters come to life in ways you’ve never seen before — whimsical\, daring\, seductive\, and unforgettable. This isn’t the story you read as a child… this is Alice’s Wonderland\, grown-up and glamorously twisted. A true celebration of female empowerment\, fashion\, dance\, burlesque\, and the arts. ✨ \n\n\n\n🌹 This is THE ultimate night out — glamorous\, playful\, and oh-so-unforgettable. Seating is limited and demand will be high\, so secure your spot in Wonderland before the Queen of Hearts shouts “Off with their heads!” \n\n\n\n📍 Illusion Magic Lounge Theater\, Santa Monica📅 Saturday\, November 15th🍷 Lounge opens early with themed cocktails\, overflowing wine\, & tasty bites — immerse yourself from the moment you arrive. \n\n\n\n✨ Don’t be late for this very important date! \n\n\n\nSuggested age: 18 & over OR accompanied by an adult \n\n\n\nSAVE THE DATE: Saturday\, March 21st 2026 as we celebrate The Queen of Hearts  birthday
URL:https://illusionmagiclounge.com/show/the-dollface-dames-alice-in-winederland-nov-15-2025
CATEGORIES:Dollface Dames,Outside Events
ATTACH;FMTTYPE=image/jpeg:https://illusionmagiclounge.com/wp-content/uploads/2024/01/https___cdn.evbuc_.com_images_586783859_11835622443_1_original-e1728945424558.jpeg
END:VEVENT
BEGIN:VEVENT
DTSTART;TZID=America/Los_Angeles:20251118T193000
DTEND;TZID=America/Los_Angeles:20251118T220000
DTSTAMP:20260424T210750
CREATED:20251103T081031Z
LAST-MODIFIED:20251103T081222Z
UID:10000574-1763494200-1763503200@illusionmagiclounge.com
SUMMARY:Messy Mic presents: Granny Talk
DESCRIPTION:NOTE: This event is produced by a third party.  Please contact the Event Producer for any questions related to this event.\n\n\n\n\n\n\n\n\nBuy Tickets @ TicketTailor\n\n\n\n\n\n\n\n\n\n\n\n\n Use code MAGIC to save some $$$\n\n\n\n\n\n\n\nLife’s messy and so are the stories. We believe the best stories aren’t the polished “highlight reels”\, they’re the messy\, REAL moments that make us who we are. \n\n\n\nMessy Mic is an interactive storytelling experience where anything can happen. Granny Talk is our debut series that highlights the voices of a generation too often overlooked. In giving seniors the mic\, we’re creating more intergenerational connection before these rich stories are lost.  \n\n\n\nWe blend curated stories with audience interaction\, a wildcard storyteller\, and a post-show mixer to wrap up our community experience.  \n\n\n\n\n\n\n\nPRE-SELECTED GRANNIES: Live podcast-styled storytelling with discussion between each other AND with the audience.  \n\n\n\nAUDIENCE PARTICIPATION: The mic opens during Q&A\, but only if you volunteer. Drop your name at intermission for a chance to share your messy on-themed story at the end! \n\n\n\nPOST-SHOW SOCIAL MIXER: After the 2 hour show\, we wind down with an OPTIONAL 1 hour social mixer to connect with the community! Lightly facilitated with optional prompts & social games to encourage you to meet the grannies and new people. \n\n\n\nLet’s to embrace the magic in the mess that make us who we are! Thank you for your support 🙂 \n\n\n\n\n\n\n\nAGE MINIMUM: 18+ but must be 21+ to drink. If you are a parent or guardian interested in allowing a minor (under 18) to attend with you\, please submit request directly to help@messymic.com. \n\n\n\nPARKING: Street parking and garages nearby. Ample public parking at garage a block away at “Santa Monica Structure #5”. Open 24/7 with the first 90 minutes free and goes up $2-4/hour.ACCESSIBILITY: Limited wheelchair accessible seating\, but full front row has zero steps\, and plenty of 1-2 step only seating. Please email help@messymic.comif there are any other accessibility needs or questions. \n\n\n\nFOOD/DRINKS: Please eat before! Unfortunately\, kitchen is not open on Tuesdays. No outside food or beverages are allowed. Venue will serve both alcoholic and NA drinks. \n\n\n\nEMBRACE THE MESS: Life is messy\, and sometimes so are live events! Lineups and run times are subject to change. Embrace the organized chaos with us 🙂 \n\n\n\nMEDIA COVERAGE: This event will photographed and recorded for promotional and archival purposes. By attending\, you consent to your image and/or voice being used in Messy Mic media. \n\n\n\nCOMMUNITY GUIDELINES: Messy Mic is a space for everyone. But most importantly\, it’s a safe space for connection and respect. We ask that all attendees contribute to a welcoming\, inclusive environment. Disruptive or disrespectful behavior will not be tolerated. \n\n\n\nREFUNDS/EXCHANGES: We get it\, life happens! We offer self-serviced ticket refunds (minus booking fee) up to 5 days before the event. After that\, tickets are non-refundable\, but you’re welcome to transfer your ticket to a friend. We can also add this ticket to our giveaways and surprise a random community member with the ticket.  \n\n\n\n\n\n\n\nIf you have any further questions\, please visit our “Frequently Asked Questions” info HERE. \n\n\n\nStill stuck? No worries! Give us an email at help@messymic.com.
URL:https://illusionmagiclounge.com/show/messy-mic-presents-granny-talk-nov-18-2025
CATEGORIES:Comedy Shows,Non-Magic Shows,Outside Events
ATTACH;FMTTYPE=image/jpeg:https://illusionmagiclounge.com/wp-content/uploads/2025/11/1000050969-1-e1762157386253.jpg
END:VEVENT
BEGIN:VEVENT
DTSTART;TZID=America/Los_Angeles:20251119T193000
DTEND;TZID=America/Los_Angeles:20251119T213000
DTSTAMP:20260424T210751
CREATED:20251104T212038Z
LAST-MODIFIED:20251104T212049Z
UID:10000578-1763580600-1763587800@illusionmagiclounge.com
SUMMARY:Scot Nery's Boobietrap
DESCRIPTION:BUY TICKETS @ BOOBIETRAP\n\n\n\n\n\n\n\n\n\n\n\n\n\n\nThe Legendary LA Variety Show Returns…\n\n\n\nSince launching in 2015\, Scot Nery’s Boobietrap has destroyed audiences at hundreds of sold-out performances in Los Angeles and around the West Coast. An underground entertainment phenomenon\, Boobietrap shines as a proof of concept for just how incredible live performance can be. The exquisitely-curated experience serves up one life-changing moment after another\, blowing minds and rebuilding them in real time. “The best variety show in the world.” \n\n\n\nAfter a 5 year hiatus\, Scot Nery’s Boobietrap is ready to introduce you to the finest variety performers in LA!
URL:https://illusionmagiclounge.com/show/scot-nerys-boobietrap-nov-19-2025
CATEGORIES:Non-Magic Shows,Scot Nery's Boobietrap
ATTACH;FMTTYPE=image/png:https://illusionmagiclounge.com/wp-content/uploads/2025/09/logo-boobietrap-1.png
END:VEVENT
BEGIN:VEVENT
DTSTART;TZID=America/Los_Angeles:20251126T193000
DTEND;TZID=America/Los_Angeles:20251126T213000
DTSTAMP:20260424T210751
CREATED:20251104T212059Z
LAST-MODIFIED:20251104T212108Z
UID:10000579-1764185400-1764192600@illusionmagiclounge.com
SUMMARY:Scot Nery's Boobietrap
DESCRIPTION:BUY TICKETS @ BOOBIETRAP\n\n\n\n\n\n\n\n\n\n\n\n\n\n\nThe Legendary LA Variety Show Returns…\n\n\n\nSince launching in 2015\, Scot Nery’s Boobietrap has destroyed audiences at hundreds of sold-out performances in Los Angeles and around the West Coast. An underground entertainment phenomenon\, Boobietrap shines as a proof of concept for just how incredible live performance can be. The exquisitely-curated experience serves up one life-changing moment after another\, blowing minds and rebuilding them in real time. “The best variety show in the world.” \n\n\n\nAfter a 5 year hiatus\, Scot Nery’s Boobietrap is ready to introduce you to the finest variety performers in LA!
URL:https://illusionmagiclounge.com/show/scot-nerys-boobietrap-nov-26-2025
CATEGORIES:Non-Magic Shows,Scot Nery's Boobietrap
ATTACH;FMTTYPE=image/png:https://illusionmagiclounge.com/wp-content/uploads/2025/09/logo-boobietrap-1.png
END:VEVENT
END:VCALENDAR