BEGIN:VCALENDAR
VERSION:2.0
PRODID:-//Illusion Magic Lounge - ECPv6.15.20//NONSGML v1.0//EN
CALSCALE:GREGORIAN
METHOD:PUBLISH
X-WR-CALNAME:Illusion Magic Lounge
X-ORIGINAL-URL:https://illusionmagiclounge.com
X-WR-CALDESC:Events for Illusion Magic Lounge
REFRESH-INTERVAL;VALUE=DURATION:PT1H
X-Robots-Tag:noindex
X-PUBLISHED-TTL:PT1H
BEGIN:VTIMEZONE
TZID:America/Los_Angeles
BEGIN:DAYLIGHT
TZOFFSETFROM:-0800
TZOFFSETTO:-0700
TZNAME:PDT
DTSTART:20240310T100000
END:DAYLIGHT
BEGIN:STANDARD
TZOFFSETFROM:-0700
TZOFFSETTO:-0800
TZNAME:PST
DTSTART:20241103T090000
END:STANDARD
BEGIN:DAYLIGHT
TZOFFSETFROM:-0800
TZOFFSETTO:-0700
TZNAME:PDT
DTSTART:20250309T100000
END:DAYLIGHT
BEGIN:STANDARD
TZOFFSETFROM:-0700
TZOFFSETTO:-0800
TZNAME:PST
DTSTART:20251102T090000
END:STANDARD
BEGIN:DAYLIGHT
TZOFFSETFROM:-0800
TZOFFSETTO:-0700
TZNAME:PDT
DTSTART:20260308T100000
END:DAYLIGHT
BEGIN:STANDARD
TZOFFSETFROM:-0700
TZOFFSETTO:-0800
TZNAME:PST
DTSTART:20261101T090000
END:STANDARD
END:VTIMEZONE
BEGIN:VEVENT
DTSTART;TZID=America/Los_Angeles:20250710T203000
DTEND;TZID=America/Los_Angeles:20250710T223000
DTSTAMP:20260425T040552
CREATED:20250603T063157Z
LAST-MODIFIED:20250603T063207Z
UID:10000463-1752179400-1752186600@illusionmagiclounge.com
SUMMARY:High Note Comedy LA
DESCRIPTION:BUY TICKETS!\n\n\n\n\n\n\n\n\n\n\n\n\nLineup for July 10: \n\n\n\n\nTBA\n\n\n\n\n\n\n\n\n \n\n\n\nEnjoy beer\, wine\, soju cocktails and a hilarious night out with High Note Comedy! \n\n\n\nLocated at the Illusion Magic Lounge in Downtown Santa Monica\, High Note is a bi-weekly show featuring performances by the best comedians in the country. You’ve seen them on Netflix\, Hulu\, Comedy Central\, all manner of Late Night performances\, and even some of your favorite television shows! \n\n\n\nCome at 8:30 to enjoy the super-cozy lounge area\, grab some drinks and a snack\, and relax before the show which starts promptly at 9pm in the Courtroom theater.  \n\n\n\n—————————————- \n\n\n\nAT A GLANCE: \n\n\n\n\nHigh Note takes place on the First and Third Thursdays of every month.\n\n\n\nTickets are $10 in advance\, $15 at the door. \n\n\n\nThe show runs for about 90 minutes\, ending around 10:30.\n\n\n\nIllusion Magic Lounge has delicious snacks and appetizers available for purchase.\n\n\n\nThe bar remains staffed during the show\, feel free to get a refill! There is no drink minimum at High Note. \n\n\n\n\n—————————————- \n\n\n\nGETTING THERE: \n\n\n\n\nThe fastest way to get to Illusion Magic Lounge is to simply take the 10 towards Santa Monica\, take the 5th St/4th St. exit\, turn right on to 4th\, and park in Structure 5. \n\n\n\nParking Structure 5 is right next door to the venue and is free for the first hour and a half. As that’s roughly the length of our show\, you’ll likely be at the 2 hour mark which is only $2. If you get to Santa Monica early or stay later\, parking rates are very reasonable at $5 for 3hrs and $9 for 4hrs.\n\n\n\nThe Metro E-Line stretches from East LA\, through DTLA\, and all the way to Santa Monica where it stops 2 blocks away from our show. Go Metro!\n\n\n\n\n\n\n\n\n\n\n\n\n\nClick here to buy ticketsSell tickets online with Ticket Tailor
URL:https://illusionmagiclounge.com/show/high-note-comedy-la-july-10-2025
LOCATION:The Courtroom Theater
CATEGORIES:High Note Comedy,Non-Magic Shows
ATTACH;FMTTYPE=image/png:https://illusionmagiclounge.com/wp-content/uploads/2025/02/013025-POSTER-e1738894515638.png
END:VEVENT
BEGIN:VEVENT
DTSTART;TZID=America/Los_Angeles:20250713T123000
DTEND;TZID=America/Los_Angeles:20250713T140000
DTSTAMP:20260425T040552
CREATED:20250701T015213Z
LAST-MODIFIED:20250701T015220Z
UID:10000485-1752409800-1752415200@illusionmagiclounge.com
SUMMARY:Lighting For Dance and Burlesque Class
DESCRIPTION:NOTE: This class is produced by a third party.  Please contact the Event Producer for any questions related to this event.\n\n\n\n\n\n\n\n\nBuy Tickets @ Eventbrite\n\n\n\n\n\n\n\n\n\n\n\n\nLighting Workshop for Dancers and Burlesque Performers. \n\n\n\nYou have an amazing act\, learn how to make it shine! \n\n\n\nIn this 90 minute class veteran performer and theatrical lighting designer Max Moxie will teach you how to use light to make your act dazzle in any setting. \n\n\n\nWhether you’re performing ambience at a house party or headlining on a proscenium stage\, learn how correct lighting makes your costume shine and every move explode off the stage! \n\n\n\nHere’s what you’ll get in this class: \n\n\n\n• How to craft professional lighting for your act \n\n\n\n• How to identify and utilize available lighting in any size venue \n\n\n\n• How to communicate lighting requests with venues ahead of time \n\n\n\n• How to adjust acts based on lighting \n\n\n\nClass will be taught in person at Illusion Magic Lounge. If desired you can bring 1 item (a simple dress\, corset\, or prop\, etc.) so you can see for yourself how to light it. \n\n\n\nMake those rhinestones shimmer and those jaws drop! \n\n\n\nWe have different packages available for a variety of budgets: \n\n\n\n1) Attendance to the workshop – $35 \n\n\n\n2) Attendance to the workshop plus lifetime access to the video replay – $45 \n\n\n\n3) VIP – Attendance to the workshop \n\n\n\n\nplus lifetime access to the video replay\n\n\n\nPlus free attendance to the Vixen DeVille Burlesuqe Academy Showcase – $65\n\n\n\n\nAbout the instructor:Max Moxie is a professor for the Vixen DeVille Burlesque Academy who specializes in masculesque and theatricality. He has been a professional theatrical performer and designer for over 20 years and has worked on shows of every size from street busking to huge national tours. He is a staple in the LA scene\, designing lights and sound for a slew of major Burlesque\, magic\, cabaret\, and Theatre shows.
URL:https://illusionmagiclounge.com/show/lighting-for-dance-and-burlesque-class-july-11-2023
CATEGORIES:Non-Magic Shows
ATTACH;FMTTYPE=image/png:https://illusionmagiclounge.com/wp-content/uploads/2025/06/lighting-class.png
END:VEVENT
BEGIN:VEVENT
DTSTART;TZID=America/Los_Angeles:20250719T200000
DTEND;TZID=America/Los_Angeles:20250719T230000
DTSTAMP:20260425T040552
CREATED:20250505T073449Z
LAST-MODIFIED:20250630T195511Z
UID:10000455-1752955200-1752966000@illusionmagiclounge.com
SUMMARY:The Dollface Dames Geek to Chic Burlesque Spectacular
DESCRIPTION:NOTE: This event is produced by a third party.  Please contact the Event Producer for any questions related to this event.\n\n\n\n\n\n\n\n\nBuy Tickets @ TicketSpice\n\n\n\n\n\n\n\n\n\n\n\n\nThe Dollface Dames & Lola Boutée Presents: Main Stage Spectacular \n\n\n\nA noir mix of acrobatics\, burlesque\, group dances\, fire\, & aerial! \n\n\n\nLet the lights dim and grab your seats at this historic Santa Monica stadium seating theater! Celebrating 17 years as LA’s premier burlesque & cabaret company! \n\n\n\nSaturday\, July 19th Geek To Chic: Fantasies come to life with this Cosplay Gone Wild event! \n\n\n\n8pm Preparty Mix & Mingle with Roaming Characters & maybe even catch a pop-up performance or two! Arrive early to sip tasty beverages & bites at the swanky magical lobby bar! \n\n\n\n9:30pm Seating & Main Stage Show \n\n\n\n@Ilusion Magic Lounge \n\n\n\n1418 4th St\, Santa Monica\, CA 90401 \n\n\n\nAct fast! Discounted tickets the earlier you buy while supplies last!  \n\n\n\nGo VIP to be let into the theater first to pick the best seats AND get a souvenir photo to take home with you! \n\n\n\nDoor $50GA/$95 VIP \n\n\n\nSuggested age: 18 & over OR accompanied by an adult \n\n\n\nPaid Public Parking structure located next door on 4th street and surrounding lots. \n\n\n\nAdditional Info: \n\n\n\nTipping is encouraged and tip hats will be circulated. \n\n\n\nTickets are non-refundable but can be transferred to another individual. \n\n\n\n2 item minimum per person in support of our venue. Thank you for supporting the arts & live entertainment spaces! \n\n\n\nAdditional info/parties/special requests: thedollfacedames@gmail.com
URL:https://illusionmagiclounge.com/show/the-dollface-dames-main-stage-spectacular-july-19-2025
CATEGORIES:Dollface Dames,Outside Events
ATTACH;FMTTYPE=image/jpeg:https://illusionmagiclounge.com/wp-content/uploads/2024/01/https___cdn.evbuc_.com_images_586783859_11835622443_1_original-e1728945424558.jpeg
END:VEVENT
BEGIN:VEVENT
DTSTART;TZID=America/Los_Angeles:20250724T203000
DTEND;TZID=America/Los_Angeles:20250724T223000
DTSTAMP:20260425T040552
CREATED:20250603T063333Z
LAST-MODIFIED:20250603T063342Z
UID:10000464-1753389000-1753396200@illusionmagiclounge.com
SUMMARY:High Note Comedy LA
DESCRIPTION:BUY TICKETS!\n\n\n\n\n\n\n\n\n\n\n\n\nLineup for July 24: \n\n\n\n\nTBA\n\n\n\n\n\n\n\n\n \n\n\n\nEnjoy beer\, wine\, soju cocktails and a hilarious night out with High Note Comedy! \n\n\n\nLocated at the Illusion Magic Lounge in Downtown Santa Monica\, High Note is a bi-weekly show featuring performances by the best comedians in the country. You’ve seen them on Netflix\, Hulu\, Comedy Central\, all manner of Late Night performances\, and even some of your favorite television shows! \n\n\n\nCome at 8:30 to enjoy the super-cozy lounge area\, grab some drinks and a snack\, and relax before the show which starts promptly at 9pm in the Courtroom theater.  \n\n\n\n—————————————- \n\n\n\nAT A GLANCE: \n\n\n\n\nHigh Note takes place on the First and Third Thursdays of every month.\n\n\n\nTickets are $10 in advance\, $15 at the door. \n\n\n\nThe show runs for about 90 minutes\, ending around 10:30.\n\n\n\nIllusion Magic Lounge has delicious snacks and appetizers available for purchase.\n\n\n\nThe bar remains staffed during the show\, feel free to get a refill! There is no drink minimum at High Note. \n\n\n\n\n—————————————- \n\n\n\nGETTING THERE: \n\n\n\n\nThe fastest way to get to Illusion Magic Lounge is to simply take the 10 towards Santa Monica\, take the 5th St/4th St. exit\, turn right on to 4th\, and park in Structure 5. \n\n\n\nParking Structure 5 is right next door to the venue and is free for the first hour and a half. As that’s roughly the length of our show\, you’ll likely be at the 2 hour mark which is only $2. If you get to Santa Monica early or stay later\, parking rates are very reasonable at $5 for 3hrs and $9 for 4hrs.\n\n\n\nThe Metro E-Line stretches from East LA\, through DTLA\, and all the way to Santa Monica where it stops 2 blocks away from our show. Go Metro!\n\n\n\n\n\n\n\n\n\n\n\n\n\nClick here to buy ticketsSell tickets online with Ticket Tailor
URL:https://illusionmagiclounge.com/show/high-note-comedy-la-july-24-2025
LOCATION:The Courtroom Theater
CATEGORIES:High Note Comedy,Non-Magic Shows
ATTACH;FMTTYPE=image/png:https://illusionmagiclounge.com/wp-content/uploads/2025/02/013025-POSTER-e1738894515638.png
END:VEVENT
BEGIN:VEVENT
DTSTART;TZID=America/Los_Angeles:20250731T193000
DTEND;TZID=America/Los_Angeles:20250731T223000
DTSTAMP:20260425T040552
CREATED:20250327T060551Z
LAST-MODIFIED:20250726T010337Z
UID:10000430-1753990200-1754001000@illusionmagiclounge.com
SUMMARY:Dana Benedict's Alchemy and Poetry
DESCRIPTION:BUY TICKETS!\n\n\n\n\n\n\n\n\n\n\n\n\n A new music theatre experience \n\n\n\nA musical mystical journey through ethereal realms of whimsy and folklore and personal tales. \n\n\n\nAll original music written and performed by Dana Benedict. Backed by a full band with piano\, stand up bass\, drums\, electric guitar\, mandolin\, percussion\, accordion\, clarinet\, theremin\, cello\, glockenspiel \, and backing vocals) featuring dancers\, aerialists\, and film segments.  \n\n\n\nDana Benedict’s ethereal voice will lead the way through haunting melodies leaving you wanting more of her siren’s call. This show is Dana Benedict’s ethereal fever dream come true.  \n\n\n\n \n\n\n\nThursday\, July 31st at Illusion Magic Lounge\, Santa Monica \n\n\n\nDoors & Immersive Pre-Show at 7:30 PM\, Stage Show at 8:30 PM \n\n\n\nTickets\n\n\n\n$40 general admission \n\n\n\n$65 VIP includes prime reserved seating\, a glass of bubbles\, and a one-on-one immersive experience. \n\n\n\nAll ages welcome \n\n\n\n \n\n\n\nWhat audiences are saying: \n\n\n\n \n\n\n\n“Dana was born to be on the stage. Her presence and performance are unmatched\, and there’s no denying her blinding talent across the board. This is not a show to miss. “ \n\n\n\n“I absolutely LOVED this show and would come see it again and bring people with me. As someone raised and working in theater currently\, shows like these specifically\, are extremely important. \n\n\n\nour songs are so incredibly relatable. I felt so seen and heard and understood. The combination of different performing artists were aesthetically and narratively so soothing\, interesting\, and exciting. \n\n\n\nI loved every time Dana was personal with us\, and so authentic and herself. Her work\, her show and her as a person is so inspiring! “ \n\n\n\n“An amazing multidisciplinary showcase with impressive creativity throughout <3” \n\n\n\n“Simple and elegantly produced. “ \n\n\n\n“I’m so happy that I got to experience it! Dana brings such an immersive and theatrical quality to her performance. Her style is like a crossover of Tori Amos and Emilie Autumn but with a unique power all her own. She sings without abandon and captivates the audience with a clear love for her craft! I immediately added her music to my collection and as I listened back on the way home\, it was so easy to visualize the cinematic caliber she brings. This is an artist you must see live! “ \n\n\n\nAbout Dana\n\n\n\nBased in Los Angeles\, California\, Dana Benedict is a multi-disciplinary performer and musician. She first studied dance at a young age\, going on to star in a national tour of a Broadway musical. Branching from these theatre roots\, Dana studied non-traditional performance techniques around the world; a pursuit which developed her signature blend of folk\, Gothic\, and vaudeville influences. Today\, Dana continues to combine music\, dance\, and acting in a variety of unexpected ways\, from clowning to immersive theatre to virtual reality. Additionally\, Dana is a professional vocal coach and dance instructor. Dana uses her musical theatre training mixed with a love of folk and ethereal sounds in her songwriting. Today Dana’s writing has been featured in theatrical performances and placed in film. When she is not composing\, clowning around or tap dancing Dana loves to spend time with her pet rabbit\, Hermie. \n\n\n\n\n\n\n\n\n\n\n\n\nClick here to buy ticketsSell tickets online with Ticket Tailor
URL:https://illusionmagiclounge.com/show/dana-benedicts-alchemy-and-poetry-july-31-2025
CATEGORIES:Non-Magic Shows
ATTACH;FMTTYPE=image/jpeg:https://illusionmagiclounge.com/wp-content/uploads/2025/03/AP-facebook-cover-2.jpg
END:VEVENT
END:VCALENDAR