BEGIN:VCALENDAR
VERSION:2.0
PRODID:-//Illusion Magic Lounge - ECPv6.15.20//NONSGML v1.0//EN
CALSCALE:GREGORIAN
METHOD:PUBLISH
X-WR-CALNAME:Illusion Magic Lounge
X-ORIGINAL-URL:https://illusionmagiclounge.com
X-WR-CALDESC:Events for Illusion Magic Lounge
REFRESH-INTERVAL;VALUE=DURATION:PT1H
X-Robots-Tag:noindex
X-PUBLISHED-TTL:PT1H
BEGIN:VTIMEZONE
TZID:America/Los_Angeles
BEGIN:DAYLIGHT
TZOFFSETFROM:-0800
TZOFFSETTO:-0700
TZNAME:PDT
DTSTART:20240310T100000
END:DAYLIGHT
BEGIN:STANDARD
TZOFFSETFROM:-0700
TZOFFSETTO:-0800
TZNAME:PST
DTSTART:20241103T090000
END:STANDARD
BEGIN:DAYLIGHT
TZOFFSETFROM:-0800
TZOFFSETTO:-0700
TZNAME:PDT
DTSTART:20250309T100000
END:DAYLIGHT
BEGIN:STANDARD
TZOFFSETFROM:-0700
TZOFFSETTO:-0800
TZNAME:PST
DTSTART:20251102T090000
END:STANDARD
BEGIN:DAYLIGHT
TZOFFSETFROM:-0800
TZOFFSETTO:-0700
TZNAME:PDT
DTSTART:20260308T100000
END:DAYLIGHT
BEGIN:STANDARD
TZOFFSETFROM:-0700
TZOFFSETTO:-0800
TZNAME:PST
DTSTART:20261101T090000
END:STANDARD
END:VTIMEZONE
BEGIN:VEVENT
DTSTART;TZID=America/Los_Angeles:20250410T203000
DTEND;TZID=America/Los_Angeles:20250410T223000
DTSTAMP:20260425T085010
CREATED:20250324T014032Z
LAST-MODIFIED:20250411T001933Z
UID:10000426-1744317000-1744324200@illusionmagiclounge.com
SUMMARY:High Note Comedy LA
DESCRIPTION:BUY TICKETS!\n\n\n\n\n\n\n\n\n\n\n\n\n\n\n\n\nLineup for April 10: \n\n\n\n\nKarl Hess\n\n\n\nNick Rutherford\n\n\n\nAmanda G\n\n\n\nEli Olsberg\n\n\n\nLucy Grebin\n\n\n\nDave Merheje\n\n\n\n\n\n\n\n\n \n\n\n\nEnjoy beer\, wine\, soju cocktails and a hilarious night out with High Note Comedy! \n\n\n\nLocated at the Illusion Magic Lounge in Downtown Santa Monica\, High Note is a bi-weekly show featuring performances by the best comedians in the country. You’ve seen them on Netflix\, Hulu\, Comedy Central\, all manner of Late Night performances\, and even some of your favorite television shows! \n\n\n\nCome at 9:30 to enjoy the super-cozy lounge area\, grab some drinks and a snack\, and relax before the show which starts promptly at 8pm in the main theater.  \n\n\n\n—————————————- \n\n\n\nAT A GLANCE: \n\n\n\n\nHigh Note takes place on the First and Third Thursdays of every month.\n\n\n\nTickets are $10 in advance\, $15 at the door. \n\n\n\nThe show runs for about 90 minutes\, ending around 11:30.\n\n\n\nIllusion Magic Lounge has delicious snacks and appetizers\, but the theater itself is drinks-only so be sure to finish eating before heading in!\n\n\n\nThe bar remains staffed during the show\, feel free to get a refill! There is no drink minimum at High Note. \n\n\n\n\n—————————————- \n\n\n\nGETTING THERE: \n\n\n\n\nThe fastest way to get to Illusion Magic Lounge is to simply take the 10 towards Santa Monica\, take the 5th St/4th St. exit\, turn right on to 4th\, and park in Structure 5. \n\n\n\nParking Structure 5 is right next door to the venue and is free for the first hour and a half. As that’s roughly the length of our show\, you’ll likely be at the 2 hour mark which is only $2. If you get to Santa Monica early or stay later\, parking rates are very reasonable at $5 for 3hrs and $9 for 4hrs.\n\n\n\nThe Metro E-Line stretches from East LA\, through DTLA\, and all the way to Santa Monica where it stops 2 blocks away from our show. Go Metro!\n\n\n\n\n\n\n\n\n\n\n\n\n\nClick here to buy ticketsSell tickets online with Ticket Tailor
URL:https://illusionmagiclounge.com/show/high-note-comedy-la-april-10-2025
LOCATION:The Courtroom Theater
CATEGORIES:High Note Comedy,Non-Magic Shows
ATTACH;FMTTYPE=image/png:https://illusionmagiclounge.com/wp-content/uploads/2025/02/013025-POSTER-e1738894515638.png
END:VEVENT
BEGIN:VEVENT
DTSTART;TZID=America/Los_Angeles:20250424T203000
DTEND;TZID=America/Los_Angeles:20250424T223000
DTSTAMP:20260425T085010
CREATED:20250324T014141Z
LAST-MODIFIED:20250419T045357Z
UID:10000427-1745526600-1745533800@illusionmagiclounge.com
SUMMARY:High Note Comedy LA
DESCRIPTION:BUY TICKETS!\n\n\n\n\n\n\n\n\n\n\n\n\n\n\n\n\nLineup for April 24: \n\n\n\n\nRobert Schultz\n\n\n\nAndrew Michaan\n\n\n\nLisa Chanoux\n\n\n\nMary Houlihan\n\n\n\nAndrew Stier\n\n\n\nJessica Singer\n\n\n\n\n\n\n\n\n \n\n\n\nEnjoy beer\, wine\, soju cocktails and a hilarious night out with High Note Comedy! \n\n\n\nLocated at the Illusion Magic Lounge in Downtown Santa Monica\, High Note is a bi-weekly show featuring performances by the best comedians in the country. You’ve seen them on Netflix\, Hulu\, Comedy Central\, all manner of Late Night performances\, and even some of your favorite television shows! \n\n\n\nCome at 9:30 to enjoy the super-cozy lounge area\, grab some drinks and a snack\, and relax before the show which starts promptly at 8pm in the main theater.  \n\n\n\n—————————————- \n\n\n\nAT A GLANCE: \n\n\n\n\nHigh Note takes place on the First and Third Thursdays of every month.\n\n\n\nTickets are $10 in advance\, $15 at the door. \n\n\n\nThe show runs for about 90 minutes\, ending around 11:30.\n\n\n\nIllusion Magic Lounge has delicious snacks and appetizers\, but the theater itself is drinks-only so be sure to finish eating before heading in!\n\n\n\nThe bar remains staffed during the show\, feel free to get a refill! There is no drink minimum at High Note. \n\n\n\n\n—————————————- \n\n\n\nGETTING THERE: \n\n\n\n\nThe fastest way to get to Illusion Magic Lounge is to simply take the 10 towards Santa Monica\, take the 5th St/4th St. exit\, turn right on to 4th\, and park in Structure 5. \n\n\n\nParking Structure 5 is right next door to the venue and is free for the first hour and a half. As that’s roughly the length of our show\, you’ll likely be at the 2 hour mark which is only $2. If you get to Santa Monica early or stay later\, parking rates are very reasonable at $5 for 3hrs and $9 for 4hrs.\n\n\n\nThe Metro E-Line stretches from East LA\, through DTLA\, and all the way to Santa Monica where it stops 2 blocks away from our show. Go Metro!\n\n\n\n\n\n\n\n\n\n\n\n\n\nClick here to buy ticketsSell tickets online with Ticket Tailor
URL:https://illusionmagiclounge.com/show/high-note-comedy-la-april-24-2025
LOCATION:The Courtroom Theater
CATEGORIES:High Note Comedy,Non-Magic Shows
ATTACH;FMTTYPE=image/png:https://illusionmagiclounge.com/wp-content/uploads/2025/02/013025-POSTER-e1738894515638.png
END:VEVENT
BEGIN:VEVENT
DTSTART;TZID=America/Los_Angeles:20250426T200000
DTEND;TZID=America/Los_Angeles:20250426T230000
DTSTAMP:20260425T085010
CREATED:20250303T202540Z
LAST-MODIFIED:20250303T202549Z
UID:10000409-1745697600-1745708400@illusionmagiclounge.com
SUMMARY:The Dollface Dames Burlesque Hall of Fame Fundraiser
DESCRIPTION:NOTE: This event is produced by a third party.  Please contact the Event Producer for any questions related to this event.\n\n\n\n\n\n\n\n\nBuy Tickets @ HumanTix\n\n\n\n\n\n\n\n\n\n\n\n\nThe Dollface Dames & Lola Boutée Presents: Main Stage Spectacular \n\n\n\nA noir mix of acrobatics\, burlesque\, group dances\, fire\, & aerial! \n\n\n\nLet the lights dim and grab your seats at this historic Santa Monica stadium seating theater! Celebrating 17 years as LA’s premier burlesque & cabaret company! \n\n\n\nSaturday\, April 26th Burlesque Hall of Fame Fundraiser: All Star Soloists coming together for one epic night! \n\n\n\nSaturday\, May 31st Geek To Chic: It’s Cosplay Gone Wild! \n\n\n\n8pm Preparty Mix & Mingle with Roaming Characters & maybe even catch a pop-up performance or two! Arrive early to sip tasty beverages & bites at the swanky magical lobby bar! \n\n\n\n9:30pm Seating & Main Stage Show \n\n\n\n@Ilusion Magic Lounge \n\n\n\n1418 4th St\, Santa Monica\, CA 90401 \n\n\n\nAct fast! Discounted tickets the earlier you buy while supplies last!  \n\n\n\nGo VIP to be let into the theater first to pick the best seats AND get a souvenir photo to take home with you! \n\n\n\nDoor $50GA/$95 VIP \n\n\n\nSuggested age: 18 & over OR accompanied by an adult \n\n\n\nPaid Public Parking structure located next door on 4th street and surrounding lots. \n\n\n\nAdditional Info: \n\n\n\nTipping is encouraged and tip hats will be circulated. \n\n\n\nTickets are non-refundable but can be transferred to another individual. \n\n\n\n2 item minimum per person in support of our venue. Thank you for supporting the arts & live entertainment spaces! \n\n\n\nAdditional info/parties/special requests: thedollfacedames@gmail.com
URL:https://illusionmagiclounge.com/show/the-dollface-dames-burlesque-hall-of-fame-fundraiser-april-26-2025
CATEGORIES:Dollface Dames,Outside Events
ATTACH;FMTTYPE=image/jpeg:https://illusionmagiclounge.com/wp-content/uploads/2024/01/https___cdn.evbuc_.com_images_586783859_11835622443_1_original-e1728945424558.jpeg
END:VEVENT
END:VCALENDAR