BEGIN:VCALENDAR
VERSION:2.0
PRODID:-//Illusion Magic Lounge - ECPv6.15.20//NONSGML v1.0//EN
CALSCALE:GREGORIAN
METHOD:PUBLISH
X-WR-CALNAME:Illusion Magic Lounge
X-ORIGINAL-URL:https://illusionmagiclounge.com
X-WR-CALDESC:Events for Illusion Magic Lounge
REFRESH-INTERVAL;VALUE=DURATION:PT1H
X-Robots-Tag:noindex
X-PUBLISHED-TTL:PT1H
BEGIN:VTIMEZONE
TZID:America/Los_Angeles
BEGIN:DAYLIGHT
TZOFFSETFROM:-0800
TZOFFSETTO:-0700
TZNAME:PDT
DTSTART:20250309T100000
END:DAYLIGHT
BEGIN:STANDARD
TZOFFSETFROM:-0700
TZOFFSETTO:-0800
TZNAME:PST
DTSTART:20251102T090000
END:STANDARD
BEGIN:DAYLIGHT
TZOFFSETFROM:-0800
TZOFFSETTO:-0700
TZNAME:PDT
DTSTART:20260308T100000
END:DAYLIGHT
BEGIN:STANDARD
TZOFFSETFROM:-0700
TZOFFSETTO:-0800
TZNAME:PST
DTSTART:20261101T090000
END:STANDARD
BEGIN:DAYLIGHT
TZOFFSETFROM:-0800
TZOFFSETTO:-0700
TZNAME:PDT
DTSTART:20270314T100000
END:DAYLIGHT
BEGIN:STANDARD
TZOFFSETFROM:-0700
TZOFFSETTO:-0800
TZNAME:PST
DTSTART:20271107T090000
END:STANDARD
END:VTIMEZONE
BEGIN:VEVENT
DTSTART;TZID=America/Los_Angeles:20260522T190000
DTEND;TZID=America/Los_Angeles:20260522T210000
DTSTAMP:20260424T173504
CREATED:20260403T204402Z
LAST-MODIFIED:20260403T204421Z
UID:10000939-1779476400-1779483600@illusionmagiclounge.com
SUMMARY:Magic by the Sea: Jonathan Neal & Christopher Hart
DESCRIPTION:BUY TICKETS!\n\n\n\n\n\n\n\n\n\n\n\n\n\n\n\n\n\n\n\n\n\n\n\n\n\n\nYour evening of magic and mystery!\n\n\n\nGet ready to unlock a full evening of magical entertainment for your enjoyment. Our unique venue provides you the opportunity to see multiple types of magic in a single evening. You’ll be dazzled by our ambient\, strolling magicians while you enjoy a refreshing beverage. Entering our 150-seat theater\, you’ll see even more magicians dazzle you with mind-bending illusions on our grand stage. And to finish out your enchanting evening\, our intimate Court Room hosts a formal close up show — a unique format rarely seen outside the Magic Castle in Hollywood. \n\n\n\nJoin us and find out why we are Santa Monica’s Most Magical Experience! \n\n\n\n\n\n\n\nUpgrade for our exclusive VIP Experience\n\n\n\nLooking to get the most out of your magical evening? We offer a limited number of VIP Experiences for each show. You’ll start off your VIP Experience with a welcome glass of bubbles (or non-alcoholic alternative) and enjoy our strolling magic with other guests. When it’s time to head into the theater\, we’ve reserved the best seats for our VIP’s Experience. Simply put\, this is the best way to experience a magical evening out in Downtown Santa Monica. \n\n\n\nNOTE: We have limited VIP availability to preserve the quality of the VIP Experience. \n\n\n\n\n\n\n\nAbout our Performers\n\n\n\nJonathan Neal\n\n\n\nJonathan Neal has been performing magic at the highest levels for decades.  A regular performer at the Magic Castle in Hollywood\, check out how this former resident magician at Wizards at Universal Citywalk brings his unique style and class to the stage. \n\n\n\nChristopher Hart\n\n\n\nLet this Award winning Magician who played ‘Thing’ the disembodied hand in the Addams Family films beguile you with his incredible manual dexterity. \n\n\n\n\n\n\n\n\n\n\n\n\n\n\n\n\nClick here to buy ticketsSell tickets online with Ticket Tailor
URL:https://illusionmagiclounge.com/show/magic-by-the-sea-jonathan-neal-christopher-hart-may-22
CATEGORIES:Magic Shows
ATTACH;FMTTYPE=image/png:https://illusionmagiclounge.com/wp-content/uploads/2026/04/Jonathan-Neal-Christopher-Hart-May-22-23-30-PNG.png
END:VEVENT
BEGIN:VEVENT
DTSTART;TZID=America/Los_Angeles:20260523T190000
DTEND;TZID=America/Los_Angeles:20260523T210000
DTSTAMP:20260424T173504
CREATED:20260403T204546Z
LAST-MODIFIED:20260403T204606Z
UID:10000940-1779562800-1779570000@illusionmagiclounge.com
SUMMARY:Magic by the Sea: Jonathan Neal & Christopher Hart
DESCRIPTION:BUY TICKETS!\n\n\n\n\n\n\n\n\n\n\n\n\n\n\n\n\n\n\n\n\n\n\n\n\n\n\nYour evening of magic and mystery!\n\n\n\nGet ready to unlock a full evening of magical entertainment for your enjoyment. Our unique venue provides you the opportunity to see multiple types of magic in a single evening. You’ll be dazzled by our ambient\, strolling magicians while you enjoy a refreshing beverage. Entering our 150-seat theater\, you’ll see even more magicians dazzle you with mind-bending illusions on our grand stage. And to finish out your enchanting evening\, our intimate Court Room hosts a formal close up show — a unique format rarely seen outside the Magic Castle in Hollywood. \n\n\n\nJoin us and find out why we are Santa Monica’s Most Magical Experience! \n\n\n\n\n\n\n\nUpgrade for our exclusive VIP Experience\n\n\n\nLooking to get the most out of your magical evening? We offer a limited number of VIP Experiences for each show. You’ll start off your VIP Experience with a welcome glass of bubbles (or non-alcoholic alternative) and enjoy our strolling magic with other guests. When it’s time to head into the theater\, we’ve reserved the best seats for our VIP’s Experience. Simply put\, this is the best way to experience a magical evening out in Downtown Santa Monica. \n\n\n\nNOTE: We have limited VIP availability to preserve the quality of the VIP Experience. \n\n\n\n\n\n\n\nAbout our Performers\n\n\n\nJonathan Neal\n\n\n\nJonathan Neal has been performing magic at the highest levels for decades.  A regular performer at the Magic Castle in Hollywood\, check out how this former resident magician at Wizards at Universal Citywalk brings his unique style and class to the stage. \n\n\n\nChristopher Hart\n\n\n\nLet this Award winning Magician who played ‘Thing’ the disembodied hand in the Addams Family films beguile you with his incredible manual dexterity. \n\n\n\n\n\n\n\n\n\n\n\n\n\n\n\n\nClick here to buy ticketsSell tickets online with Ticket Tailor
URL:https://illusionmagiclounge.com/show/magic-by-the-sea-jonathan-neal-christopher-hart-may-23
CATEGORIES:Magic Shows
ATTACH;FMTTYPE=image/png:https://illusionmagiclounge.com/wp-content/uploads/2026/04/Jonathan-Neal-Christopher-Hart-May-22-23-30-PNG.png
END:VEVENT
BEGIN:VEVENT
DTSTART;TZID=America/Los_Angeles:20260530T190000
DTEND;TZID=America/Los_Angeles:20260530T210000
DTSTAMP:20260424T173504
CREATED:20260403T204622Z
LAST-MODIFIED:20260403T204813Z
UID:10000941-1780167600-1780174800@illusionmagiclounge.com
SUMMARY:Magic by the Sea: Jonathan Neal & Christopher Hart
DESCRIPTION:BUY TICKETS!\n\n\n\n\n\n\n\n\n\n\n\n\n\n\n\n\n\n\n\n\n\n\n\n\n\n\nYour evening of magic and mystery!\n\n\n\nGet ready to unlock a full evening of magical entertainment for your enjoyment. Our unique venue provides you the opportunity to see multiple types of magic in a single evening. You’ll be dazzled by our ambient\, strolling magicians while you enjoy a refreshing beverage. Entering our 150-seat theater\, you’ll see even more magicians dazzle you with mind-bending illusions on our grand stage. And to finish out your enchanting evening\, our intimate Court Room hosts a formal close up show — a unique format rarely seen outside the Magic Castle in Hollywood. \n\n\n\nJoin us and find out why we are Santa Monica’s Most Magical Experience! \n\n\n\n\n\n\n\nUpgrade for our exclusive VIP Experience\n\n\n\nLooking to get the most out of your magical evening? We offer a limited number of VIP Experiences for each show. You’ll start off your VIP Experience with a welcome glass of bubbles (or non-alcoholic alternative) and enjoy our strolling magic with other guests. When it’s time to head into the theater\, we’ve reserved the best seats for our VIP’s Experience. Simply put\, this is the best way to experience a magical evening out in Downtown Santa Monica. \n\n\n\nNOTE: We have limited VIP availability to preserve the quality of the VIP Experience. \n\n\n\n\n\n\n\nAbout our Performers\n\n\n\nJonathan Neal\n\n\n\nJonathan Neal has been performing magic at the highest levels for decades.  A regular performer at the Magic Castle in Hollywood\, check out how this former resident magician at Wizards at Universal Citywalk brings his unique style and class to the stage. \n\n\n\nChristopher Hart\n\n\n\nLet this award-winning magician\, who played ‘Thing’ the disembodied hand in the Addams Family films\, beguile you with his incredible manual dexterity. \n\n\n\n\n\n\n\n\n\n\n\n\n\n\n\n\nClick here to buy ticketsSell tickets online with Ticket Tailor
URL:https://illusionmagiclounge.com/show/magic-by-the-sea-jonathan-neal-christopher-hart-may-30
CATEGORIES:Magic Shows
ATTACH;FMTTYPE=image/png:https://illusionmagiclounge.com/wp-content/uploads/2026/04/Jonathan-Neal-Christopher-Hart-May-22-23-30-PNG.png
END:VEVENT
END:VCALENDAR