BEGIN:VCALENDAR
VERSION:2.0
PRODID:-//Illusion Magic Lounge - ECPv6.15.20//NONSGML v1.0//EN
CALSCALE:GREGORIAN
METHOD:PUBLISH
X-ORIGINAL-URL:https://illusionmagiclounge.com
X-WR-CALDESC:Events for Illusion Magic Lounge
REFRESH-INTERVAL;VALUE=DURATION:PT1H
X-Robots-Tag:noindex
X-PUBLISHED-TTL:PT1H
BEGIN:VTIMEZONE
TZID:America/Los_Angeles
BEGIN:DAYLIGHT
TZOFFSETFROM:-0800
TZOFFSETTO:-0700
TZNAME:PDT
DTSTART:20240310T100000
END:DAYLIGHT
BEGIN:STANDARD
TZOFFSETFROM:-0700
TZOFFSETTO:-0800
TZNAME:PST
DTSTART:20241103T090000
END:STANDARD
BEGIN:DAYLIGHT
TZOFFSETFROM:-0800
TZOFFSETTO:-0700
TZNAME:PDT
DTSTART:20250309T100000
END:DAYLIGHT
BEGIN:STANDARD
TZOFFSETFROM:-0700
TZOFFSETTO:-0800
TZNAME:PST
DTSTART:20251102T090000
END:STANDARD
BEGIN:DAYLIGHT
TZOFFSETFROM:-0800
TZOFFSETTO:-0700
TZNAME:PDT
DTSTART:20260308T100000
END:DAYLIGHT
BEGIN:STANDARD
TZOFFSETFROM:-0700
TZOFFSETTO:-0800
TZNAME:PST
DTSTART:20261101T090000
END:STANDARD
END:VTIMEZONE
BEGIN:VEVENT
DTSTART;TZID=America/Los_Angeles:20251010T213000
DTEND;TZID=America/Los_Angeles:20251010T223000
DTSTAMP:20260425T063203
CREATED:20251005T020253Z
LAST-MODIFIED:20251005T020302Z
UID:10000567-1760131800-1760135400@illusionmagiclounge.com
SUMMARY:Nathaniel Segal: Gifts of Chaos
DESCRIPTION:BUY TICKETS!\n\n\n\n\n\n\n\n\n\n\n\n\nFresh off a week performing at the World Famous Magic Castle in Hollywood\, Nathaniel Segal brings to life a BRAND NEW show\, where you and a very small group will witness magic performed mere inches in front of your eyes.  Each and every participant will play a role in this show — full of original magic invented by Nathaniel Segal. Be prepared for unique surprises as the story unfolds. This is not your typical magic show!\n\n\n\nThis show was inspired by Nathaniel’s time spent in The Attic — our quirkiest and most intimate performance space at Illusion Magic Lounge. This one-of-a-kind space is only available to our house magicians — this is where we let our incredible team bring their wildest visions come to life — amazing and delighting only our most discerning clientele. \n\n\n\nThis show is STRICTLY limited to 12 people — so don’t miss your chance to be a part of this intimate late night experience. \n\n\n\n\n\n\n\n \n\n\n\nJoin us and find out why Illusion Magic Lounge is Santa Monica’s Most Magical Experience! \n\n\n\n\n\n\n\n\n\n\n\n\nClick here to buy ticketsSell tickets online with Ticket Tailor
URL:https://illusionmagiclounge.com/show/nathaniel-segal-gifts-of-chaos-oct-10-2025
LOCATION:The Attic
CATEGORIES:Gifts of Chaos,Magic Shows
ATTACH;FMTTYPE=image/png:https://illusionmagiclounge.com/wp-content/uploads/2025/08/Gifts-of-Chaos-Promo-Flyer-v2-1-e1754690713342.png
END:VEVENT
BEGIN:VEVENT
DTSTART;TZID=America/Los_Angeles:20251024T220000
DTEND;TZID=America/Los_Angeles:20251024T230000
DTSTAMP:20260425T063203
CREATED:20251005T021112Z
LAST-MODIFIED:20251005T021121Z
UID:10000568-1761343200-1761346800@illusionmagiclounge.com
SUMMARY:Nathaniel Segal: Gifts of Chaos
DESCRIPTION:BUY TICKETS!\n\n\n\n\n\n\n\n\n\n\n\n\nFresh off a week performing at the World Famous Magic Castle in Hollywood\, Nathaniel Segal brings to life a BRAND NEW show\, where you and a very small group will witness magic performed mere inches in front of your eyes.  Each and every participant will play a role in this show — full of original magic invented by Nathaniel Segal. Be prepared for unique surprises as the story unfolds. This is not your typical magic show!\n\n\n\nThis show was inspired by Nathaniel’s time spent in The Attic — our quirkiest and most intimate performance space at Illusion Magic Lounge. This one-of-a-kind space is only available to our house magicians — this is where we let our incredible team bring their wildest visions come to life — amazing and delighting only our most discerning clientele. \n\n\n\nThis show is STRICTLY limited to 12 people — so don’t miss your chance to be a part of this intimate late night experience. \n\n\n\n\n\n\n\n \n\n\n\nJoin us and find out why Illusion Magic Lounge is Santa Monica’s Most Magical Experience! \n\n\n\n\n\n\n\n\n\n\n\n\nClick here to buy ticketsSell tickets online with Ticket Tailor
URL:https://illusionmagiclounge.com/show/nathaniel-segal-gifts-of-chaos-oct-24-2025
LOCATION:The Attic
CATEGORIES:Gifts of Chaos,Magic Shows
ATTACH;FMTTYPE=image/png:https://illusionmagiclounge.com/wp-content/uploads/2025/08/Gifts-of-Chaos-Promo-Flyer-v2-1-e1754690713342.png
END:VEVENT
BEGIN:VEVENT
DTSTART;TZID=America/Los_Angeles:20251025T220000
DTEND;TZID=America/Los_Angeles:20251025T230000
DTSTAMP:20260425T063203
CREATED:20251005T021314Z
LAST-MODIFIED:20251005T021322Z
UID:10000569-1761429600-1761433200@illusionmagiclounge.com
SUMMARY:Nathaniel Segal: Gifts of Chaos
DESCRIPTION:BUY TICKETS!\n\n\n\n\n\n\n\n\n\n\n\n\nFresh off a week performing at the World Famous Magic Castle in Hollywood\, Nathaniel Segal brings to life a BRAND NEW show\, where you and a very small group will witness magic performed mere inches in front of your eyes.  Each and every participant will play a role in this show — full of original magic invented by Nathaniel Segal. Be prepared for unique surprises as the story unfolds. This is not your typical magic show!\n\n\n\nThis show was inspired by Nathaniel’s time spent in The Attic — our quirkiest and most intimate performance space at Illusion Magic Lounge. This one-of-a-kind space is only available to our house magicians — this is where we let our incredible team bring their wildest visions come to life — amazing and delighting only our most discerning clientele. \n\n\n\nThis show is STRICTLY limited to 12 people — so don’t miss your chance to be a part of this intimate late night experience. \n\n\n\n\n\n\n\n \n\n\n\nJoin us and find out why Illusion Magic Lounge is Santa Monica’s Most Magical Experience! \n\n\n\n\n\n\n\n\n\n\n\n\nClick here to buy ticketsSell tickets online with Ticket Tailor
URL:https://illusionmagiclounge.com/show/nathaniel-segal-gifts-of-chaos-oct-25-2025
LOCATION:The Attic
CATEGORIES:Gifts of Chaos,Magic Shows
ATTACH;FMTTYPE=image/png:https://illusionmagiclounge.com/wp-content/uploads/2025/08/Gifts-of-Chaos-Promo-Flyer-v2-1-e1754690713342.png
END:VEVENT
END:VCALENDAR