BEGIN:VCALENDAR
VERSION:2.0
PRODID:-//Illusion Magic Lounge - ECPv6.15.20//NONSGML v1.0//EN
CALSCALE:GREGORIAN
METHOD:PUBLISH
X-ORIGINAL-URL:https://illusionmagiclounge.com
X-WR-CALDESC:Events for Illusion Magic Lounge
REFRESH-INTERVAL;VALUE=DURATION:PT1H
X-Robots-Tag:noindex
X-PUBLISHED-TTL:PT1H
BEGIN:VTIMEZONE
TZID:America/Los_Angeles
BEGIN:DAYLIGHT
TZOFFSETFROM:-0800
TZOFFSETTO:-0700
TZNAME:PDT
DTSTART:20250309T100000
END:DAYLIGHT
BEGIN:STANDARD
TZOFFSETFROM:-0700
TZOFFSETTO:-0800
TZNAME:PST
DTSTART:20251102T090000
END:STANDARD
BEGIN:DAYLIGHT
TZOFFSETFROM:-0800
TZOFFSETTO:-0700
TZNAME:PDT
DTSTART:20260308T100000
END:DAYLIGHT
BEGIN:STANDARD
TZOFFSETFROM:-0700
TZOFFSETTO:-0800
TZNAME:PST
DTSTART:20261101T090000
END:STANDARD
BEGIN:DAYLIGHT
TZOFFSETFROM:-0800
TZOFFSETTO:-0700
TZNAME:PDT
DTSTART:20270314T100000
END:DAYLIGHT
BEGIN:STANDARD
TZOFFSETFROM:-0700
TZOFFSETTO:-0800
TZNAME:PST
DTSTART:20271107T090000
END:STANDARD
END:VTIMEZONE
BEGIN:VEVENT
DTSTART;TZID=America/Los_Angeles:20260301T130000
DTEND;TZID=America/Los_Angeles:20260301T140000
DTSTAMP:20260424T193205
CREATED:20260207T174123Z
LAST-MODIFIED:20260207T185746Z
UID:10000891-1772370000-1772373600@illusionmagiclounge.com
SUMMARY:Family Magic Matinee: Jon Armstrong
DESCRIPTION:BUY TICKETS!\n\n\n\n\n\n\n\n\n\n\nFamily Matinee Magic Show\n\n\n\nOur family-friendly magic show experience at Illusion Magic Lounge in Santa Monica!  This show is specifically designed to appeal to family members of all ages — and celebrate all of our fantastic Moms! \n\n\n\nBring the whole family to our matinee shows at Illusion Magic Lounge. This 45-minute show is held in our 150-seat theater and is crafted to entertain kids of all ages. Our rotating cast of world-class magicians has been featured on stage at The Magic Castle in Hollywood and on screen in Penn and Teller’s Fool Us\, Masters of Illusion\, and many more shows! \n\n\n\nJoin us and find out why we are Santa Monica’s Most Magical Experience! \n\n\n\n\n\n\n\nAbout our Performer\n\n\n\nJon Armstrong\n\n\n\nhttps://www.cardjon.com \n\n\n\nGrowing up in Orlando\, Florida\, Jon became fascinated by the magic he saw in the theme parks around him and dreamed of having his own show. This dream came true when Disney asked him to bring his act to Epcot and he became the resident magician at Walt Disney World. He was only 20. After spending 5 years doing his show at Disney World\, Vegas called and Jon answered\, becoming a recurring headliner at Caesar’s Magical Empire. It was between these runs in Vegas that Jon started doing tours all over the world as both a performer and lecturer\, teaching others how to add humor and entertainment to their magic.  \n\n\n\nJon has also worked on many films and television shows such as “The Mentalist” Shut Eye\, America’s Got Talent\, “Spiderman 3” and “AntMan” as a magic consultant and designer\, and is co-creator of the IDW comic series Smoke and Mirrors.   \n\n\n\nJon stars in the new Netflix documentary Magicians: Life in the Impossible\, about his life in magic \n\n\n\nJon now lives in Los Angeles and is a frequent performer at the world famous Magic Castle. His TV appearances as a talk show guest\, featured performer or actor\, include shows like NBC’s “The Today Show”\, “Tonight Show” and Little Big Shots\, “Magic Castle After Dark” on A&E\, CW’s “Penn and Teller Fool Us”\, Fox’s “Masters of Illusion” and ABC’s “Bachelorette.” He has been featured in cover stories of trade publications like Magic\, Genii and other magic journals worldwide. Articles have been done on him in The New York Times\, LA Magazine and Harpers\, just to name a few. \n\n\n\n \n\n\n\n\n\n\n\n\nClick here to buy ticketsSell tickets online with Ticket Tailor
URL:https://illusionmagiclounge.com/show/family-magic-matinee-jon-armstrong-march-1-2026
CATEGORIES:Family Magic Shows,Magic Shows
ATTACH;FMTTYPE=image/png:https://illusionmagiclounge.com/wp-content/uploads/2026/02/Jon-Armstrong-2.png
END:VEVENT
BEGIN:VEVENT
DTSTART;TZID=America/Los_Angeles:20260207T150000
DTEND;TZID=America/Los_Angeles:20260207T160000
DTSTAMP:20260424T193205
CREATED:20260207T034547Z
LAST-MODIFIED:20260207T034557Z
UID:10000889-1770476400-1770480000@illusionmagiclounge.com
SUMMARY:Family Magic Matinee: Arty Loon
DESCRIPTION:BUY TICKETS!\n\n\n\n\n\n\n\n\n\n\nFamily Matinee Magic Show\n\n\n\nBring the whole family to our matinee shows at Illusion Magic Lounge. This 45 minute show is held in our 150-seat theater and is crafted to entertain kids of all ages. Our rotating cast of world-class magicians have all been featured on stage at The Magic Castle in Hollywood and on screen in Penn and Teller’s Fool Us\, Masters of Illusion\, and many more shows! \n\n\n\nJoin us and find out why we are Santa Monica’s Most Magical Experience! \n\n\n\n\n\n\n\nAbout Arty Loon\n\n\n\nhttps://www.artyloonlive.com \n\n\n\n \n\n\n\n \n\n\n\n\n\n\n\n\nClick here to buy ticketsSell tickets online with Ticket Tailor
URL:https://illusionmagiclounge.com/show/family-magic-matinee-arty-loon-feb-7-2026
CATEGORIES:Family Magic Shows,Magic Shows
ATTACH;FMTTYPE=image/jpeg:https://illusionmagiclounge.com/wp-content/uploads/2023/08/e85e6592e3f017c9d084ead157505b1d-yaP9rO.tmp_.jpg
END:VEVENT
BEGIN:VEVENT
DTSTART;TZID=America/Los_Angeles:20260117T130000
DTEND;TZID=America/Los_Angeles:20260117T140000
DTSTAMP:20260424T193205
CREATED:20260108T090651Z
LAST-MODIFIED:20260114T225133Z
UID:10000873-1768654800-1768658400@illusionmagiclounge.com
SUMMARY:Funny Eddie - Family Magic Matinee
DESCRIPTION:BUY TICKETS!\n\n\n\n\n\n\n\n\n\n\nFamily Matinee Magic Show\n\n\n\nBring the whole family to our matinee shows at Illusion Magic Lounge. This 45 minute show is held in our 150-seat theater and is crafted to entertain kids of all ages. Our rotating cast of world-class magicians have all been featured on stage at The Magic Castle in Hollywood and on screen in Penn and Teller’s Fool Us\, Masters of Illusion\, and many more shows! \n\n\n\nJoin us and find out why we are Santa Monica’s Most Magical Experience! \n\n\n\n\n\n\n\nAbout Funny Eddie\n\n\n\nhttps://www.funnyeddie.com/ \n\n\n\nFunny Eddie is a former RIngling Brothers and Barnum and Bailey Clown\, Magician Member of the Academy of Magical Arts\, Juggler\, Magic Teacher and Award winning Ballon Artist. \n\n\n\n \n\n\n\n\n\n\n\n\nClick here to buy ticketsSell tickets online with Ticket Tailor
URL:https://illusionmagiclounge.com/show/funny-eddie-family-magic-matinee-jan-17-2026
CATEGORIES:Family Magic Shows,Magic Shows
ATTACH;FMTTYPE=image/jpeg:https://illusionmagiclounge.com/wp-content/uploads/2023/08/e85e6592e3f017c9d084ead157505b1d-yaP9rO.tmp_.jpg
END:VEVENT
END:VCALENDAR