BEGIN:VCALENDAR
VERSION:2.0
PRODID:-//Illusion Magic Lounge - ECPv6.15.20//NONSGML v1.0//EN
CALSCALE:GREGORIAN
METHOD:PUBLISH
X-ORIGINAL-URL:https://illusionmagiclounge.com
X-WR-CALDESC:Events for Illusion Magic Lounge
REFRESH-INTERVAL;VALUE=DURATION:PT1H
X-Robots-Tag:noindex
X-PUBLISHED-TTL:PT1H
BEGIN:VTIMEZONE
TZID:America/Los_Angeles
BEGIN:DAYLIGHT
TZOFFSETFROM:-0800
TZOFFSETTO:-0700
TZNAME:PDT
DTSTART:20240310T100000
END:DAYLIGHT
BEGIN:STANDARD
TZOFFSETFROM:-0700
TZOFFSETTO:-0800
TZNAME:PST
DTSTART:20241103T090000
END:STANDARD
BEGIN:DAYLIGHT
TZOFFSETFROM:-0800
TZOFFSETTO:-0700
TZNAME:PDT
DTSTART:20250309T100000
END:DAYLIGHT
BEGIN:STANDARD
TZOFFSETFROM:-0700
TZOFFSETTO:-0800
TZNAME:PST
DTSTART:20251102T090000
END:STANDARD
BEGIN:DAYLIGHT
TZOFFSETFROM:-0800
TZOFFSETTO:-0700
TZNAME:PDT
DTSTART:20260308T100000
END:DAYLIGHT
BEGIN:STANDARD
TZOFFSETFROM:-0700
TZOFFSETTO:-0800
TZNAME:PST
DTSTART:20261101T090000
END:STANDARD
END:VTIMEZONE
BEGIN:VEVENT
DTSTART;TZID=America/Los_Angeles:20250711T190000
DTEND;TZID=America/Los_Angeles:20250711T210000
DTSTAMP:20260425T040742
CREATED:20250603T064701Z
LAST-MODIFIED:20250603T064800Z
UID:10000465-1752260400-1752267600@illusionmagiclounge.com
SUMMARY:Magic by the Sea: Jimmy Rook & Jonathan Neal
DESCRIPTION:BUY TICKETS!\n\n\n\n\n\n\n\n\n\n\n\n\n\n\n\n\n\n\n\n\n\n\n\n\n\n\nYour evening of magic and mystery!\n\n\n\nGet ready to unlock a full evening of magical entertainment for your enjoyment. Our unique venue provides you the opportunity to see multiple types of magic in a single evening. You’ll be dazzled by our ambient\, strolling magicians while you enjoy a refreshing beverage. Entering our 150-seat theater\, you’ll see even more magicians dazzle you with mind-bending illusions on our grand stage. And to finish out your enchanting evening\, our intimate Court Room hosts a formal close up show — a unique format rarely seen outside the Magic Castle in Hollywood. \n\n\n\nJoin us and find out why we are Santa Monica’s Most Magical Experience! \n\n\n\nUpgrade for our exclusive VIP Experience\n\n\n\nLooking to get the most out of your magical evening? We offer a limited number of VIP Experiences for each show. You’ll start off your VIP Experience with a welcome glass of bubbles (or non-alcoholic alternative) and enjoy our strolling magic with other guests. When it’s time to head into the theater\, we’ve reserved the best seats for our VIP’s Experience. Simply put\, this is the best way to experience a magical evening out in Downtown Santa Monica. \n\n\n\nNOTE: We have limited VIP availability to preserve the quality of the VIP Experience. \n\n\n\n\n\n\n\nAbout our Performers\n\n\n\nJimmy Rook\n\n\n\nwww.jimmyrookmagic.com \n\n\n\nJimmy Rook has been captivating audiences for over 15 years with his full theater illusion magic. Rook has appeared in MAGIC Magazine\, and was on NBC’s America’s Got Talent twice. He’s also headlined the Improv Comedy Club. \n\n\n\nJonathan Neal\n\n\n\nJonathan Neal has been performing magic at the highest levels for decades. A regular performer at the Magic Castle in Hollywood\, check out how this former resident magician at Wizards at Universal Citywalk brings his unique style and class to the stage. \n\n\n\n\n\n\n\n\nMagic in the theater\n\n\n\nEnchanting Libations at our bar\n\n\n\nOur Lounge Area\n\n\n\nMagic throughout the venue\n\n\n\n\n\n\n\n\n\nClick here to buy ticketsSell tickets online with Ticket Tailor
URL:https://illusionmagiclounge.com/show/magic-by-the-sea-jimmy-rook-amp-jonathan-neal-july-11-2025
CATEGORIES:Magic Shows
ATTACH;FMTTYPE=image/jpeg:https://illusionmagiclounge.com/wp-content/uploads/2023/09/0aab8fa264d45b46103fbe5139af82cf-T8clJt.tmp_.jpg
END:VEVENT
BEGIN:VEVENT
DTSTART;TZID=America/Los_Angeles:20250712T190000
DTEND;TZID=America/Los_Angeles:20250712T210000
DTSTAMP:20260425T040742
CREATED:20250603T064922Z
LAST-MODIFIED:20250603T064930Z
UID:10000466-1752346800-1752354000@illusionmagiclounge.com
SUMMARY:Magic by the Sea: Jimmy Rook & Jonathan Neal
DESCRIPTION:BUY TICKETS!\n\n\n\n\n\n\n\n\n\n\n\n\n\n\n\n\n\n\n\n\n\n\n\n\n\n\nYour evening of magic and mystery!\n\n\n\nGet ready to unlock a full evening of magical entertainment for your enjoyment. Our unique venue provides you the opportunity to see multiple types of magic in a single evening. You’ll be dazzled by our ambient\, strolling magicians while you enjoy a refreshing beverage. Entering our 150-seat theater\, you’ll see even more magicians dazzle you with mind-bending illusions on our grand stage. And to finish out your enchanting evening\, our intimate Court Room hosts a formal close up show — a unique format rarely seen outside the Magic Castle in Hollywood. \n\n\n\nJoin us and find out why we are Santa Monica’s Most Magical Experience! \n\n\n\nUpgrade for our exclusive VIP Experience\n\n\n\nLooking to get the most out of your magical evening? We offer a limited number of VIP Experiences for each show. You’ll start off your VIP Experience with a welcome glass of bubbles (or non-alcoholic alternative) and enjoy our strolling magic with other guests. When it’s time to head into the theater\, we’ve reserved the best seats for our VIP’s Experience. Simply put\, this is the best way to experience a magical evening out in Downtown Santa Monica. \n\n\n\nNOTE: We have limited VIP availability to preserve the quality of the VIP Experience. \n\n\n\n\n\n\n\nAbout our Performers\n\n\n\nJimmy Rook\n\n\n\nwww.jimmyrookmagic.com \n\n\n\nJimmy Rook has been captivating audiences for over 15 years with his full theater illusion magic. Rook has appeared in MAGIC Magazine\, and was on NBC’s America’s Got Talent twice. He’s also headlined the Improv Comedy Club. \n\n\n\nJonathan Neal\n\n\n\nJonathan Neal has been performing magic at the highest levels for decades. A regular performer at the Magic Castle in Hollywood\, check out how this former resident magician at Wizards at Universal Citywalk brings his unique style and class to the stage. \n\n\n\n\n\n\n\n\nMagic in the theater\n\n\n\nEnchanting Libations at our bar\n\n\n\nOur Lounge Area\n\n\n\nMagic throughout the venue\n\n\n\n\n\n\n\n\n\nClick here to buy ticketsSell tickets online with Ticket Tailor
URL:https://illusionmagiclounge.com/show/magic-by-the-sea-jimmy-rook-amp-jonathan-neal-july-12-2025
CATEGORIES:Magic Shows
ATTACH;FMTTYPE=image/jpeg:https://illusionmagiclounge.com/wp-content/uploads/2023/09/0aab8fa264d45b46103fbe5139af82cf-T8clJt.tmp_.jpg
END:VEVENT
BEGIN:VEVENT
DTSTART;TZID=America/Los_Angeles:20250718T190000
DTEND;TZID=America/Los_Angeles:20250718T210000
DTSTAMP:20260425T040742
CREATED:20250603T065342Z
LAST-MODIFIED:20250603T065558Z
UID:10000467-1752865200-1752872400@illusionmagiclounge.com
SUMMARY:Magic by the Sea: Jonathan Neal & Christopher Hart
DESCRIPTION:BUY TICKETS!\n\n\n\n\n\n\n\n\n\n\n\n\n\n\n\n\n\n\n\n\n\n\n\n\n\n\nYour evening of magic and mystery!\n\n\n\nGet ready to unlock a full evening of magical entertainment for your enjoyment. Our unique venue provides you the opportunity to see multiple types of magic in a single evening. You’ll be dazzled by our ambient\, strolling magicians while you enjoy a refreshing beverage. Entering our 150-seat theater\, you’ll see even more magicians dazzle you with mind-bending illusions on our grand stage. And to finish out your enchanting evening\, our intimate Court Room hosts a formal close up show — a unique format rarely seen outside the Magic Castle in Hollywood. \n\n\n\nJoin us and find out why we are Santa Monica’s Most Magical Experience! \n\n\n\nUpgrade for our exclusive VIP Experience\n\n\n\nLooking to get the most out of your magical evening? We offer a limited number of VIP Experiences for each show. You’ll start off your VIP Experience with a welcome glass of bubbles (or non-alcoholic alternative) and enjoy our strolling magic with other guests. When it’s time to head into the theater\, we’ve reserved the best seats for our VIP’s Experience. Simply put\, this is the best way to experience a magical evening out in Downtown Santa Monica. \n\n\n\nNOTE: We have limited VIP availability to preserve the quality of the VIP Experience. \n\n\n\n\n\n\n\nAbout our Performers\n\n\n\nJonathan Neal\n\n\n\nJonathan Neal has been performing magic at the highest levels for decades.  A regular performer at the Magic Castle in Hollywood\, check out how this former resident magician at Wizards at Universal Citywalk brings his unique style and class to the stage. \n\n\n\nChristopher Hart\n\n\n\nLet this Award winning Magician who played ‘Thing’ the disembodied hand in the Addams Family films beguile you with his incredible manual dexterity. \n\n\n\n\n\n\n\n\n\n\n\n\n\n\n\n\nClick here to buy ticketsSell tickets online with Ticket Tailor
URL:https://illusionmagiclounge.com/show/magic-by-the-sea-jonathan-neal-amp-christopher-hart-july-18-2025
CATEGORIES:Magic Shows
ATTACH;FMTTYPE=image/png:https://illusionmagiclounge.com/wp-content/uploads/2025/06/illusionmagiclounge-8.png
END:VEVENT
BEGIN:VEVENT
DTSTART;TZID=America/Los_Angeles:20250719T190000
DTEND;TZID=America/Los_Angeles:20250719T210000
DTSTAMP:20260425T040742
CREATED:20250603T065537Z
LAST-MODIFIED:20250603T065549Z
UID:10000468-1752951600-1752958800@illusionmagiclounge.com
SUMMARY:Magic by the Sea: Jonathan Neal & Christopher Hart
DESCRIPTION:BUY TICKETS!\n\n\n\n\n\n\n\n\n\n\n\n\n\n\n\n\n\n\n\n\n\n\n\n\n\n\nYour evening of magic and mystery!\n\n\n\nGet ready to unlock a full evening of magical entertainment for your enjoyment. Our unique venue provides you the opportunity to see multiple types of magic in a single evening. You’ll be dazzled by our ambient\, strolling magicians while you enjoy a refreshing beverage. Entering our 150-seat theater\, you’ll see even more magicians dazzle you with mind-bending illusions on our grand stage. And to finish out your enchanting evening\, our intimate Court Room hosts a formal close up show — a unique format rarely seen outside the Magic Castle in Hollywood. \n\n\n\nJoin us and find out why we are Santa Monica’s Most Magical Experience! \n\n\n\n\n\n\n\nUpgrade for our exclusive VIP Experience\n\n\n\nLooking to get the most out of your magical evening? We offer a limited number of VIP Experiences for each show. You’ll start off your VIP Experience with a welcome glass of bubbles (or non-alcoholic alternative) and enjoy our strolling magic with other guests. When it’s time to head into the theater\, we’ve reserved the best seats for our VIP’s Experience. Simply put\, this is the best way to experience a magical evening out in Downtown Santa Monica. \n\n\n\nNOTE: We have limited VIP availability to preserve the quality of the VIP Experience. \n\n\n\n\n\n\n\nAbout our Performers\n\n\n\nJonathan Neal\n\n\n\nJonathan Neal has been performing magic at the highest levels for decades.  A regular performer at the Magic Castle in Hollywood\, check out how this former resident magician at Wizards at Universal Citywalk brings his unique style and class to the stage. \n\n\n\nChristopher Hart\n\n\n\nLet this Award winning Magician who played ‘Thing’ the disembodied hand in the Addams Family films beguile you with his incredible manual dexterity. \n\n\n\n\n\n\n\n\n\n\n\n\n\n\n\n\nClick here to buy ticketsSell tickets online with Ticket Tailor
URL:https://illusionmagiclounge.com/show/magic-by-the-sea-jonathan-neal-amp-christopher-hart-july-19-2025
CATEGORIES:Magic Shows
ATTACH;FMTTYPE=image/png:https://illusionmagiclounge.com/wp-content/uploads/2025/06/illusionmagiclounge-8.png
END:VEVENT
BEGIN:VEVENT
DTSTART;TZID=America/Los_Angeles:20250725T190000
DTEND;TZID=America/Los_Angeles:20250725T210000
DTSTAMP:20260425T040742
CREATED:20250603T070015Z
LAST-MODIFIED:20250603T070022Z
UID:10000469-1753470000-1753477200@illusionmagiclounge.com
SUMMARY:Magic by the Sea: Jon Armstrong & Nathan Coe Marsh
DESCRIPTION:BUY TICKETS!\n\n\n\n\n\n\n\n\n\n\n\n\n\n\n\n\n\n\n\n\n\n\n\n\n\n\nYour evening of magic and mystery!\n\n\n\nGet ready to unlock a full evening of magical entertainment for your enjoyment. Our unique venue provides you the opportunity to see multiple types of magic in a single evening. You’ll be dazzled by our ambient\, strolling magicians while you enjoy a refreshing beverage. Entering our 150-seat theater\, you’ll see even more magicians dazzle you with mind-bending illusions on our grand stage. And to finish out your enchanting evening\, our intimate Court Room hosts a formal close up show — a unique format rarely seen outside the Magic Castle in Hollywood. \n\n\n\nJoin us and find out why we are Santa Monica’s Most Magical Experience! \n\n\n\nUpgrade for our exclusive VIP Experience\n\n\n\nLooking to get the most out of your magical evening? We offer a limited number of VIP Experiences for each show. You’ll start off your VIP Experience with a welcome glass of bubbles (or non-alcoholic alternative) and enjoy our strolling magic with other guests. When it’s time to head into the theater\, we’ve reserved the best seats for our VIP’s Experience. Simply put\, this is the best way to experience a magical evening out in Downtown Santa Monica. \n\n\n\nNOTE: We have limited VIP availability to preserve the quality of the VIP Experience. \n\n\n\n\n\n\n\nAbout our Performers\n\n\n\nJon Armstrong\n\n\n\nhttps://www.cardjon.com \n\n\n\nGrowing up in Orlando\, Florida\, Jon became fascinated by the magic he saw in the theme parks around him and dreamed of having his own show. This dream came true when Disney asked him to bring his act to Epcot and he became the resident magician at Walt Disney World. He was only 20. After spending 5 years doing his show at Disney World\, Vegas called and Jon answered\, becoming a recurring headliner at Caesar’s Magical Empire. It was between these runs in Vegas that Jon started doing tours all over the world as both a performer and lecturer\, teaching others how to add humor and entertainment to their magic.  \n\n\n\nJon has also worked on many films and television shows such as “The Mentalist” Shut Eye\, America’s Got Talent\, “Spiderman 3” and “AntMan” as a magic consultant and designer\, and is co-creator of the IDW comic series Smoke and Mirrors.   \n\n\n\nJon stars in the new Netflix documentary Magicians: Life in the Impossible\, about his life in magic \n\n\n\nJon now lives in Los Angeles and is a frequent performer at the world famous Magic Castle. His TV appearances as a talk show guest\, featured performer or actor\, include shows like NBC’s “The Today Show”\, “Tonight Show” and Little Big Shots\, “Magic Castle After Dark” on A&E\, CW’s “Penn and Teller Fool Us”\, Fox’s “Masters of Illusion” and ABC’s “Bachelorette.” He has been featured in cover stories of trade publications like Magic\, Genii and other magic journals worldwide. Articles have been done on him in The New York Times\, LA Magazine and Harpers\, just to name a few. \n\n\n\nNathan Coe Marsh\n\n\n\nhttps://nathancoemarsh.com/ \n\n\n\nNathan Coe Marsh’s blend of personality-driven magic and dry wit has taken him to 30+ countries across six continents\, been featured on screen on NBC\, CBS\, FOX\, and Penn & Teller: Fool Us\, and captivated audiences at corporate events for Microsoft\, Lockheed Martin\, GE\, Jockey\, and many others. \n\n\n\nMAGIC Magazine described his work as “a breath of fresh air\,” VANISH International Magic Magazine featured him on its cover and named him “one of the top comedy magicians in the magic world\,” and Event Solutions magazine chose him as a finalist for “Entertainer of The Year.”Booking Inquiry \n\n\n\n\n\n\n\n\nMagic in the theater\n\n\n\nEnchanting Libations at our bar\n\n\n\nOur Lounge Area\n\n\n\nMagic throughout the venue\n\n\n\n\n\n\n\n\n\nClick here to buy ticketsSell tickets online with Ticket Tailor
URL:https://illusionmagiclounge.com/show/magic-by-the-sea-jon-armstrong-amp-nathan-coe-marsh-july-25-2025
CATEGORIES:Magic Shows
ATTACH;FMTTYPE=image/jpeg:https://illusionmagiclounge.com/wp-content/uploads/2023/09/0aab8fa264d45b46103fbe5139af82cf-T8clJt.tmp_.jpg
END:VEVENT
BEGIN:VEVENT
DTSTART;TZID=America/Los_Angeles:20250726T190000
DTEND;TZID=America/Los_Angeles:20250726T210000
DTSTAMP:20260425T040742
CREATED:20250603T070114Z
LAST-MODIFIED:20250603T070117Z
UID:10000470-1753556400-1753563600@illusionmagiclounge.com
SUMMARY:Magic by the Sea: Jon Armstrong & Nathan Coe Marsh
DESCRIPTION:BUY TICKETS!\n\n\n\n\n\n\n\n\n\n\n\n\n\n\n\n\n\n\n\n\n\n\n\n\n\n\nYour evening of magic and mystery!\n\n\n\nGet ready to unlock a full evening of magical entertainment for your enjoyment. Our unique venue provides you the opportunity to see multiple types of magic in a single evening. You’ll be dazzled by our ambient\, strolling magicians while you enjoy a refreshing beverage. Entering our 150-seat theater\, you’ll see even more magicians dazzle you with mind-bending illusions on our grand stage. And to finish out your enchanting evening\, our intimate Court Room hosts a formal close up show — a unique format rarely seen outside the Magic Castle in Hollywood. \n\n\n\nJoin us and find out why we are Santa Monica’s Most Magical Experience! \n\n\n\nUpgrade for our exclusive VIP Experience\n\n\n\nLooking to get the most out of your magical evening? We offer a limited number of VIP Experiences for each show. You’ll start off your VIP Experience with a welcome glass of bubbles (or non-alcoholic alternative) and enjoy our strolling magic with other guests. When it’s time to head into the theater\, we’ve reserved the best seats for our VIP’s Experience. Simply put\, this is the best way to experience a magical evening out in Downtown Santa Monica. \n\n\n\nNOTE: We have limited VIP availability to preserve the quality of the VIP Experience. \n\n\n\n\n\n\n\nAbout our Performers\n\n\n\nJon Armstrong\n\n\n\nhttps://www.cardjon.com \n\n\n\nGrowing up in Orlando\, Florida\, Jon became fascinated by the magic he saw in the theme parks around him and dreamed of having his own show. This dream came true when Disney asked him to bring his act to Epcot and he became the resident magician at Walt Disney World. He was only 20. After spending 5 years doing his show at Disney World\, Vegas called and Jon answered\, becoming a recurring headliner at Caesar’s Magical Empire. It was between these runs in Vegas that Jon started doing tours all over the world as both a performer and lecturer\, teaching others how to add humor and entertainment to their magic.  \n\n\n\nJon has also worked on many films and television shows such as “The Mentalist” Shut Eye\, America’s Got Talent\, “Spiderman 3” and “AntMan” as a magic consultant and designer\, and is co-creator of the IDW comic series Smoke and Mirrors.   \n\n\n\nJon stars in the new Netflix documentary Magicians: Life in the Impossible\, about his life in magic \n\n\n\nJon now lives in Los Angeles and is a frequent performer at the world famous Magic Castle. His TV appearances as a talk show guest\, featured performer or actor\, include shows like NBC’s “The Today Show”\, “Tonight Show” and Little Big Shots\, “Magic Castle After Dark” on A&E\, CW’s “Penn and Teller Fool Us”\, Fox’s “Masters of Illusion” and ABC’s “Bachelorette.” He has been featured in cover stories of trade publications like Magic\, Genii and other magic journals worldwide. Articles have been done on him in The New York Times\, LA Magazine and Harpers\, just to name a few. \n\n\n\nNathan Coe Marsh\n\n\n\nhttps://nathancoemarsh.com/ \n\n\n\nNathan Coe Marsh’s blend of personality-driven magic and dry wit has taken him to 30+ countries across six continents\, been featured on screen on NBC\, CBS\, FOX\, and Penn & Teller: Fool Us\, and captivated audiences at corporate events for Microsoft\, Lockheed Martin\, GE\, Jockey\, and many others. \n\n\n\nMAGIC Magazine described his work as “a breath of fresh air\,” VANISH International Magic Magazine featured him on its cover and named him “one of the top comedy magicians in the magic world\,” and Event Solutions magazine chose him as a finalist for “Entertainer of The Year.”Booking Inquiry \n\n\n\n\n\n\n\n\nMagic in the theater\n\n\n\nEnchanting Libations at our bar\n\n\n\nOur Lounge Area\n\n\n\nMagic throughout the venue\n\n\n\n\n\n\n\n\n\nClick here to buy ticketsSell tickets online with Ticket Tailor
URL:https://illusionmagiclounge.com/show/magic-by-the-sea-jon-armstrong-amp-nathan-coe-marsh-july-26-2025
CATEGORIES:Magic Shows
ATTACH;FMTTYPE=image/jpeg:https://illusionmagiclounge.com/wp-content/uploads/2023/09/0aab8fa264d45b46103fbe5139af82cf-T8clJt.tmp_.jpg
END:VEVENT
END:VCALENDAR