BEGIN:VCALENDAR
VERSION:2.0
PRODID:-//Illusion Magic Lounge - ECPv6.15.20//NONSGML v1.0//EN
CALSCALE:GREGORIAN
METHOD:PUBLISH
X-ORIGINAL-URL:https://illusionmagiclounge.com
X-WR-CALDESC:Events for Illusion Magic Lounge
REFRESH-INTERVAL;VALUE=DURATION:PT1H
X-Robots-Tag:noindex
X-PUBLISHED-TTL:PT1H
BEGIN:VTIMEZONE
TZID:America/Los_Angeles
BEGIN:DAYLIGHT
TZOFFSETFROM:-0800
TZOFFSETTO:-0700
TZNAME:PDT
DTSTART:20240310T100000
END:DAYLIGHT
BEGIN:STANDARD
TZOFFSETFROM:-0700
TZOFFSETTO:-0800
TZNAME:PST
DTSTART:20241103T090000
END:STANDARD
BEGIN:DAYLIGHT
TZOFFSETFROM:-0800
TZOFFSETTO:-0700
TZNAME:PDT
DTSTART:20250309T100000
END:DAYLIGHT
BEGIN:STANDARD
TZOFFSETFROM:-0700
TZOFFSETTO:-0800
TZNAME:PST
DTSTART:20251102T090000
END:STANDARD
BEGIN:DAYLIGHT
TZOFFSETFROM:-0800
TZOFFSETTO:-0700
TZNAME:PDT
DTSTART:20260308T100000
END:DAYLIGHT
BEGIN:STANDARD
TZOFFSETFROM:-0700
TZOFFSETTO:-0800
TZNAME:PST
DTSTART:20261101T090000
END:STANDARD
END:VTIMEZONE
BEGIN:VEVENT
DTSTART;TZID=America/Los_Angeles:20250301T190000
DTEND;TZID=America/Los_Angeles:20250301T210000
DTSTAMP:20260425T101346
CREATED:20250126T235824Z
LAST-MODIFIED:20250207T050300Z
UID:10000380-1740855600-1740862800@illusionmagiclounge.com
SUMMARY:Alyx Hilshey & Joan Dukore - Magic by the Sea
DESCRIPTION:BUY TICKETS!\n\n\n\n\n\n\n\n\n\n\nYour evening of magic and mystery!\n\n\n\nGet ready to unlock a full evening of magical entertainment for your enjoyment. Our unique venue provides you the opportunity to see multiple types of magic in a single evening. You’ll be dazzled by our ambient\, strolling magicians while you enjoy a refreshing beverage. Entering our 150-seat theater\, you’ll see even more magicians dazzle you with mind-bending illusions on our grand 54-foot stage. And to finish out your enchanting evening\, our intimate Court Room space hosts a formal close up show — a unique format rarely seen outside the Magic Castle in Hollywood. \n\n\n\nJoin us and find out why we are Santa Monica’s Most Magical Experience! \n\n\n\n\n\n\n\nUpgrade for our exclusive VIP Experience\n\n\n\nLooking to get the most out of your magical evening? We offer a limited number of VIP Experiences for each show. You’ll start off your VIP Experience with a welcome glass of champagne (or non-alcoholic alternative) and enjoy our strolling magic with other guests. When it’s time to head into the theater\, we’ve reserved the best seats for our VIP’s Experience. Simply put\, this is the best way to experience a magical evening out in Downtown Santa Monica. \n\n\n\nNOTE: We have limited VIP availability to preserve the quality of the VIP Experience. \n\n\n\n\n\n\n\nAbout our Performers\n\n\n\nAlyx Hilshey\n\n\n\nhttps://www.alyxmagic.com \n\n\n\nVermont Magician Alyx Hilshey is a nationally touring comedy magician and was a 2024 feature magician on the CW Network’s most watched and highest rated entertainment program\, Penn & Teller: Fool Us. \n\n\n\nIn addition to being lauded by top professional magicians for her fresh comedic delivery\, charm\, and technical expertise\, she also has insights into corporate landscapes due to her unique background — she’s a pro magician with a Master’s in Electrical Engineering. \n\n\n\nWhen she is not helping Vermont businesses to connect with their people or performing magic across the country\, she lives in the Adirondacks with her family\, including her three awesome children. She loves taking them skiing\, backpacking\, and climbing. \n\n\n\n​ \n\n\n\nJoan Dukore\n\n\n\nhttps://www.joandukore.com \n\n\n\nJoan Dukore was born and raised in Honolulu\, Hawaii where she began her performing career as a ballet dancer. Loving playing cards first got her started in her world of magic. Upon moving to Las Vegas\, Nevada\, she got a job at Caesar’s Magical Empire\, the premier venue for magic in Las Vegas at the time. During this time she not only made appearances at various corporate events\, but also performed for Celine Dion’s vow renewal reception. Joan has not just performed on the stage\, she has been seen on TLC performing magic for their Urban Legend show and on HGTV doing the intro and outros for House Hunters Las Vegas Week. She currently can be seen at the Venetian Hotel and Casino and performs periodically at the Magic Castle in Hollywood. \n\n\n\n\n\n\n\n\n\n\n\n\n\n\n\n\nClick here to buy ticketsSell tickets online with Ticket Tailor
URL:https://illusionmagiclounge.com/show/alyx-hilshey-amp-joan-dukore-magic-by-the-sea-march-1-2025
CATEGORIES:Magic Shows
ATTACH;FMTTYPE=image/png:https://illusionmagiclounge.com/wp-content/uploads/2025/01/35.png
END:VEVENT
END:VCALENDAR