BEGIN:VCALENDAR
VERSION:2.0
PRODID:-//Illusion Magic Lounge - ECPv6.15.20//NONSGML v1.0//EN
CALSCALE:GREGORIAN
METHOD:PUBLISH
X-ORIGINAL-URL:https://illusionmagiclounge.com
X-WR-CALDESC:Events for Illusion Magic Lounge
REFRESH-INTERVAL;VALUE=DURATION:PT1H
X-Robots-Tag:noindex
X-PUBLISHED-TTL:PT1H
BEGIN:VTIMEZONE
TZID:America/Los_Angeles
BEGIN:DAYLIGHT
TZOFFSETFROM:-0800
TZOFFSETTO:-0700
TZNAME:PDT
DTSTART:20220313T100000
END:DAYLIGHT
BEGIN:STANDARD
TZOFFSETFROM:-0700
TZOFFSETTO:-0800
TZNAME:PST
DTSTART:20221106T090000
END:STANDARD
BEGIN:DAYLIGHT
TZOFFSETFROM:-0800
TZOFFSETTO:-0700
TZNAME:PDT
DTSTART:20230312T100000
END:DAYLIGHT
BEGIN:STANDARD
TZOFFSETFROM:-0700
TZOFFSETTO:-0800
TZNAME:PST
DTSTART:20231105T090000
END:STANDARD
BEGIN:DAYLIGHT
TZOFFSETFROM:-0800
TZOFFSETTO:-0700
TZNAME:PDT
DTSTART:20240310T100000
END:DAYLIGHT
BEGIN:STANDARD
TZOFFSETFROM:-0700
TZOFFSETTO:-0800
TZNAME:PST
DTSTART:20241103T090000
END:STANDARD
END:VTIMEZONE
BEGIN:VEVENT
DTSTART;TZID=America/Los_Angeles:20231014T210000
DTEND;TZID=America/Los_Angeles:20231014T230000
DTSTAMP:20260425T140904
CREATED:20230708T230642Z
LAST-MODIFIED:20230708T230642Z
UID:10000064-1697317200-1697324400@illusionmagiclounge.com
SUMMARY:The Dollface Dames Main Stage Santa Monica
DESCRIPTION:The Dollface Dames main stage spectacular! Catch us at the Illusion Magic Lounge theatre in downtown Santa Monica! Burlesque\, Aerial\, & more\n\n\nOur amazing 150 seat stadium theater has reopened and The Dollface Dames are back on the main stage for an unforgettable night of burlesque\, group acts\, & variety! \nArrive early to sip tasty beverages and appetizers at the newly remodeled magical lobby bar! \n \nU﻿pcoming Dates: \nS﻿aturday\, July 8th Burlesque & Circus Spectacular featuring aerial\, pointe ballet\, bellydance\, acrobatics\, group acts\, & more with special guests from England\, France\, & Turkey ONE NIGHT ONLY!!! \nS﻿aturday\, Aug 12th SoCal Burlesque Showcase bringing the best in SoCal burlesque on to one stage! \n \n@﻿Illusion Magic Lounge  \n1418 4th St\, Santa Monica\, CA 90401 \nImmersive yourself in our burlesque wonderland as the lights dim and fantasies take hold! \n \nS﻿uggested age: 18&over \nGO VIP-Enjoy the best seats in the house & get a photo with the cast! \n \n*Tipping is encouraged.  T﻿ickets are non-refundable. Thank you for supporting the arts! \nA﻿dditional info/parties/special  requests: thedollfacedames@gmail.com
URL:https://illusionmagiclounge.com/show/the-dollface-dames-main-stage-santa-monica-4
LOCATION:Illusion Magic Lounge\, 1418 4th Street\, Santa Monica\, CA\, 90401\, United States
ATTACH;FMTTYPE=image/jpeg:https://illusionmagiclounge.com/wp-content/uploads/2023/07/1336_image.jpg
END:VEVENT
BEGIN:VEVENT
DTSTART;TZID=America/Los_Angeles:20230812T211500
DTEND;TZID=America/Los_Angeles:20230812T230000
DTSTAMP:20260425T140904
CREATED:20230721T004318Z
LAST-MODIFIED:20230721T010730Z
UID:10000065-1691874900-1691881200@illusionmagiclounge.com
SUMMARY:Lola's Invitational Showcase at Illusion Magic Lounge Santa Monica
DESCRIPTION:Best of Los Angeles burlesque on one stage as we showcase three different companies in the first ever invitational main stage spectacular!\n\n\nLet the lights dim and grab your seats at this historic Santa Monica stadium seating theater as some of LA’s best burlesque & cabaret companies join forces to bring you the hottest showcase in town! \nArrive early to sip tasty beverages and appetizers at the newly remodeled magical lobby bar! \n \nJoin us for the 1st ever Lola’s Los Angeles Burlesque Invitational Showcase  \nE﻿njoy THREE different troupes all on one main stage! \nStarring: \nBabylon Cabaret with Miss Spent Youth \nThe House of Knyle with Egypt Blaque Knyle \nThe Dollface Dames with Lola Boutée \nWith Variety Host Vixen DeVille & Special Guests! \n \n@﻿Illusion Magic Lounge  \n1418 4th St\, Santa Monica\, CA 90401 \nImmersive yourself in our wonderland as the lights dim and fantasies take hold! \n \nS﻿uggested age: 18 & over \nGO VIP-Enjoy the best seats in the house & get a photo with the cast! \n \n*Tipping is encouraged.  Tickets are non-refundable. Thank you for supporting the arts! \nAdditional info/parties/special  requests: thedollfacedames@gmail.com
URL:https://illusionmagiclounge.com/show/lolas-invitational-showcase-at-illusion-magic-lounge-santa-monica
LOCATION:Illusion Magic Lounge\, 1418 4th Street\, Santa Monica\, CA\, 90401\, United States
ATTACH;FMTTYPE=image/jpeg:https://illusionmagiclounge.com/wp-content/uploads/2023/07/https___cdn.evbuc_.com_images_544086309_11835622443_1_original.jpeg
END:VEVENT
BEGIN:VEVENT
DTSTART;TZID=America/Los_Angeles:20230708T210000
DTEND;TZID=America/Los_Angeles:20230708T230000
DTSTAMP:20260425T140904
CREATED:20230708T230601Z
LAST-MODIFIED:20230708T230601Z
UID:10000062-1688850000-1688857200@illusionmagiclounge.com
SUMMARY:The Dollface Dames Main Stage Santa Monica
DESCRIPTION:The Dollface Dames main stage spectacular! Catch us at the Illusion Magic Lounge theatre in downtown Santa Monica! Burlesque\, Aerial\, & more\n\n\nOur amazing 150 seat stadium theater has reopened and The Dollface Dames are back on the main stage for an unforgettable night of burlesque\, group acts\, & variety! \nArrive early to sip tasty beverages and appetizers at the newly remodeled magical lobby bar! \n  \nUpcoming Dates: \nSaturday\, July 8th Burlesque & Circus Spectacular featuring aerial\, pointe ballet\, bellydance\, acrobatics\, group acts\, & more with special guests from England\, France\, & Turkey ONE NIGHT ONLY!!! \nSaturday\, Aug 12th SoCal Burlesque Showcase bringing the best in SoCal burlesque on to one stage! \n  \n@Illusion Magic Lounge  \n1418 4th St\, Santa Monica\, CA 90401 \nImmersive yourself in our burlesque wonderland as the lights dim and fantasies take hold! \n  \nSuggested age: 18&over \nGO VIP-Enjoy the best seats in the house & get a photo with the cast! \n  \n*Tipping is encouraged. Tickets are non-refundable. Thank you for supporting the arts! \nAdditional info/parties/special requests: thedollfacedames@gmail.com
URL:https://illusionmagiclounge.com/show/the-dollface-dames-main-stage-santa-monica-2
LOCATION:Illusion Magic Lounge\, 1418 4th Street\, Santa Monica\, CA\, 90401\, United States
ATTACH;FMTTYPE=image/jpeg:https://illusionmagiclounge.com/wp-content/uploads/2023/07/1336_image.jpg
END:VEVENT
END:VCALENDAR